Workbook

Sheet Electricidad
A7: Codi | B7: CUPS | C7: Sucursal | D7: Dirección del suministro | E7: Tarifa de acceso | F7: Pot. Contractada P1 | G7: Pot. Contractada P2 | H7: Pot. Contractada P3 | I7: Pot. Contractada P4 | J7: Pot. Contractada P5 | K7: Pot. Contractada P6 | L7: Consumo anual P1 + P4 | M7: Consumo anual P2 + P5 | N7: Consumo anual P3 + P6 | O7: Consumo anual P1 | P7: Consumo anual P2 | Q7: Consumo anual P3 | R7: Consumo anual P4 | S7: Consumo anual P5 | T7: Consumo anual P6 | U7: Total anual
A8: 1701 | B8: ES0031446383676001EZ0F | C8: FIGUERES | D8: TRAMUNTANA 4, EDIFICIO TRAMONTANA, LOC 17600 FIGUERES | E8: 3.0 TD | F8: 31.5 | G8: 31.5 | H8: 31.5 | I8: 31.5 | J8: 31.5 | K8: 31.5 | L8: =SUM('6001EZ'!E27:E37)+'6001EZ'!E38/'6001EZ'!$C$38*31 -> 8329.6585 | M8: =SUM('6001EZ'!F27:F37)+'6001EZ'!F38/'6001EZ'!$C$38*31 -> 6485.5122 | N8: =SUM('6001EZ'!G27:G37)+'6001EZ'!G38/'6001EZ'!$C$38*31 -> 8401.3902 | O8: =SUM('6001EZ'!H27:H37)+'6001EZ'!H38/'6001EZ'!$C$38*31 -> 4934.6585 | P8: =SUM('6001EZ'!I27:I37)+'6001EZ'!I38/'6001EZ'!$C$38*31 -> 5335.5122 | Q8: =SUM('6001EZ'!J27:J37)+'6001EZ'!J38/'6001EZ'!$C$38*31 -> 1759.1298 | R8: =SUM('6001EZ'!K27:K37)+'6001EZ'!K38/'6001EZ'!$C$38*31 -> 3395 | S8: =SUM('6001EZ'!L27:L37)+'6001EZ'!L38/'6001EZ'!$C$38*31 -> 1150 | T8: =SUM('6001EZ'!M27:M37)+'6001EZ'!M38/'6001EZ'!$C$38*31 -> 6642.2604 | U8: =SUM(Tabla1[[#This Row],[Consumo anual P1]:[Consumo anual P6]]) -> 23216.561
A9: 1700 | B9: ES0031406114262002TQ0F | C9: GIRONA | D9: SANTA EUGENIA 94, LOC 17005 GIRONA | E9: 2.0 TD | F9: 8.8 | G9: 8.8 | H9: NA | I9: NA | J9: NA | K9: NA | L9: =SUM('2002TQ'!E26:E37)+'2002TQ'!E25/30*1+'2002TQ'!E38/34*19 -> 2782.1137 | M9: =SUM('2002TQ'!F26:F37)+'2002TQ'!F25/30*1+'2002TQ'!F38/34*19 -> 2521.5667 | N9: =SUM('2002TQ'!G26:G37)+'2002TQ'!G25/30*1+'2002TQ'!G38/34*19 -> 1098.2549 | O9: =SUM(Tabla1[[#This Row],[Consumo anual P1 + P4]:[Consumo anual P2 + P5]]) -> 5303.6804 | P9: =Tabla1[[#This Row],[Consumo anual P3 + P6]] -> 1098.2549 | Q9: NA | R9: NA | S9: NA | T9: NA | U9: =SUM(Tabla1[[#This Row],[Consumo anual P1]:[Consumo anual P6]]) -> 6401.9353
A10: 1700 | B10: ES0031406157485002TJ0F | C10: GIRONA | D10: SANTA EUGENIA 96, LOC2 17005 GIRONA | E10: 3.0 TD | F10: 31.5 | G10: 31.5 | H10: 31.5 | I10: 31.5 | J10: 31.5 | K10: 31.5 | L10: =SUM('5002TJ'!E27:E38) -> 12788 | M10: =SUM('5002TJ'!F27:F38) -> 9572 | N10: =SUM('5002TJ'!G27:G38) -> 12374 | O10: =SUM('5002TJ'!H27:H38) -> 6741 | P10: =SUM('5002TJ'!I27:I38) -> 7309 | Q10: =SUM('5002TJ'!J27:J38) -> 2860.5174 | R10: =SUM('5002TJ'!K27:K38) -> 6047 | S10: =SUM('5002TJ'!L27:L38) -> 2263 | T10: =SUM('5002TJ'!M27:M38) -> 9513.4826 | U10: =SUM(Tabla1[[#This Row],[Consumo anual P1]:[Consumo anual P6]]) -> 34734
A11: 1702 | B11: ES0122010000002371SV0F | C11: BANYOLES | D11: LLIBERTAT,196-198 BAJOS | E11: 2.0TD | F11: 14.49 | G11: 14.49 | H11: 14.49 | I11: 14.49 | J11: 14.49 | K11: 14.49 | O11: 4363 | P11: 3471 | Q11: 1682 | R11: =SUM(Tabla1[[#This Row],[Consumo anual P1 + P4]:[Consumo anual P3 + P6]]) -> 0 | U11: =SUM(Tabla1[[#This Row],[Consumo anual P1]:[Consumo anual P6]]) -> 9516
A12: 806 | B12: ES0031405489736001JF0F | C12: HOSPITALET DE LLOBREGAT | D12: BARCELONA 92, BJO 08901 HOSPITALET DE LLOBREGAT | E12: 3.0 TD | F12: 31.5 | G12: 31.5 | H12: 31.5 | I12: 31.5 | J12: 31.5 | K12: 31.5 | L12: =SUM('6001JF'!E27:E38) -> 11990 | M12: =SUM('6001JF'!F27:F38) -> 9666 | N12: =SUM('6001JF'!G27:G38) -> 9414 | O12: =SUM('6001JF'!H27:H38) -> 6290 | P12: =SUM('6001JF'!I27:I38) -> 7513 | Q12: =SUM('6001JF'!J27:J38) -> 2453.6666 | R12: =SUM('6001JF'!K27:K38) -> 5700 | S12: =SUM('6001JF'!L27:L38) -> 2153 | T12: =SUM('6001JF'!M27:M38) -> 6960.3334 | U12: =SUM(Tabla1[[#This Row],[Consumo anual P1]:[Consumo anual P6]]) -> 31070
A13: 806 | B13: ES0031406169188001CZ0F | C13: HOSPITALET DE LLOBREGAT | D13: CALLE TECLA SALA, 9 08901 HOSPITALET DE LLOBREGAT | E13: 3.0 TD | F13: 31 | G13: 31 | H13: 31 | I13: 31 | J13: 31 | K13: 31 | L13: =SUM('8001CZ'!E27:E38) -> 0 | M13: =SUM('8001CZ'!F27:F38) -> 0 | N13: =SUM('8001CZ'!G27:G38) -> 0 | O13: =SUM('8001CZ'!H27:H38) -> 0 | P13: =SUM('8001CZ'!I27:I38) -> 0 | Q13: =SUM('8001CZ'!J27:J38) -> 0 | R13: =SUM('8001CZ'!K27:K38) -> 0 | S13: =SUM('8001CZ'!L27:L38) -> 0 | T13: =SUM('8001CZ'!M27:M38) -> 0 | U13: =SUM(Tabla1[[#This Row],[Consumo anual P1]:[Consumo anual P6]]) -> 0
A14: 800 | B14: ES0031405499934001XZ0F | C14: MANRESA | D14: PLAZA BAGES 13, BJO 08242 MANRESA | E14: 3.0 TD | F14: 52 | G14: 52 | H14: 52 | I14: 52 | J14: 52 | K14: 52 | L14: =SUM('4001XZ'!E26:E38) -> 10932 | M14: =SUM('4001XZ'!F26:F38) -> 9059 | N14: =SUM('4001XZ'!G26:G38) -> 16816 | O14: =SUM('4001XZ'!H26:H38) -> 6964 | P14: =SUM('4001XZ'!I26:I38) -> 7329 | Q14: =SUM('4001XZ'!J26:J38) -> 2807.743 | R14: =SUM('4001XZ'!K26:K38) -> 3968 | S14: =SUM('4001XZ'!L26:L38) -> 1730 | T14: =SUM('4001XZ'!M26:M38) -> 14008.257 | U14: =SUM(Tabla1[[#This Row],[Consumo anual P1]:[Consumo anual P6]]) -> 36807
A15: 800 | B15: ES0031405876712001GH0F | C15: MANRESA | D15: SANT JOSEP 58, LOC 08242 MANRESA | E15: 3.0 TD | F15: 50 | G15: 50 | H15: 50 | I15: 50 | J15: 50 | K15: 50 | L15: =SUM('2001GH'!E27:E38) -> 5413 | M15: =SUM('2001GH'!F27:F38) -> 3520 | N15: =SUM('2001GH'!G27:G38) -> 4971 | O15: =SUM('2001GH'!H27:H38) -> 3734 | P15: =SUM('2001GH'!I27:I38) -> 2949 | Q15: =SUM('2001GH'!J27:J38) -> 1035.5752 | R15: =SUM('2001GH'!K27:K38) -> 1679 | S15: =SUM('2001GH'!L27:L38) -> 571 | T15: =SUM('2001GH'!M27:M38) -> 3935.4248 | U15: =SUM(Tabla1[[#This Row],[Consumo anual P1]:[Consumo anual P6]]) -> 13904
A16: 800 | B16: ES0031405505097001PC0F | C16: MANRESA | D16: SANT JOSEP 66, BJO, MUTUA 08242 MANRESA | E16: 3.0 TD | F16: 70 | G16: 70 | H16: 70 | I16: 70 | J16: 70 | K16: 70 | L16: =SUM('7001PC'!E27:E38) -> 23721 | M16: =SUM('7001PC'!F27:F38) -> 18155 | N16: =SUM('7001PC'!G27:G38) -> 20345 | O16: =SUM('7001PC'!H27:H38) -> 13767 | P16: =SUM('7001PC'!I27:I38) -> 14451 | Q16: =SUM('7001PC'!J27:J38) -> 4161.5438 | R16: =SUM('7001PC'!K27:K38) -> 9954 | S16: =SUM('7001PC'!L27:L38) -> 3704 | T16: =SUM('7001PC'!M27:M38) -> 16183.456 | U16: =SUM(Tabla1[[#This Row],[Consumo anual P1]:[Consumo anual P6]]) -> 62221
A17: 804 | B17: ES0031405760435011KB0F | C17: BERGA | D17: PASSEIG DE LES ESTASELLES,29 08600 BERGA | E17: 2.0TD | F17: 2.3 | G17: 2.3 | H17: 2.3 | I17: 2.3 | J17: 2.3 | K17: 2.3 | R17: =SUM(Tabla1[[#This Row],[Consumo anual P1 + P4]:[Consumo anual P3 + P6]]) -> 0 | U17: =SUM(Tabla1[[#This Row],[Consumo anual P1]:[Consumo anual P6]]) -> 0
A18: 802 | B18: ES0031405014638001QN0F | C18: MOLLET DEL VALLÈS | D18: ANGEL GUIMERA 8 08100 MOLLET DEL VALLÈS | E18: 3.0 TD | F18: 85 | G18: 85 | H18: 85 | I18: 85 | J18: 85 | K18: 85 | L18: =SUM('8001QN'!E27:E38) -> 3655 | M18: =SUM('8001QN'!F27:F38) -> 2660 | N18: =SUM('8001QN'!G27:G38) -> 4296 | O18: =SUM('8001QN'!H27:H38) -> 2176 | P18: =SUM('8001QN'!I27:I38) -> 2186 | Q18: =SUM('8001QN'!J27:J38) -> 953.2598 | R18: =SUM('8001QN'!K27:K38) -> 1479 | S18: =SUM('8001QN'!L27:L38) -> 474 | T18: =SUM('8001QN'!M27:M38) -> 3342.7402 | U18: =SUM(Tabla1[[#This Row],[Consumo anual P1]:[Consumo anual P6]]) -> 10611
A19: 802 | B19: ES0031405016875009XV0F | C19: MOLLET DEL VALLÈS | D19: RAMON CASAS 7 LOC-1 MOLLET DEL VALLES BARCELONA | E19: 3.0 TD | F19: 17.35 | G19: 17.35 | H19: 17.35 | I19: 17.35 | J19: 17.35 | K19: 17.35 | R19: =SUM(Tabla1[[#This Row],[Consumo anual P1 + P4]:[Consumo anual P3 + P6]]) -> 0 | U19: =SUM(Tabla1[[#This Row],[Consumo anual P1]:[Consumo anual P6]]) -> 0
A20: 807 | B20: ES0031405250733001RN0F | C20: PALAU SOLITÀ I PLEGAMANS | D20: PS DE LA CARRERADA 2 08184 ESTANY, L' | E20: 3.0 TD | F20: 50 | G20: 50 | H20: 50 | I20: 50 | J20: 50 | K20: 50 | L20: =SUM('3001RN'!E27:E38) -> 10116 | M20: =SUM('3001RN'!F27:F38) -> 7915 | N20: =SUM('3001RN'!G27:G38) -> 11912 | O20: =SUM('3001RN'!H27:H38) -> 5994 | P20: =SUM('3001RN'!I27:I38) -> 6279 | Q20: =SUM('3001RN'!J27:J38) -> 2433.6134 | R20: =SUM('3001RN'!K27:K38) -> 4122 | S20: =SUM('3001RN'!L27:L38) -> 1636 | T20: =SUM('3001RN'!M27:M38) -> 9478.3866 | U20: =SUM(Tabla1[[#This Row],[Consumo anual P1]:[Consumo anual P6]]) -> 29943
A21: 812 | B21: ES0031408205952001DA0F | C21: TERRASSA | D21: PS 22 DE JULIOL, 338 08221 TERRASSA | E21: 3.0 TD | F21: 31.5 | G21: 31.5 | H21: 31.5 | I21: 31.5 | J21: 31.5 | K21: 31.5 | L21: =SUM('2001DA'!E27:E38) -> 3505 | M21: =SUM('2001DA'!F27:F38) -> 2480 | N21: =SUM('2001DA'!G27:G38) -> 3664 | O21: =SUM('2001DA'!H27:H38) -> 2055 | P21: =SUM('2001DA'!I27:I38) -> 1963 | Q21: =SUM('2001DA'!J27:J38) -> 780.4852 | R21: =SUM('2001DA'!K27:K38) -> 1419 | S21: =SUM('2001DA'!L27:L38) -> 517 | T21: =SUM('2001DA'!M27:M38) -> 2883.5148 | U21: =SUM(Tabla1[[#This Row],[Consumo anual P1]:[Consumo anual P6]]) -> 9618
A22: 803 | B22: ES0031446473158001WP0F | C22: VIC | D22: JULIA FABREGAS 23 08500 VIC | E22: 3.0 TD | F22: 63 | G22: 63 | H22: 63 | I22: 63 | J22: 63 | K22: 63 | L22: =SUM('8001WP'!E27:E38) -> 10481 | M22: =SUM('8001WP'!F27:F38) -> 7819 | N22: =SUM('8001WP'!G27:G38) -> 10242 | O22: =SUM('8001WP'!H27:H38) -> 5846 | P22: =SUM('8001WP'!I27:I38) -> 5979 | Q22: =SUM('8001WP'!J27:J38) -> 2221.7462 | R22: =SUM('8001WP'!K27:K38) -> 4635 | S22: =SUM('8001WP'!L27:L38) -> 1840 | T22: =SUM('8001WP'!M27:M38) -> 8020.2538 | U22: =SUM(Tabla1[[#This Row],[Consumo anual P1]:[Consumo anual P6]]) -> 28542
A23: 2400 | B23: ES0021000003588633CD0F | C23: LEON | D23: AVENIDA REYES LEONES, 33 24008 LEON | E23: 2.0 TD | F23: 8.5 | G23: 8.5 | H23: NA | I23: NA | J23: NA | K23: NA | L23: =SUM('8633CD'!E26:E38) -> 1997 | M23: =SUM('8633CD'!F26:F38) -> 1612 | N23: =SUM('8633CD'!G26:G38) -> 1722 | O23: =SUM(Tabla1[[#This Row],[Consumo anual P1 + P4]:[Consumo anual P2 + P5]]) -> 3609 | P23: =Tabla1[[#This Row],[Consumo anual P3 + P6]] -> 1722 | Q23: NA | R23: NA | S23: NA | T23: NA | U23: =SUM(Tabla1[[#This Row],[Consumo anual P1]:[Consumo anual P6]]) -> 5331
A24: 2800 | B24: ES0021000004762452LT0F | C24: MADRID | D24: PASEO SAN FRANCISCO DE SALES, 25 BJO B 28003, MADRID, MADRID | E24: 3.0 TD | F24: 15.001 | G24: 15.001 | H24: 15.001 | I24: 15.001 | J24: 15.001 | K24: 15.001 | L24: =SUM('2452LT'!E26:E37) -> 6138 | M24: =SUM('2452LT'!F26:F37) -> 4869 | N24: =SUM('2452LT'!G26:G37) -> 6152 | O24: =SUM('2452LT'!H26:H37) -> 3414 | P24: =SUM('2452LT'!I26:I37) -> 4051 | Q24: =SUM('2452LT'!J26:J37) -> 1315.4874 | R24: =SUM('2452LT'!K26:K37) -> 2724 | S24: =SUM('2452LT'!L26:L37) -> 818 | T24: =SUM('2452LT'!M26:M37) -> 4836.5126 | U24: =SUM(Tabla1[[#This Row],[Consumo anual P1]:[Consumo anual P6]]) -> 17159
A25: 3000 | B25: ES0021000006230192PH0F | C25: MURCIA | D25: RONDA DE LEVANTE 51 | E25: 2.0 TD | F25: 2.9 | G25: 2.9 | H25: NA | I25: NA | J25: NA | K25: NA | L25: =SUM('0192PH'!E24:E37) -> 58 | M25: =SUM('0192PH'!F24:F37) -> 57 | N25: =SUM('0192PH'!G24:G37) -> 134 | O25: =SUM('0192PH'!H24:H37) -> 115 | P25: =SUM('0192PH'!I24:I37) -> 134 | Q25: NA | R25: NA | S25: NA | T25: NA | U25: =SUM(Tabla1[[#This Row],[Consumo anual P1]:[Consumo anual P6]]) -> 249
A26: 4600 | B26: ES0021000008614443XC0F | C26: VALENCIA | D26: CALLE EDUARDO BOSCA, 32 BJO 1 46023, VALENCIA, VALENCIA | E26: 3.0 TD | F26: 9.03 | G26: 9.03 | H26: 9.03 | I26: 9.03 | J26: 9.03 | K26: 20.78 | L26: =SUM('4443XC'!E26:E39) -> 1696 | M26: =SUM('4443XC'!F26:F39) -> 1575 | N26: =SUM('4443XC'!G26:G39) -> 1604 | O26: =SUM('4443XC'!H26:H39) -> 1634 | P26: =SUM('4443XC'!I26:I39) -> 1562 | Q26: =SUM('4443XC'!J26:J39) -> 274.6722 | R26: =SUM('4443XC'!K26:K39) -> 62 | S26: =SUM('4443XC'!L26:L39) -> 13 | T26: =SUM('4443XC'!M26:M39) -> 1329.3278 | U26: =SUM(Tabla1[[#This Row],[Consumo anual P1]:[Consumo anual P6]]) -> 4875
A27: 3600 | B27: ES0022000004494536ZR1P | C27: VIGO | D27: CALLE DOCTOR CADAVAL, 21 BJO 4 36202, VIGO, PONTEVEDRA | E27: 2.0 TD | F27: 6.6 | G27: 6.6 | H27: NA | I27: NA | J27: NA | K27: NA | L27: =SUM('4536ZR'!E29:E41) -> 2444 | M27: =SUM('4536ZR'!F29:F41) -> 2091 | N27: =SUM('4536ZR'!G29:G41) -> 1608 | O27: =SUM('4536ZR'!H29:H41) -> 4535 | P27: =SUM('4536ZR'!I29:I41) -> 1608 | Q27: NA | R27: NA | S27: NA | T27: NA | U27: =SUM(Tabla1[[#This Row],[Consumo anual P1]:[Consumo anual P6]]) -> 6143
A28: 1500 | B28: ES0022000008467189PW1P | C28: CORUÑA (A) | D28: PLAZA ALFONSO XIII, 1 BJO IZQ 15008, CORUÑA (A), A CORUÑA | E28: 2.0 TD | F28: 15 | G28: 15 | H28: NA | I28: NA | J28: NA | K28: NA | L28: =SUM('7189PW'!E30:E42) -> 3069 | M28: =SUM('7189PW'!F30:F42) -> 2691 | N28: =SUM('7189PW'!G30:G42) -> 2240 | O28: =SUM('7189PW'!H30:H42) -> 5760 | P28: =SUM('7189PW'!I30:I42) -> 2240 | Q28: NA | R28: NA | S28: NA | T28: NA | U28: =SUM(Tabla1[[#This Row],[Consumo anual P1]:[Consumo anual P6]]) -> 8000
A29: 3300 | B29: ES0026000000878334SA0F | C29: GIJÓN | D29: AVENIDA MANUEL LLANEZA,25 BAJOS 33205 GIJON | E29: 3.0 TD | F29: 29.6 | G29: 29.6 | H29: 29.6 | I29: 29.6 | J29: 29.6 | K29: 29.6 | L29: =SUM('8334SA'!E28:E39) -> 2825 | M29: =SUM('8334SA'!F28:F39) -> 2260 | N29: =SUM('8334SA'!G28:G39) -> 3657 | O29: =SUM('8334SA'!H28:H39) -> 1602 | P29: =SUM('8334SA'!I28:I39) -> 1772 | Q29: =SUM('8334SA'!J28:J39) -> 665.449 | R29: =SUM('8334SA'!K28:K39) -> 1223 | S29: =SUM('8334SA'!L28:L39) -> 488 | T29: =SUM('8334SA'!M28:M39) -> 2991.551 | U29: =SUM(Tabla1[[#This Row],[Consumo anual P1]:[Consumo anual P6]]) -> 8742
A30: 2900 | B30: ES0031102849382034VC0F | C30: MALAGA | D30: C/ ESCRITORA CARMEN CONDE 7; MALAGA | E30: 3.0 TD | F30: 19.72 | G30: 19.72 | H30: 19.72 | I30: 19.72 | J30: 19.72 | K30: 19.72 | L30: =SUM('2034VC'!E27:E38) -> 1930 | M30: =SUM('2034VC'!F27:F38) -> 1407 | N30: =SUM('2034VC'!G27:G38) -> 3129 | O30: =SUM('2034VC'!H27:H38) -> 842 | P30: =SUM('2034VC'!I27:I38) -> 984 | Q30: =SUM('2034VC'!J27:J38) -> 625.2604 | R30: =SUM('2034VC'!K27:K38) -> 1088 | S30: =SUM('2034VC'!L27:L38) -> 423 | T30: =SUM('2034VC'!M27:M38) -> 2503.7396 | U30: =SUM(Tabla1[[#This Row],[Consumo anual P1]:[Consumo anual P6]]) -> 6466
A31: 1800 | B31: ES0031103123644021XW0F | C31: GRANADA | D31: AVDA MARDRID ESQUINA C/ CARDENAL PARRADO 1 | E31: 2.0 TD | F31: 3.464 | G31: 3.464 | H31: NA | I31: NA | J31: NA | K31: NA | L31: =SUM('4021XW'!E26:E38) -> 631 | M31: =SUM('4021XW'!F26:F38) -> 455 | N31: =SUM('4021XW'!G26:G38) -> 754 | O31: =SUM('4021XW'!H26:H38) -> 1086 | P31: =SUM('4021XW'!I26:I38) -> 754 | Q31: NA | R31: NA | S31: NA | T31: NA | U31: =SUM(Tabla1[[#This Row],[Consumo anual P1]:[Consumo anual P6]]) -> 1840
A32: 1400 | B32: ES0031104000529001TT0F | C32: CORDOBA | D32: BULEVAR HERNAN RUIZ,19 LOCAL | E32: 3.0 TD | F32: 49.73 | G32: 49.73 | H32: 49.73 | I32: 49.73 | J32: 49.73 | K32: 49.73 | L32: =SUM('9001TT'!E27:E38) -> 8343 | M32: =SUM('9001TT'!F27:F38) -> 4391 | N32: =SUM('9001TT'!G27:G38) -> 7282 | O32: =SUM('9001TT'!H27:H38) -> 5021 | P32: =SUM('9001TT'!I27:I38) -> 3535 | Q32: =SUM('9001TT'!J27:J38) -> 1848.1302 | R32: =SUM('9001TT'!K27:K38) -> 3322 | S32: =SUM('9001TT'!L27:L38) -> 831 | T32: =SUM('9001TT'!M27:M38) -> 5433.8698 | U32: =SUM(Tabla1[[#This Row],[Consumo anual P1]:[Consumo anual P6]]) -> 19991
A33: 810 | B33: ES0031405008835009EN0F | C33: GRANOLLERS | D33: CALLE MARE DE DEU DE MONTSERRAT, 65 LOC 3 08401, GRANOLLERS, BARCELONA | E33: 2.0 TD | F33: 10 | G33: 10 | H33: NA | I33: NA | J33: NA | K33: NA | L33: =SUM('5009EN'!E26:E38) -> 1807 | M33: =SUM('5009EN'!F26:F38) -> 1552 | N33: =SUM('5009EN'!G26:G38) -> 1221 | O33: =SUM('5009EN'!H26:H38) -> 3359 | P33: =SUM('5009EN'!I26:I38) -> 1221 | Q33: NA | R33: NA | S33: NA | T33: NA | U33: =SUM(Tabla1[[#This Row],[Consumo anual P1]:[Consumo anual P6]]) -> 4580
A34: 809 | B34: ES0031405219269014LW0F | C34: MATARÓ | D34: CAMINO DE LA GEGANTA, 79 81 LOC 4 08302, MATARO, BARCELONA | E34: 2.0 TD | F34: 10 | G34: 10 | H34: NA | I34: NA | J34: NA | K34: NA | L34: =SUM('9014LW'!E26:E38) -> 2994 | M34: =SUM('9014LW'!F26:F38) -> 2823 | N34: =SUM('9014LW'!G26:G38) -> 1904 | O34: =SUM('9014LW'!H26:H38) -> 5817 | P34: =SUM('9014LW'!I26:I38) -> 1904 | Q34: NA | R34: NA | S34: NA | T34: NA | U34: =SUM(Tabla1[[#This Row],[Consumo anual P1]:[Consumo anual P6]]) -> 7721
A35: 2500 | B35: ES0031405580069001DR0F | C35: LLEIDA | D35: AVDA BLONDEL 11 | E35: 3.0 TD | F35: 25 | G35: 25 | H35: 25 | I35: 25 | J35: 25 | K35: 25 | L35: =SUM('9001DR'!E28:E39) -> 1559 | M35: =SUM('9001DR'!F28:F39) -> 1075 | N35: =SUM('9001DR'!G28:G39) -> 1745 | O35: =SUM('9001DR'!H28:H39) -> 1119 | P35: =SUM('9001DR'!I28:I39) -> 911 | Q35: =SUM('9001DR'!J28:J39) -> 298.1348 | R35: =SUM('9001DR'!K28:K39) -> 427 | S35: =SUM('9001DR'!L28:L39) -> 109 | T35: =SUM('9001DR'!M28:M39) -> 1446.8652 | U35: =SUM(Tabla1[[#This Row],[Consumo anual P1]:[Consumo anual P6]]) -> 4311
A36: 4300 | B36: ES0031405652653021YT0F | C36: TARRAGONA | D36: CALLE DE PERE MARTELL, 13 BJO 43001, TARRAGONA, TARRAGONA | E36: 3.0 TD | F36: 25 | G36: 25 | H36: 25 | I36: 25 | J36: 25 | K36: 25 | L36: =SUM('3021YT'!E25:E38) -> 846 | M36: =SUM('3021YT'!F25:F38) -> 948 | N36: =SUM('3021YT'!G25:G38) -> 943 | O36: =SUM('3021YT'!H25:H38) -> 271 | P36: =SUM('3021YT'!I25:I38) -> 770 | Q36: =SUM('3021YT'!J25:J38) -> 524.7742 | R36: =SUM('3021YT'!K25:K38) -> 575 | S36: =SUM('3021YT'!L25:L38) -> 178 | T36: =SUM('3021YT'!M25:M38) -> 418.2258 | U36: =SUM(Tabla1[[#This Row],[Consumo anual P1]:[Consumo anual P6]]) -> 2737
A37: 2501 | B37: ES0031408120149012KD0F | C37: TÀRREGA | D37: C/ CARME 34 PALAU MARQUESOS DE LA FLORESTA | E37: 3.0 TD | F37: 20 | G37: 20 | H37: 20 | I37: 20 | J37: 20 | K37: 20 | L37: =SUM('9012KD'!E26:E37) -> 3211 | M37: =SUM('9012KD'!F26:F37) -> 2776 | N37: =SUM('9012KD'!G26:G37) -> 3945 | O37: =SUM('9012KD'!H26:H37) -> 1760 | P37: =SUM('9012KD'!I26:I37) -> 2258 | Q37: =SUM('9012KD'!J26:J37) -> 752.086 | R37: =SUM('9012KD'!K26:K37) -> 1451 | S37: =SUM('9012KD'!L26:L37) -> 518 | T37: =SUM('9012KD'!M26:M37) -> 3192.914 | U37: =SUM(Tabla1[[#This Row],[Consumo anual P1]:[Consumo anual P6]]) -> 9932
A38: 813 | B38: ES0031408290656034XG0F | C38: IGUALADA | D38: CALLE CARLES RIBA, 1 BJO LOCAL4 08700, IGUALADA, BARCELONA | E38: 2.0 TD | F38: 9.2 | G38: 9.2 | H38: NA | I38: NA | J38: NA | K38: NA | L38: =SUM('6034XG'!E26:E38) -> 2876 | M38: =SUM('6034XG'!F26:F38) -> 2171 | N38: =SUM('6034XG'!G26:G38) -> 1640 | O38: =SUM('6034XG'!H26:H38) -> 5047 | P38: =SUM('6034XG'!I26:I38) -> 1640 | Q38: NA | R38: NA | S38: NA | T38: NA | U38: =SUM(Tabla1[[#This Row],[Consumo anual P1]:[Consumo anual P6]]) -> 6687
A39: 701 | B39: ES0031500044643003KX0F | C39: EIVISSA | D39: C. CANARIAS 35 BAJOS, EDIFICIO CETIS | E39: 2.0 TD | F39: 5.6 | G39: 5.6 | H39: NA | I39: NA | J39: NA | K39: NA | L39: =SUM('3003KX'!E27:E38) -> 1409 | M39: =SUM('3003KX'!F27:F38) -> 948 | N39: =SUM('3003KX'!G27:G38) -> 1091 | O39: =SUM('3003KX'!H27:H38) -> 2357 | P39: =SUM('3003KX'!I27:I38) -> 1091 | Q39: NA | R39: NA | S39: NA | T39: NA | U39: =SUM(Tabla1[[#This Row],[Consumo anual P1]:[Consumo anual P6]]) -> 3448
A40: 4700 | B40: ES0021000013661307LV | C40: VALLADOLID | D40: Avda ZAMORA 19, PISO BAJO PUERTA 1, 47008, VALLADOLID, 0 | E40: 2.0 TD | F40: 10.35 | G40: 10.35 | H40: NA | I40: NA | J40: NA | K40: NA | L40: =SUM('1307LV'!E27:E38) -> 2592 | M40: =SUM('1307LV'!F27:F38) -> 1917 | N40: =SUM('1307LV'!G27:G38) -> 1618 | O40: =SUM('1307LV'!H27:H38) -> 4509 | P40: =SUM('1307LV'!I27:I38) -> 1618 | Q40: NA | R40: NA | S40: NA | T40: NA | U40: =SUM(Tabla1[[#This Row],[Consumo anual P1]:[Consumo anual P6]]) -> 6127
A41: 700 | B41: ES0031500104013001NQ0F | C41: PALMA DE MALLORCA | D41: C/ MARQUES DE LA SENIA 35 | E41: 2.0 TD | F41: 14.2 | G41: 14.2 | H41: NA | I41: NA | J41: NA | K41: NA | L41: =SUM('3001NQ'!E27:E39) -> 4950 | M41: =SUM('3001NQ'!F27:F39) -> 4297 | N41: =SUM('3001NQ'!G27:G39) -> 3684 | O41: =SUM('3001NQ'!H27:H39) -> 9247 | P41: =SUM('3001NQ'!I27:I39) -> 3684 | Q41: NA | R41: NA | S41: NA | T41: NA | U41: =SUM(Tabla1[[#This Row],[Consumo anual P1]:[Consumo anual P6]]) -> 12931
B42: ES0033770552498001GX | C42: LUGO | D42: RDA MURALLA S/N PORTAL: 142 PUERTA: LC 27001 LUGO | E42: 3.0TD | F42: 27.712 | G42: 27.712 | H42: 27.712 | I42: 27.712 | J42: 27.712 | K42: 27.712 | O42: =3144-1515 -> 1629 | P42: =2305-1299 -> 1006 | Q42: 854 | R42: 1515 | S42: 1299 | T42: =3416-854 -> 2562 | U42: =SUM(Tabla1[[#This Row],[Consumo anual P1]:[Consumo anual P6]]) -> 8865
O43: =SUBTOTAL(109,Tabla1[Consumo anual P1]) -> 130901.34 | P43: =SUBTOTAL(109,Tabla1[Consumo anual P2]) -> 100327.77 | Q43: =SUBTOTAL(109,Tabla1[Consumo anual P3]) -> 30307.275 | R43: =SUBTOTAL(109,Tabla1[Consumo anual P4]) -> 54785 | S43: =SUBTOTAL(109,Tabla1[Consumo anual P5]) -> 20715 | T43: =SUBTOTAL(109,Tabla1[Consumo anual P6]) -> 105683.12 | U43: =SUBTOTAL(109,Tabla1[Total anual]) -> 442719.5

Sheet 3.0TD
C3: Mes | D3: P1/P1+P4 | E3: P2/P2+P5 | F3: P3/P3+P6 | G3: P4/(P1+P4) | H3: P5/(P2+P5) | I3: P6/(P3+P6)
C4: 1 | D4: 1 | E4: 1 | F4: 0 | G4: 0 | H4: 0 | I4: 1
C5: 2 | D5: 1 | E5: 1 | F5: 0 | G5: 0 | H5: 0 | I5: 1
C6: 3 | D6: 0 | E6: 1 | F6: 0.2998 | G6: 0 | H6: 0 | I6: 0.7002
C7: 4 | D7: 0 | E7: 0 | F7: 0 | G7: 1 | H7: 1 | I7: 1
C8: 5 | D8: 0 | E8: 0 | F8: 0 | G8: 1 | H8: 1 | I8: 1
C9: 6 | D9: 0 | E9: 0 | F9: 0.3498 | G9: 1 | H9: 0 | I9: 0.6502
C10: 7 | D10: 1 | E10: 1 | F10: 0 | G10: 0 | H10: 0 | I10: 1
C11: 8 | D11: 0 | E11: 0 | F11: 0.3356 | G11: 1 | H11: 0 | I11: 0.6644
C12: 9 | D12: 0 | E12: 0 | F12: 0.3498 | G12: 1 | H12: 0 | I12: 0.6502
C13: 10 | D13: 0 | E13: 0 | F13: 0 | G13: 1 | H13: 1 | I13: 1
C14: 11 | D14: 0 | E14: 1 | F14: 0.2768 | G14: 0 | H14: 0 | I14: 0.7232
C15: 12 | D15: 1 | E15: 1 | F15: 0 | G15: 0 | H15: 0 | I15: 1

Sheet 2034VC
A1: CONSUMO ACTIVA
A3: CONSUMO ANUAL: 4119kWh | B3: P1 + P4 | C3: P2 + P5 | D3: P3 + P6
A4: Consumo anual por periodos en kWh | B4: 1246 | C4: 574 | D4: 2299
A5: Consumo anual por periodos en % | B5: 30 | C5: 14 | D5: 56
A6: Fecha inicial | B6: Fecha final | C6: Días | D6: Tipo | E6: P1 + P4 | F6: P2 + P5 | G6: P3 + P6 | H6: P1 | I6: P2 | J6: P3 | K6: P4 | L6: P5 | M6: P6 | N6: AÑO
A7: 43983 | B7: 30-06-2020 | C7: 29 | D7: REAL | E7: 231 | F7: 488 | G7: 242 | H7: =Tabla27[[#This Row],[P1 + P4]]*VLOOKUP(MONTH(Tabla27[[#This Row],[Fecha final]]),Tabla20[#All],2,FALSE) -> 0 | I7: =Tabla27[[#This Row],[P2 + P5]]*VLOOKUP(MONTH(Tabla27[[#This Row],[Fecha final]]),Tabla20[#All],3,FALSE) -> 0 | J7: =(Tabla27[[#This Row],[P3 + P6]])*VLOOKUP(MONTH(Tabla27[[#This Row],[Fecha final]]),Tabla20[#All],4,FALSE) -> 84.6516 | K7: =Tabla27[[#This Row],[P1 + P4]]*VLOOKUP(MONTH(Tabla27[[#This Row],[Fecha final]]),Tabla20[#All],5,FALSE) -> 231 | L7: =Tabla27[[#This Row],[P2 + P5]]*VLOOKUP(MONTH(Tabla27[[#This Row],[Fecha final]]),Tabla20[#All],6,FALSE) -> 0 | M7: =Tabla27[[#This Row],[P3 + P6]]*VLOOKUP(MONTH(Tabla27[[#This Row],[Fecha final]]),Tabla20[#All],7,FALSE) -> 157.3484 | N7: =YEAR(Tabla27[[#This Row],[Fecha final]]) -> 2020
A8: 44012 | B8: 31-07-2020 | C8: 31 | D8: REAL | E8: 640 | F8: 913 | G8: 348 | H8: =Tabla27[[#This Row],[P1 + P4]]*VLOOKUP(MONTH(Tabla27[[#This Row],[Fecha final]]),Tabla20[#All],2,FALSE) -> 640 | I8: =Tabla27[[#This Row],[P2 + P5]]*VLOOKUP(MONTH(Tabla27[[#This Row],[Fecha final]]),Tabla20[#All],3,FALSE) -> 913 | J8: =(Tabla27[[#This Row],[P3 + P6]])*VLOOKUP(MONTH(Tabla27[[#This Row],[Fecha final]]),Tabla20[#All],4,FALSE) -> 0 | K8: =Tabla27[[#This Row],[P1 + P4]]*VLOOKUP(MONTH(Tabla27[[#This Row],[Fecha final]]),Tabla20[#All],5,FALSE) -> 0 | L8: =Tabla27[[#This Row],[P2 + P5]]*VLOOKUP(MONTH(Tabla27[[#This Row],[Fecha final]]),Tabla20[#All],6,FALSE) -> 0 | M8: =Tabla27[[#This Row],[P3 + P6]]*VLOOKUP(MONTH(Tabla27[[#This Row],[Fecha final]]),Tabla20[#All],7,FALSE) -> 348 | N8: =YEAR(Tabla27[[#This Row],[Fecha final]]) -> 2020
A9: 44043 | B9: 31-08-2020 | C9: 31 | D9: REAL | E9: 455 | F9: 662 | G9: 240 | H9: =Tabla27[[#This Row],[P1 + P4]]*VLOOKUP(MONTH(Tabla27[[#This Row],[Fecha final]]),Tabla20[#All],2,FALSE) -> 0 | I9: =Tabla27[[#This Row],[P2 + P5]]*VLOOKUP(MONTH(Tabla27[[#This Row],[Fecha final]]),Tabla20[#All],3,FALSE) -> 0 | J9: =(Tabla27[[#This Row],[P3 + P6]])*VLOOKUP(MONTH(Tabla27[[#This Row],[Fecha final]]),Tabla20[#All],4,FALSE) -> 80.544 | K9: =Tabla27[[#This Row],[P1 + P4]]*VLOOKUP(MONTH(Tabla27[[#This Row],[Fecha final]]),Tabla20[#All],5,FALSE) -> 455 | L9: =Tabla27[[#This Row],[P2 + P5]]*VLOOKUP(MONTH(Tabla27[[#This Row],[Fecha final]]),Tabla20[#All],6,FALSE) -> 0 | M9: =Tabla27[[#This Row],[P3 + P6]]*VLOOKUP(MONTH(Tabla27[[#This Row],[Fecha final]]),Tabla20[#All],7,FALSE) -> 159.456 | N9: =YEAR(Tabla27[[#This Row],[Fecha final]]) -> 2020
A10: 44074 | B10: 30-09-2020 | C10: 30 | D10: REAL | E10: 482 | F10: 828 | G10: 245 | H10: =Tabla27[[#This Row],[P1 + P4]]*VLOOKUP(MONTH(Tabla27[[#This Row],[Fecha final]]),Tabla20[#All],2,FALSE) -> 0 | I10: =Tabla27[[#This Row],[P2 + P5]]*VLOOKUP(MONTH(Tabla27[[#This Row],[Fecha final]]),Tabla20[#All],3,FALSE) -> 0 | J10: =(Tabla27[[#This Row],[P3 + P6]])*VLOOKUP(MONTH(Tabla27[[#This Row],[Fecha final]]),Tabla20[#All],4,FALSE) -> 85.701 | K10: =Tabla27[[#This Row],[P1 + P4]]*VLOOKUP(MONTH(Tabla27[[#This Row],[Fecha final]]),Tabla20[#All],5,FALSE) -> 482 | L10: =Tabla27[[#This Row],[P2 + P5]]*VLOOKUP(MONTH(Tabla27[[#This Row],[Fecha final]]),Tabla20[#All],6,FALSE) -> 0 | M10: =Tabla27[[#This Row],[P3 + P6]]*VLOOKUP(MONTH(Tabla27[[#This Row],[Fecha final]]),Tabla20[#All],7,FALSE) -> 159.299 | N10: =YEAR(Tabla27[[#This Row],[Fecha final]]) -> 2020
A11: 44104 | B11: 31-10-2020 | C11: 31 | D11: REAL | E11: 227 | F11: 543 | G11: 178 | H11: =Tabla27[[#This Row],[P1 + P4]]*VLOOKUP(MONTH(Tabla27[[#This Row],[Fecha final]]),Tabla20[#All],2,FALSE) -> 0 | I11: =Tabla27[[#This Row],[P2 + P5]]*VLOOKUP(MONTH(Tabla27[[#This Row],[Fecha final]]),Tabla20[#All],3,FALSE) -> 0 | J11: =(Tabla27[[#This Row],[P3 + P6]])*VLOOKUP(MONTH(Tabla27[[#This Row],[Fecha final]]),Tabla20[#All],4,FALSE) -> 0 | K11: =Tabla27[[#This Row],[P1 + P4]]*VLOOKUP(MONTH(Tabla27[[#This Row],[Fecha final]]),Tabla20[#All],5,FALSE) -> 227 | L11: =Tabla27[[#This Row],[P2 + P5]]*VLOOKUP(MONTH(Tabla27[[#This Row],[Fecha final]]),Tabla20[#All],6,FALSE) -> 543 | M11: =Tabla27[[#This Row],[P3 + P6]]*VLOOKUP(MONTH(Tabla27[[#This Row],[Fecha final]]),Tabla20[#All],7,FALSE) -> 178 | N11: =YEAR(Tabla27[[#This Row],[Fecha final]]) -> 2020
A12: 44135 | B12: 30-11-2020 | C12: 30 | D12: REAL | E12: 76 | F12: 613 | G12: 162 | H12: =Tabla27[[#This Row],[P1 + P4]]*VLOOKUP(MONTH(Tabla27[[#This Row],[Fecha final]]),Tabla20[#All],2,FALSE) -> 0 | I12: =Tabla27[[#This Row],[P2 + P5]]*VLOOKUP(MONTH(Tabla27[[#This Row],[Fecha final]]),Tabla20[#All],3,FALSE) -> 613 | J12: =(Tabla27[[#This Row],[P3 + P6]])*VLOOKUP(MONTH(Tabla27[[#This Row],[Fecha final]]),Tabla20[#All],4,FALSE) -> 44.8416 | K12: =Tabla27[[#This Row],[P1 + P4]]*VLOOKUP(MONTH(Tabla27[[#This Row],[Fecha final]]),Tabla20[#All],5,FALSE) -> 0 | L12: =Tabla27[[#This Row],[P2 + P5]]*VLOOKUP(MONTH(Tabla27[[#This Row],[Fecha final]]),Tabla20[#All],6,FALSE) -> 0 | M12: =Tabla27[[#This Row],[P3 + P6]]*VLOOKUP(MONTH(Tabla27[[#This Row],[Fecha final]]),Tabla20[#All],7,FALSE) -> 117.1584 | N12: =YEAR(Tabla27[[#This Row],[Fecha final]]) -> 2020
A13: 44165 | B13: 31-12-2020 | C13: 31 | D13: REAL | E13: 113 | F13: 851 | G13: 240 | H13: =Tabla27[[#This Row],[P1 + P4]]*VLOOKUP(MONTH(Tabla27[[#This Row],[Fecha final]]),Tabla20[#All],2,FALSE) -> 113 | I13: =Tabla27[[#This Row],[P2 + P5]]*VLOOKUP(MONTH(Tabla27[[#This Row],[Fecha final]]),Tabla20[#All],3,FALSE) -> 851 | J13: =(Tabla27[[#This Row],[P3 + P6]])*VLOOKUP(MONTH(Tabla27[[#This Row],[Fecha final]]),Tabla20[#All],4,FALSE) -> 0 | K13: =Tabla27[[#This Row],[P1 + P4]]*VLOOKUP(MONTH(Tabla27[[#This Row],[Fecha final]]),Tabla20[#All],5,FALSE) -> 0 | L13: =Tabla27[[#This Row],[P2 + P5]]*VLOOKUP(MONTH(Tabla27[[#This Row],[Fecha final]]),Tabla20[#All],6,FALSE) -> 0 | M13: =Tabla27[[#This Row],[P3 + P6]]*VLOOKUP(MONTH(Tabla27[[#This Row],[Fecha final]]),Tabla20[#All],7,FALSE) -> 240 | N13: =YEAR(Tabla27[[#This Row],[Fecha final]]) -> 2020
A14: 44196 | B14: 31-01-2021 | C14: 31 | D14: REAL | E14: 125 | F14: 1296 | G14: 263 | H14: =Tabla27[[#This Row],[P1 + P4]]*VLOOKUP(MONTH(Tabla27[[#This Row],[Fecha final]]),Tabla20[#All],2,FALSE) -> 125 | I14: =Tabla27[[#This Row],[P2 + P5]]*VLOOKUP(MONTH(Tabla27[[#This Row],[Fecha final]]),Tabla20[#All],3,FALSE) -> 1296 | J14: =(Tabla27[[#This Row],[P3 + P6]])*VLOOKUP(MONTH(Tabla27[[#This Row],[Fecha final]]),Tabla20[#All],4,FALSE) -> 0 | K14: =Tabla27[[#This Row],[P1 + P4]]*VLOOKUP(MONTH(Tabla27[[#This Row],[Fecha final]]),Tabla20[#All],5,FALSE) -> 0 | L14: =Tabla27[[#This Row],[P2 + P5]]*VLOOKUP(MONTH(Tabla27[[#This Row],[Fecha final]]),Tabla20[#All],6,FALSE) -> 0 | M14: =Tabla27[[#This Row],[P3 + P6]]*VLOOKUP(MONTH(Tabla27[[#This Row],[Fecha final]]),Tabla20[#All],7,FALSE) -> 263 | N14: =YEAR(Tabla27[[#This Row],[Fecha final]]) -> 2021
A15: 44227 | B15: 02-03-2021 | C15: 30 | D15: REAL | E15: 100 | F15: 911 | G15: 209 | H15: =Tabla27[[#This Row],[P1 + P4]]*VLOOKUP(MONTH(Tabla27[[#This Row],[Fecha final]]),Tabla20[#All],2,FALSE) -> 0 | I15: =Tabla27[[#This Row],[P2 + P5]]*VLOOKUP(MONTH(Tabla27[[#This Row],[Fecha final]]),Tabla20[#All],3,FALSE) -> 911 | J15: =(Tabla27[[#This Row],[P3 + P6]])*VLOOKUP(MONTH(Tabla27[[#This Row],[Fecha final]]),Tabla20[#All],4,FALSE) -> 62.6582 | K15: =Tabla27[[#This Row],[P1 + P4]]*VLOOKUP(MONTH(Tabla27[[#This Row],[Fecha final]]),Tabla20[#All],5,FALSE) -> 0 | L15: =Tabla27[[#This Row],[P2 + P5]]*VLOOKUP(MONTH(Tabla27[[#This Row],[Fecha final]]),Tabla20[#All],6,FALSE) -> 0 | M15: =Tabla27[[#This Row],[P3 + P6]]*VLOOKUP(MONTH(Tabla27[[#This Row],[Fecha final]]),Tabla20[#All],7,FALSE) -> 146.3418 | N15: =YEAR(Tabla27[[#This Row],[Fecha final]]) -> 2021
A16: 44257 | B16: 05-04-2021 | C16: 34 | D16: REAL | E16: 115 | F16: 800 | G16: 206 | H16: =Tabla27[[#This Row],[P1 + P4]]*VLOOKUP(MONTH(Tabla27[[#This Row],[Fecha final]]),Tabla20[#All],2,FALSE) -> 0 | I16: =Tabla27[[#This Row],[P2 + P5]]*VLOOKUP(MONTH(Tabla27[[#This Row],[Fecha final]]),Tabla20[#All],3,FALSE) -> 0 | J16: =(Tabla27[[#This Row],[P3 + P6]])*VLOOKUP(MONTH(Tabla27[[#This Row],[Fecha final]]),Tabla20[#All],4,FALSE) -> 0 | K16: =Tabla27[[#This Row],[P1 + P4]]*VLOOKUP(MONTH(Tabla27[[#This Row],[Fecha final]]),Tabla20[#All],5,FALSE) -> 115 | L16: =Tabla27[[#This Row],[P2 + P5]]*VLOOKUP(MONTH(Tabla27[[#This Row],[Fecha final]]),Tabla20[#All],6,FALSE) -> 800 | M16: =Tabla27[[#This Row],[P3 + P6]]*VLOOKUP(MONTH(Tabla27[[#This Row],[Fecha final]]),Tabla20[#All],7,FALSE) -> 206 | N16: =YEAR(Tabla27[[#This Row],[Fecha final]]) -> 2021
A17: 44291 | B17: 30-04-2021 | C17: 25 | D17: REAL | E17: 129 | F17: 331 | G17: 150 | H17: =Tabla27[[#This Row],[P1 + P4]]*VLOOKUP(MONTH(Tabla27[[#This Row],[Fecha final]]),Tabla20[#All],2,FALSE) -> 0 | I17: =Tabla27[[#This Row],[P2 + P5]]*VLOOKUP(MONTH(Tabla27[[#This Row],[Fecha final]]),Tabla20[#All],3,FALSE) -> 0 | J17: =(Tabla27[[#This Row],[P3 + P6]])*VLOOKUP(MONTH(Tabla27[[#This Row],[Fecha final]]),Tabla20[#All],4,FALSE) -> 0 | K17: =Tabla27[[#This Row],[P1 + P4]]*VLOOKUP(MONTH(Tabla27[[#This Row],[Fecha final]]),Tabla20[#All],5,FALSE) -> 129 | L17: =Tabla27[[#This Row],[P2 + P5]]*VLOOKUP(MONTH(Tabla27[[#This Row],[Fecha final]]),Tabla20[#All],6,FALSE) -> 331 | M17: =Tabla27[[#This Row],[P3 + P6]]*VLOOKUP(MONTH(Tabla27[[#This Row],[Fecha final]]),Tabla20[#All],7,FALSE) -> 150 | N17: =YEAR(Tabla27[[#This Row],[Fecha final]]) -> 2021
A18: 44316 | B18: 31-05-2021 | C18: 31 | D18: REAL | E18: 212 | F18: 537 | G18: 242 | H18: =Tabla27[[#This Row],[P1 + P4]]*VLOOKUP(MONTH(Tabla27[[#This Row],[Fecha final]]),Tabla20[#All],2,FALSE) -> 0 | I18: =Tabla27[[#This Row],[P2 + P5]]*VLOOKUP(MONTH(Tabla27[[#This Row],[Fecha final]]),Tabla20[#All],3,FALSE) -> 0 | J18: =(Tabla27[[#This Row],[P3 + P6]])*VLOOKUP(MONTH(Tabla27[[#This Row],[Fecha final]]),Tabla20[#All],4,FALSE) -> 0 | K18: =Tabla27[[#This Row],[P1 + P4]]*VLOOKUP(MONTH(Tabla27[[#This Row],[Fecha final]]),Tabla20[#All],5,FALSE) -> 212 | L18: =Tabla27[[#This Row],[P2 + P5]]*VLOOKUP(MONTH(Tabla27[[#This Row],[Fecha final]]),Tabla20[#All],6,FALSE) -> 537 | M18: =Tabla27[[#This Row],[P3 + P6]]*VLOOKUP(MONTH(Tabla27[[#This Row],[Fecha final]]),Tabla20[#All],7,FALSE) -> 242 | N18: =YEAR(Tabla27[[#This Row],[Fecha final]]) -> 2021
... A41: 44985 | B41: 31-03-2023 | C41: 31 | D41: REAL | E41: 0 | F41: 19 | G41: 50 | H41: =Tabla27[[#This Row],[P1 + P4]]*VLOOKUP(MONTH(Tabla27[[#This Row],[Fecha final]]),Tabla20[#All],2,FALSE) -> 0 | I41: =Tabla27[[#This Row],[P2 + P5]]*VLOOKUP(MONTH(Tabla27[[#This Row],[Fecha final]]),Tabla20[#All],3,FALSE) -> 19 | J41: =(Tabla27[[#This Row],[P3 + P6]])*VLOOKUP(MONTH(Tabla27[[#This Row],[Fecha final]]),Tabla20[#All],4,FALSE) -> 14.99 | K41: =Tabla27[[#This Row],[P1 + P4]]*VLOOKUP(MONTH(Tabla27[[#This Row],[Fecha final]]),Tabla20[#All],5,FALSE) -> 0 | L41: =Tabla27[[#This Row],[P2 + P5]]*VLOOKUP(MONTH(Tabla27[[#This Row],[Fecha final]]),Tabla20[#All],6,FALSE) -> 0 | M41: =Tabla27[[#This Row],[P3 + P6]]*VLOOKUP(MONTH(Tabla27[[#This Row],[Fecha final]]),Tabla20[#All],7,FALSE) -> 35.01 | N41: =YEAR(Tabla27[[#This Row],[Fecha final]]) -> 2023
A44: CONSUMO REACTIVA
A46: Fecha inicial | B46: Fecha final | C46: Días | D46: Tipo | E46: P1 + P4 | F46: P2 + P5 | G46: P3 + P6
A47: 28-02-2023 | B47: 31-03-2023 | C47: 31 | D47: REAL | E47: 0 | F47: 0 | G47: 0
A48: 31-01-2023 | B48: 28-02-2023 | C48: 28 | D48: REAL | E48: 0 | F48: 0 | G48: 0
A49: 31-12-2022 | B49: 31-01-2023 | C49: 31 | D49: REAL | E49: 0 | F49: 0 | G49: 0
A50: 30-11-2022 | B50: 31-12-2022 | C50: 31 | D50: REAL | E50: 0 | F50: 0 | G50: 0
A51: 31-10-2022 | B51: 30-11-2022 | C51: 30 | D51: REAL | E51: 0 | F51: 0 | G51: 0
A52: 30-09-2022 | B52: 31-10-2022 | C52: 31 | D52: REAL | E52: 0 | F52: 0 | G52: 0
A53: 31-08-2022 | B53: 30-09-2022 | C53: 30 | D53: REAL | E53: 0 | F53: 0 | G53: 0
A54: 29-07-2022 | B54: 31-08-2022 | C54: 33 | D54: REAL | E54: 0 | F54: 0 | G54: 0
A55: 30-06-2022 | B55: 29-07-2022 | C55: 29 | D55: REAL | E55: 0 | F55: 0 | G55: 0
A56: 31-05-2022 | B56: 30-06-2022 | C56: 30 | D56: REAL | E56: 0 | F56: 0 | G56: 0
A57: 30-04-2022 | B57: 31-05-2022 | C57: 31 | D57: REAL | E57: 0 | F57: 0 | G57: 0
A58: 31-03-2022 | B58: 30-04-2022 | C58: 30 | D58: REAL | E58: 0 | F58: 0 | G58: 0
... A81: 01-06-2020 | B81: 30-06-2020 | C81: 29 | D81: REAL | E81: 1 | F81: 0 | G81: 0
A84: MAXÍMETRO
A86: POTENCIAS CONTRATADAS | B86: P1 | C86: P2 | D86: P3
A87: Potencias Contratadas (kW) | B87: 19.72 | C87: 19.72 | D87: 19.72
A88: Fecha inicial | B88: Fecha final | C88: Días | D88: Tipo | E88: P1 | F88: P2 | G88: P3
A89: 28-02-2023 | B89: 31-03-2023 | C89: 31 | D89: REAL | E89: 0 | F89: 1 | G89: 1
A90: 31-01-2023 | B90: 28-02-2023 | C90: 28 | D90: REAL | E90: 0 | F90: 0 | G90: 0
A91: 31-12-2022 | B91: 31-01-2023 | C91: 31 | D91: REAL | E91: 0 | F91: 0 | G91: 0
A92: 30-11-2022 | B92: 31-12-2022 | C92: 31 | D92: REAL | E92: 0 | F92: 1 | G92: 0
A93: 31-10-2022 | B93: 30-11-2022 | C93: 30 | D93: REAL | E93: 0 | F93: 0 | G93: 3
A94: 30-09-2022 | B94: 31-10-2022 | C94: 31 | D94: REAL | E94: 1 | F94: 1 | G94: 1
A95: 31-08-2022 | B95: 30-09-2022 | C95: 30 | D95: REAL | E95: 1 | F95: 0 | G95: 0
A96: 29-07-2022 | B96: 31-08-2022 | C96: 33 | D96: REAL | E96: 0 | F96: 0 | G96: 0
A97: 30-06-2022 | B97: 29-07-2022 | C97: 29 | D97: REAL | E97: 1 | F97: 1 | G97: 1
A98: 31-05-2022 | B98: 30-06-2022 | C98: 30 | D98: REAL | E98: 7 | F98: 0 | G98: 8
A99: 30-04-2022 | B99: 31-05-2022 | C99: 31 | D99: REAL | E99: 6 | F99: 6 | G99: 2
A100: 31-03-2022 | B100: 30-04-2022 | C100: 30 | D100: REAL | E100: 4 | F100: 5 | G100: 2
... A123: 01-06-2020 | B123: 30-06-2020 | C123: 29 | D123: REAL | E123: 10 | F123: 9 | G123: 5
A126: OPTIMIZACIÓN POTENCIA
A129: COMPENSACIÓN REACTIVA

Sheet 9002VV
A1: CONSUMO ACTIVA
A3: CONSUMO ANUAL: 153294kWh | B3: P1 + P4 | C3: P2 + P5 | D3: P3 + P6
A4: Consumo anual por periodos en kWh | B4: 44940 | C4: 32701 | D4: 75653
A5: Consumo anual por periodos en % | B5: 29 | C5: 21 | D5: 50
A6: Fecha inicial | B6: Fecha final | C6: Días | D6: Tipo | E6: P1 + P4 | F6: P2 + P5 | G6: P3 + P6 | H6: P1 | I6: P2 | J6: P3 | K6: P4 | L6: P5 | M6: P6 | N6: año
A7: 44074 | B7: 30-09-2020 | C7: 30 | D7: REAL | E7: 3428 | F7: 7065 | G7: 2889 | H7: =Tabla13[[#This Row],[P1 + P4]]*VLOOKUP(MONTH(Tabla13[[#This Row],[Fecha final]]),Tabla20[#All],2,FALSE) -> 0 | I7: =Tabla13[[#This Row],[P2 + P5]]*VLOOKUP(MONTH(Tabla13[[#This Row],[Fecha final]]),Tabla20[#All],3,FALSE) -> 0 | J7: =(Tabla13[[#This Row],[P3 + P6]])*VLOOKUP(MONTH(Tabla13[[#This Row],[Fecha final]]),Tabla20[#All],4,FALSE) -> 1010.5722 | K7: =Tabla13[[#This Row],[P1 + P4]]*VLOOKUP(MONTH(Tabla13[[#This Row],[Fecha final]]),Tabla20[#All],5,FALSE) -> 3428 | L7: =Tabla13[[#This Row],[P2 + P5]]*VLOOKUP(MONTH(Tabla13[[#This Row],[Fecha final]]),Tabla20[#All],6,FALSE) -> 0 | M7: =Tabla13[[#This Row],[P3 + P6]]*VLOOKUP(MONTH(Tabla13[[#This Row],[Fecha final]]),Tabla20[#All],7,FALSE) -> 1878.4278 | N7: =YEAR(Tabla13[[#This Row],[Fecha final]]) -> 2020
A8: 44104 | B8: 31-10-2020 | C8: 31 | D8: REAL | E8: 2744 | F8: 6627 | G8: 2765 | H8: =Tabla13[[#This Row],[P1 + P4]]*VLOOKUP(MONTH(Tabla13[[#This Row],[Fecha final]]),Tabla20[#All],2,FALSE) -> 0 | I8: =Tabla13[[#This Row],[P2 + P5]]*VLOOKUP(MONTH(Tabla13[[#This Row],[Fecha final]]),Tabla20[#All],3,FALSE) -> 0 | J8: =(Tabla13[[#This Row],[P3 + P6]])*VLOOKUP(MONTH(Tabla13[[#This Row],[Fecha final]]),Tabla20[#All],4,FALSE) -> 0 | K8: =Tabla13[[#This Row],[P1 + P4]]*VLOOKUP(MONTH(Tabla13[[#This Row],[Fecha final]]),Tabla20[#All],5,FALSE) -> 2744 | L8: =Tabla13[[#This Row],[P2 + P5]]*VLOOKUP(MONTH(Tabla13[[#This Row],[Fecha final]]),Tabla20[#All],6,FALSE) -> 6627 | M8: =Tabla13[[#This Row],[P3 + P6]]*VLOOKUP(MONTH(Tabla13[[#This Row],[Fecha final]]),Tabla20[#All],7,FALSE) -> 2765 | N8: =YEAR(Tabla13[[#This Row],[Fecha final]]) -> 2020
A9: 44135 | B9: 30-11-2020 | C9: 30 | D9: REAL | E9: 1577 | F9: 7758 | G9: 2844 | H9: =Tabla13[[#This Row],[P1 + P4]]*VLOOKUP(MONTH(Tabla13[[#This Row],[Fecha final]]),Tabla20[#All],2,FALSE) -> 0 | I9: =Tabla13[[#This Row],[P2 + P5]]*VLOOKUP(MONTH(Tabla13[[#This Row],[Fecha final]]),Tabla20[#All],3,FALSE) -> 7758 | J9: =(Tabla13[[#This Row],[P3 + P6]])*VLOOKUP(MONTH(Tabla13[[#This Row],[Fecha final]]),Tabla20[#All],4,FALSE) -> 787.2192 | K9: =Tabla13[[#This Row],[P1 + P4]]*VLOOKUP(MONTH(Tabla13[[#This Row],[Fecha final]]),Tabla20[#All],5,FALSE) -> 0 | L9: =Tabla13[[#This Row],[P2 + P5]]*VLOOKUP(MONTH(Tabla13[[#This Row],[Fecha final]]),Tabla20[#All],6,FALSE) -> 0 | M9: =Tabla13[[#This Row],[P3 + P6]]*VLOOKUP(MONTH(Tabla13[[#This Row],[Fecha final]]),Tabla20[#All],7,FALSE) -> 2056.7808 | N9: =YEAR(Tabla13[[#This Row],[Fecha final]]) -> 2020
A10: 44165 | B10: 31-12-2020 | C10: 31 | D10: REAL | E10: 1961 | F10: 9728 | G10: 3599 | H10: =Tabla13[[#This Row],[P1 + P4]]*VLOOKUP(MONTH(Tabla13[[#This Row],[Fecha final]]),Tabla20[#All],2,FALSE) -> 1961 | I10: =Tabla13[[#This Row],[P2 + P5]]*VLOOKUP(MONTH(Tabla13[[#This Row],[Fecha final]]),Tabla20[#All],3,FALSE) -> 9728 | J10: =(Tabla13[[#This Row],[P3 + P6]])*VLOOKUP(MONTH(Tabla13[[#This Row],[Fecha final]]),Tabla20[#All],4,FALSE) -> 0 | K10: =Tabla13[[#This Row],[P1 + P4]]*VLOOKUP(MONTH(Tabla13[[#This Row],[Fecha final]]),Tabla20[#All],5,FALSE) -> 0 | L10: =Tabla13[[#This Row],[P2 + P5]]*VLOOKUP(MONTH(Tabla13[[#This Row],[Fecha final]]),Tabla20[#All],6,FALSE) -> 0 | M10: =Tabla13[[#This Row],[P3 + P6]]*VLOOKUP(MONTH(Tabla13[[#This Row],[Fecha final]]),Tabla20[#All],7,FALSE) -> 3599 | N10: =YEAR(Tabla13[[#This Row],[Fecha final]]) -> 2020
A11: 44196 | B11: 31-01-2021 | C11: 31 | D11: REAL | E11: 2050 | F11: 10200 | G11: 3546 | H11: =Tabla13[[#This Row],[P1 + P4]]*VLOOKUP(MONTH(Tabla13[[#This Row],[Fecha final]]),Tabla20[#All],2,FALSE) -> 2050 | I11: =Tabla13[[#This Row],[P2 + P5]]*VLOOKUP(MONTH(Tabla13[[#This Row],[Fecha final]]),Tabla20[#All],3,FALSE) -> 10200 | J11: =(Tabla13[[#This Row],[P3 + P6]])*VLOOKUP(MONTH(Tabla13[[#This Row],[Fecha final]]),Tabla20[#All],4,FALSE) -> 0 | K11: =Tabla13[[#This Row],[P1 + P4]]*VLOOKUP(MONTH(Tabla13[[#This Row],[Fecha final]]),Tabla20[#All],5,FALSE) -> 0 | L11: =Tabla13[[#This Row],[P2 + P5]]*VLOOKUP(MONTH(Tabla13[[#This Row],[Fecha final]]),Tabla20[#All],6,FALSE) -> 0 | M11: =Tabla13[[#This Row],[P3 + P6]]*VLOOKUP(MONTH(Tabla13[[#This Row],[Fecha final]]),Tabla20[#All],7,FALSE) -> 3546 | N11: =YEAR(Tabla13[[#This Row],[Fecha final]]) -> 2021
A12: 44227 | B12: 28-02-2021 | C12: 28 | D12: REAL | E12: 1662 | F12: 8368 | G12: 2847 | H12: =Tabla13[[#This Row],[P1 + P4]]*VLOOKUP(MONTH(Tabla13[[#This Row],[Fecha final]]),Tabla20[#All],2,FALSE) -> 1662 | I12: =Tabla13[[#This Row],[P2 + P5]]*VLOOKUP(MONTH(Tabla13[[#This Row],[Fecha final]]),Tabla20[#All],3,FALSE) -> 8368 | J12: =(Tabla13[[#This Row],[P3 + P6]])*VLOOKUP(MONTH(Tabla13[[#This Row],[Fecha final]]),Tabla20[#All],4,FALSE) -> 0 | K12: =Tabla13[[#This Row],[P1 + P4]]*VLOOKUP(MONTH(Tabla13[[#This Row],[Fecha final]]),Tabla20[#All],5,FALSE) -> 0 | L12: =Tabla13[[#This Row],[P2 + P5]]*VLOOKUP(MONTH(Tabla13[[#This Row],[Fecha final]]),Tabla20[#All],6,FALSE) -> 0 | M12: =Tabla13[[#This Row],[P3 + P6]]*VLOOKUP(MONTH(Tabla13[[#This Row],[Fecha final]]),Tabla20[#All],7,FALSE) -> 2847 | N12: =YEAR(Tabla13[[#This Row],[Fecha final]]) -> 2021
A13: 44255 | B13: 31-03-2021 | C13: 31 | D13: REAL | E13: 1721 | F13: 7485 | G13: 3010 | H13: =Tabla13[[#This Row],[P1 + P4]]*VLOOKUP(MONTH(Tabla13[[#This Row],[Fecha final]]),Tabla20[#All],2,FALSE) -> 0 | I13: =Tabla13[[#This Row],[P2 + P5]]*VLOOKUP(MONTH(Tabla13[[#This Row],[Fecha final]]),Tabla20[#All],3,FALSE) -> 7485 | J13: =(Tabla13[[#This Row],[P3 + P6]])*VLOOKUP(MONTH(Tabla13[[#This Row],[Fecha final]]),Tabla20[#All],4,FALSE) -> 902.398 | K13: =Tabla13[[#This Row],[P1 + P4]]*VLOOKUP(MONTH(Tabla13[[#This Row],[Fecha final]]),Tabla20[#All],5,FALSE) -> 0 | L13: =Tabla13[[#This Row],[P2 + P5]]*VLOOKUP(MONTH(Tabla13[[#This Row],[Fecha final]]),Tabla20[#All],6,FALSE) -> 0 | M13: =Tabla13[[#This Row],[P3 + P6]]*VLOOKUP(MONTH(Tabla13[[#This Row],[Fecha final]]),Tabla20[#All],7,FALSE) -> 2107.602 | N13: =YEAR(Tabla13[[#This Row],[Fecha final]]) -> 2021
A14: 44286 | B14: 28-04-2021 | C14: 28 | D14: REAL | E14: 2593 | F14: 5623 | G14: 2438 | H14: =Tabla13[[#This Row],[P1 + P4]]*VLOOKUP(MONTH(Tabla13[[#This Row],[Fecha final]]),Tabla20[#All],2,FALSE) -> 0 | I14: =Tabla13[[#This Row],[P2 + P5]]*VLOOKUP(MONTH(Tabla13[[#This Row],[Fecha final]]),Tabla20[#All],3,FALSE) -> 0 | J14: =(Tabla13[[#This Row],[P3 + P6]])*VLOOKUP(MONTH(Tabla13[[#This Row],[Fecha final]]),Tabla20[#All],4,FALSE) -> 0 | K14: =Tabla13[[#This Row],[P1 + P4]]*VLOOKUP(MONTH(Tabla13[[#This Row],[Fecha final]]),Tabla20[#All],5,FALSE) -> 2593 | L14: =Tabla13[[#This Row],[P2 + P5]]*VLOOKUP(MONTH(Tabla13[[#This Row],[Fecha final]]),Tabla20[#All],6,FALSE) -> 5623 | M14: =Tabla13[[#This Row],[P3 + P6]]*VLOOKUP(MONTH(Tabla13[[#This Row],[Fecha final]]),Tabla20[#All],7,FALSE) -> 2438 | N14: =YEAR(Tabla13[[#This Row],[Fecha final]]) -> 2021
A15: 44314 | B15: 30-04-2021 | C15: 2 | D15: REAL | E15: 241 | F15: 471 | G15: 202 | H15: =Tabla13[[#This Row],[P1 + P4]]*VLOOKUP(MONTH(Tabla13[[#This Row],[Fecha final]]),Tabla20[#All],2,FALSE) -> 0 | I15: =Tabla13[[#This Row],[P2 + P5]]*VLOOKUP(MONTH(Tabla13[[#This Row],[Fecha final]]),Tabla20[#All],3,FALSE) -> 0 | J15: =(Tabla13[[#This Row],[P3 + P6]])*VLOOKUP(MONTH(Tabla13[[#This Row],[Fecha final]]),Tabla20[#All],4,FALSE) -> 0 | K15: =Tabla13[[#This Row],[P1 + P4]]*VLOOKUP(MONTH(Tabla13[[#This Row],[Fecha final]]),Tabla20[#All],5,FALSE) -> 241 | L15: =Tabla13[[#This Row],[P2 + P5]]*VLOOKUP(MONTH(Tabla13[[#This Row],[Fecha final]]),Tabla20[#All],6,FALSE) -> 471 | M15: =Tabla13[[#This Row],[P3 + P6]]*VLOOKUP(MONTH(Tabla13[[#This Row],[Fecha final]]),Tabla20[#All],7,FALSE) -> 202 | N15: =YEAR(Tabla13[[#This Row],[Fecha final]]) -> 2021
A16: 44316 | B16: 31-05-2021 | C16: 31 | D16: REAL | E16: 2977 | F16: 6225 | G16: 2644 | H16: =Tabla13[[#This Row],[P1 + P4]]*VLOOKUP(MONTH(Tabla13[[#This Row],[Fecha final]]),Tabla20[#All],2,FALSE) -> 0 | I16: =Tabla13[[#This Row],[P2 + P5]]*VLOOKUP(MONTH(Tabla13[[#This Row],[Fecha final]]),Tabla20[#All],3,FALSE) -> 0 | J16: =(Tabla13[[#This Row],[P3 + P6]])*VLOOKUP(MONTH(Tabla13[[#This Row],[Fecha final]]),Tabla20[#All],4,FALSE) -> 0 | K16: =Tabla13[[#This Row],[P1 + P4]]*VLOOKUP(MONTH(Tabla13[[#This Row],[Fecha final]]),Tabla20[#All],5,FALSE) -> 2977 | L16: =Tabla13[[#This Row],[P2 + P5]]*VLOOKUP(MONTH(Tabla13[[#This Row],[Fecha final]]),Tabla20[#All],6,FALSE) -> 6225 | M16: =Tabla13[[#This Row],[P3 + P6]]*VLOOKUP(MONTH(Tabla13[[#This Row],[Fecha final]]),Tabla20[#All],7,FALSE) -> 2644 | N16: =YEAR(Tabla13[[#This Row],[Fecha final]]) -> 2021
A17: 44347 | B17: 30-06-2021 | C17: 30 | D17: REAL | E17: 3702 | F17: 0 | G17: 9249 | H17: =Tabla13[[#This Row],[P1 + P4]]*VLOOKUP(MONTH(Tabla13[[#This Row],[Fecha final]]),Tabla20[#All],2,FALSE) -> 0 | I17: =Tabla13[[#This Row],[P2 + P5]]*VLOOKUP(MONTH(Tabla13[[#This Row],[Fecha final]]),Tabla20[#All],3,FALSE) -> 0 | J17: =(Tabla13[[#This Row],[P3 + P6]])*VLOOKUP(MONTH(Tabla13[[#This Row],[Fecha final]]),Tabla20[#All],4,FALSE) -> 3235.3002 | K17: =Tabla13[[#This Row],[P1 + P4]]*VLOOKUP(MONTH(Tabla13[[#This Row],[Fecha final]]),Tabla20[#All],5,FALSE) -> 3702 | L17: =Tabla13[[#This Row],[P2 + P5]]*VLOOKUP(MONTH(Tabla13[[#This Row],[Fecha final]]),Tabla20[#All],6,FALSE) -> 0 | M17: =Tabla13[[#This Row],[P3 + P6]]*VLOOKUP(MONTH(Tabla13[[#This Row],[Fecha final]]),Tabla20[#All],7,FALSE) -> 6013.6998 | N17: =YEAR(Tabla13[[#This Row],[Fecha final]]) -> 2021
A18: 44377 | B18: 31-07-2021 | C18: 31 | D18: REAL | E18: 5646 | F18: 3817 | G18: 4230 | H18: =Tabla13[[#This Row],[P1 + P4]]*VLOOKUP(MONTH(Tabla13[[#This Row],[Fecha final]]),Tabla20[#All],2,FALSE) -> 5646 | I18: =Tabla13[[#This Row],[P2 + P5]]*VLOOKUP(MONTH(Tabla13[[#This Row],[Fecha final]]),Tabla20[#All],3,FALSE) -> 3817 | J18: =(Tabla13[[#This Row],[P3 + P6]])*VLOOKUP(MONTH(Tabla13[[#This Row],[Fecha final]]),Tabla20[#All],4,FALSE) -> 0 | K18: =Tabla13[[#This Row],[P1 + P4]]*VLOOKUP(MONTH(Tabla13[[#This Row],[Fecha final]]),Tabla20[#All],5,FALSE) -> 0 | L18: =Tabla13[[#This Row],[P2 + P5]]*VLOOKUP(MONTH(Tabla13[[#This Row],[Fecha final]]),Tabla20[#All],6,FALSE) -> 0 | M18: =Tabla13[[#This Row],[P3 + P6]]*VLOOKUP(MONTH(Tabla13[[#This Row],[Fecha final]]),Tabla20[#All],7,FALSE) -> 4230 | N18: =YEAR(Tabla13[[#This Row],[Fecha final]]) -> 2021
... A41: 44985 | B41: 31-03-2023 | C41: 31 | D41: REAL | E41: 0 | F41: 4964 | G41: 7669 | H41: =Tabla13[[#This Row],[P1 + P4]]*VLOOKUP(MONTH(Tabla13[[#This Row],[Fecha final]]),Tabla20[#All],2,FALSE) -> 0 | I41: =Tabla13[[#This Row],[P2 + P5]]*VLOOKUP(MONTH(Tabla13[[#This Row],[Fecha final]]),Tabla20[#All],3,FALSE) -> 4964 | J41: =(Tabla13[[#This Row],[P3 + P6]])*VLOOKUP(MONTH(Tabla13[[#This Row],[Fecha final]]),Tabla20[#All],4,FALSE) -> 2299.1662 | K41: =Tabla13[[#This Row],[P1 + P4]]*VLOOKUP(MONTH(Tabla13[[#This Row],[Fecha final]]),Tabla20[#All],5,FALSE) -> 0 | L41: =Tabla13[[#This Row],[P2 + P5]]*VLOOKUP(MONTH(Tabla13[[#This Row],[Fecha final]]),Tabla20[#All],6,FALSE) -> 0 | M41: =Tabla13[[#This Row],[P3 + P6]]*VLOOKUP(MONTH(Tabla13[[#This Row],[Fecha final]]),Tabla20[#All],7,FALSE) -> 5369.8338 | N41: =YEAR(Tabla13[[#This Row],[Fecha final]]) -> 2023
E42: =SUBTOTAL(109,Tabla13[P1 + P4]) -> 106027 | F42: =SUBTOTAL(109,Tabla13[P2 + P5]) -> 137709 | G42: =SUBTOTAL(109,Tabla13[P3 + P6]) -> 210235 | H42: =SUBTOTAL(109,Tabla13[P1]) -> 50136 | I42: =SUBTOTAL(109,Tabla13[P2]) -> 98723 | J42: =SUBTOTAL(109,Tabla13[P3]) -> 35406.233 | K42: =SUBTOTAL(109,Tabla13[P4]) -> 52593 | L42: =SUBTOTAL(109,Tabla13[P5]) -> 31921 | M42: =SUBTOTAL(109,Tabla13[P6]) -> 174828.77
A44: CONSUMO REACTIVA
A46: Fecha inicial | B46: Fecha final | C46: Días | D46: Tipo | E46: P1 + P4 | F46: P2 + P5 | G46: P3 + P6
A47: 28-02-2023 | B47: 31-03-2023 | C47: 31 | D47: REAL | E47: 0 | F47: 0 | G47: 0
A48: 31-01-2023 | B48: 28-02-2023 | C48: 28 | D48: REAL | E48: 0 | F48: 0 | G48: 0
A49: 31-12-2022 | B49: 31-01-2023 | C49: 31 | D49: REAL | E49: 0 | F49: 0 | G49: 0
A50: 30-11-2022 | B50: 31-12-2022 | C50: 31 | D50: REAL | E50: 0 | F50: 0 | G50: 0
A51: 31-10-2022 | B51: 30-11-2022 | C51: 30 | D51: REAL | E51: 0 | F51: 0 | G51: 0
A52: 30-09-2022 | B52: 31-10-2022 | C52: 31 | D52: REAL | E52: 0 | F52: 0 | G52: 0
A53: 31-08-2022 | B53: 30-09-2022 | C53: 30 | D53: REAL | E53: 0 | F53: 0 | G53: 0
A54: 31-07-2022 | B54: 31-08-2022 | C54: 31 | D54: REAL | E54: 12 | F54: 0 | G54: 0
A55: 30-06-2022 | B55: 31-07-2022 | C55: 31 | D55: REAL | E55: 0 | F55: 0 | G55: 0
A56: 31-05-2022 | B56: 30-06-2022 | C56: 30 | D56: REAL | E56: 0 | F56: 0 | G56: 0
A57: 30-04-2022 | B57: 31-05-2022 | C57: 31 | D57: REAL | E57: 0 | F57: 0 | G57: 0
A58: 08-04-2022 | B58: 30-04-2022 | C58: 22 | D58: REAL | E58: 0 | F58: 0 | G58: 0
... A81: 31-08-2020 | B81: 30-09-2020 | C81: 30 | D81: REAL | E81: 554 | F81: 1174 | G81: 367
A84: MAXÍMETRO
A86: POTENCIAS CONTRATADAS | B86: P1 | C86: P2 | D86: P3
A87: Potencias Contratadas (kW) | B87: 125 | C87: 125 | D87: 125
A88: Fecha inicial | B88: Fecha final | C88: Días | D88: Tipo | E88: P1 | F88: P2 | G88: P3
A89: 28-02-2023 | B89: 31-03-2023 | C89: 31 | D89: REAL | E89: 0 | F89: 44 | G89: 44
A90: 31-01-2023 | B90: 28-02-2023 | C90: 28 | D90: REAL | E90: 48 | F90: 48 | G90: 44
A91: 31-12-2022 | B91: 31-01-2023 | C91: 31 | D91: REAL | E91: 48 | F91: 48 | G91: 40
A92: 30-11-2022 | B92: 31-12-2022 | C92: 31 | D92: REAL | E92: 48 | F92: 44 | G92: 36
A93: 31-10-2022 | B93: 30-11-2022 | C93: 30 | D93: REAL | E93: 0 | F93: 44 | G93: 40
A94: 30-09-2022 | B94: 31-10-2022 | C94: 31 | D94: REAL | E94: 40 | F94: 36 | G94: 32
A95: 31-08-2022 | B95: 30-09-2022 | C95: 30 | D95: REAL | E95: 44 | F95: 0 | G95: 44
A96: 31-07-2022 | B96: 31-08-2022 | C96: 31 | D96: REAL | E96: 44 | F96: 0 | G96: 44
A97: 30-06-2022 | B97: 31-07-2022 | C97: 31 | D97: REAL | E97: 48 | F97: 44 | G97: 36
A98: 31-05-2022 | B98: 30-06-2022 | C98: 30 | D98: REAL | E98: 44 | F98: 0 | G98: 48
A99: 30-04-2022 | B99: 31-05-2022 | C99: 31 | D99: REAL | E99: 46.846 | F99: 46.846 | G99: 38.329
A100: 08-04-2022 | B100: 30-04-2022 | C100: 22 | D100: REAL | E100: 42.87 | F100: 42.87 | G100: 30.009
... A123: 31-08-2020 | B123: 30-09-2020 | C123: 30 | D123: REAL | E123: 44 | F123: 43 | G123: 37
A126: OPTIMIZACIÓN POTENCIA
A129: COMPENSACIÓN REACTIVA

Sheet 9001VQ
A1: CONSUMO ACTIVA
A3: CONSUMO ANUAL: 150191kWh | B3: P1 + P4 | C3: P2 + P5 | D3: P3 + P6
A4: Consumo anual por periodos en kWh | B4: 45353 | C4: 27212 | D4: 77626
A5: Consumo anual por periodos en % | B5: 30 | C5: 18 | D5: 51
A6: Fecha inicial | B6: Fecha final | C6: Días | D6: Tipo | E6: P1 + P4 | F6: P2 + P5 | G6: P3 + P6 | H6: P1 | I6: P2 | J6: P3 | K6: P4 | L6: P5 | M6: P6 | N6: año
A7: 44012 | B7: 31-07-2020 | C7: 31 | D7: REAL | E7: 5588 | F7: 12027 | G7: 5091 | H7: =Tabla3[[#This Row],[P1 + P4]]*VLOOKUP(MONTH(Tabla3[[#This Row],[Fecha final]]),Tabla20[#All],2,FALSE) -> 5588 | I7: =Tabla3[[#This Row],[P2 + P5]]*VLOOKUP(MONTH(Tabla3[[#This Row],[Fecha final]]),Tabla20[#All],3,FALSE) -> 12027 | J7: =(Tabla3[[#This Row],[P3 + P6]])*VLOOKUP(MONTH(Tabla3[[#This Row],[Fecha final]]),Tabla20[#All],4,FALSE) -> 0 | K7: =Tabla3[[#This Row],[P1 + P4]]*VLOOKUP(MONTH(Tabla3[[#This Row],[Fecha final]]),Tabla20[#All],5,FALSE) -> 0 | L7: =Tabla3[[#This Row],[P2 + P5]]*VLOOKUP(MONTH(Tabla3[[#This Row],[Fecha final]]),Tabla20[#All],6,FALSE) -> 0 | M7: =Tabla3[[#This Row],[P3 + P6]]*VLOOKUP(MONTH(Tabla3[[#This Row],[Fecha final]]),Tabla20[#All],7,FALSE) -> 5091 | N7: =YEAR(Tabla3[[#This Row],[Fecha final]]) -> 2020
A8: 44043 | B8: 31-08-2020 | C8: 31 | D8: REAL | E8: 5215 | F8: 11401 | G8: 5089 | H8: =Tabla3[[#This Row],[P1 + P4]]*VLOOKUP(MONTH(Tabla3[[#This Row],[Fecha final]]),Tabla20[#All],2,FALSE) -> 0 | I8: =Tabla3[[#This Row],[P2 + P5]]*VLOOKUP(MONTH(Tabla3[[#This Row],[Fecha final]]),Tabla20[#All],3,FALSE) -> 0 | J8: =(Tabla3[[#This Row],[P3 + P6]])*VLOOKUP(MONTH(Tabla3[[#This Row],[Fecha final]]),Tabla20[#All],4,FALSE) -> 1707.8684 | K8: =Tabla3[[#This Row],[P1 + P4]]*VLOOKUP(MONTH(Tabla3[[#This Row],[Fecha final]]),Tabla20[#All],5,FALSE) -> 5215 | L8: =Tabla3[[#This Row],[P2 + P5]]*VLOOKUP(MONTH(Tabla3[[#This Row],[Fecha final]]),Tabla20[#All],6,FALSE) -> 0 | M8: =Tabla3[[#This Row],[P3 + P6]]*VLOOKUP(MONTH(Tabla3[[#This Row],[Fecha final]]),Tabla20[#All],7,FALSE) -> 3381.1316 | N8: =YEAR(Tabla3[[#This Row],[Fecha final]]) -> 2020
A9: 44074 | B9: 30-09-2020 | C9: 30 | D9: REAL | E9: 3478 | F9: 7880 | G9: 3581 | H9: =Tabla3[[#This Row],[P1 + P4]]*VLOOKUP(MONTH(Tabla3[[#This Row],[Fecha final]]),Tabla20[#All],2,FALSE) -> 0 | I9: =Tabla3[[#This Row],[P2 + P5]]*VLOOKUP(MONTH(Tabla3[[#This Row],[Fecha final]]),Tabla20[#All],3,FALSE) -> 0 | J9: =(Tabla3[[#This Row],[P3 + P6]])*VLOOKUP(MONTH(Tabla3[[#This Row],[Fecha final]]),Tabla20[#All],4,FALSE) -> 1252.6338 | K9: =Tabla3[[#This Row],[P1 + P4]]*VLOOKUP(MONTH(Tabla3[[#This Row],[Fecha final]]),Tabla20[#All],5,FALSE) -> 3478 | L9: =Tabla3[[#This Row],[P2 + P5]]*VLOOKUP(MONTH(Tabla3[[#This Row],[Fecha final]]),Tabla20[#All],6,FALSE) -> 0 | M9: =Tabla3[[#This Row],[P3 + P6]]*VLOOKUP(MONTH(Tabla3[[#This Row],[Fecha final]]),Tabla20[#All],7,FALSE) -> 2328.3662 | N9: =YEAR(Tabla3[[#This Row],[Fecha final]]) -> 2020
A10: 44104 | B10: 31-10-2020 | C10: 31 | D10: REAL | E10: 1808 | F10: 4656 | G10: 2734 | H10: =Tabla3[[#This Row],[P1 + P4]]*VLOOKUP(MONTH(Tabla3[[#This Row],[Fecha final]]),Tabla20[#All],2,FALSE) -> 0 | I10: =Tabla3[[#This Row],[P2 + P5]]*VLOOKUP(MONTH(Tabla3[[#This Row],[Fecha final]]),Tabla20[#All],3,FALSE) -> 0 | J10: =(Tabla3[[#This Row],[P3 + P6]])*VLOOKUP(MONTH(Tabla3[[#This Row],[Fecha final]]),Tabla20[#All],4,FALSE) -> 0 | K10: =Tabla3[[#This Row],[P1 + P4]]*VLOOKUP(MONTH(Tabla3[[#This Row],[Fecha final]]),Tabla20[#All],5,FALSE) -> 1808 | L10: =Tabla3[[#This Row],[P2 + P5]]*VLOOKUP(MONTH(Tabla3[[#This Row],[Fecha final]]),Tabla20[#All],6,FALSE) -> 4656 | M10: =Tabla3[[#This Row],[P3 + P6]]*VLOOKUP(MONTH(Tabla3[[#This Row],[Fecha final]]),Tabla20[#All],7,FALSE) -> 2734 | N10: =YEAR(Tabla3[[#This Row],[Fecha final]]) -> 2020
A11: 44135 | B11: 30-11-2020 | C11: 30 | D11: REAL | E11: 1552 | F11: 5922 | G11: 3169 | H11: =Tabla3[[#This Row],[P1 + P4]]*VLOOKUP(MONTH(Tabla3[[#This Row],[Fecha final]]),Tabla20[#All],2,FALSE) -> 0 | I11: =Tabla3[[#This Row],[P2 + P5]]*VLOOKUP(MONTH(Tabla3[[#This Row],[Fecha final]]),Tabla20[#All],3,FALSE) -> 5922 | J11: =(Tabla3[[#This Row],[P3 + P6]])*VLOOKUP(MONTH(Tabla3[[#This Row],[Fecha final]]),Tabla20[#All],4,FALSE) -> 877.1792 | K11: =Tabla3[[#This Row],[P1 + P4]]*VLOOKUP(MONTH(Tabla3[[#This Row],[Fecha final]]),Tabla20[#All],5,FALSE) -> 0 | L11: =Tabla3[[#This Row],[P2 + P5]]*VLOOKUP(MONTH(Tabla3[[#This Row],[Fecha final]]),Tabla20[#All],6,FALSE) -> 0 | M11: =Tabla3[[#This Row],[P3 + P6]]*VLOOKUP(MONTH(Tabla3[[#This Row],[Fecha final]]),Tabla20[#All],7,FALSE) -> 2291.8208 | N11: =YEAR(Tabla3[[#This Row],[Fecha final]]) -> 2020
A12: 44165 | B12: 31-12-2020 | C12: 31 | D12: REAL | E12: 1940 | F12: 8469 | G12: 4081 | H12: =Tabla3[[#This Row],[P1 + P4]]*VLOOKUP(MONTH(Tabla3[[#This Row],[Fecha final]]),Tabla20[#All],2,FALSE) -> 1940 | I12: =Tabla3[[#This Row],[P2 + P5]]*VLOOKUP(MONTH(Tabla3[[#This Row],[Fecha final]]),Tabla20[#All],3,FALSE) -> 8469 | J12: =(Tabla3[[#This Row],[P3 + P6]])*VLOOKUP(MONTH(Tabla3[[#This Row],[Fecha final]]),Tabla20[#All],4,FALSE) -> 0 | K12: =Tabla3[[#This Row],[P1 + P4]]*VLOOKUP(MONTH(Tabla3[[#This Row],[Fecha final]]),Tabla20[#All],5,FALSE) -> 0 | L12: =Tabla3[[#This Row],[P2 + P5]]*VLOOKUP(MONTH(Tabla3[[#This Row],[Fecha final]]),Tabla20[#All],6,FALSE) -> 0 | M12: =Tabla3[[#This Row],[P3 + P6]]*VLOOKUP(MONTH(Tabla3[[#This Row],[Fecha final]]),Tabla20[#All],7,FALSE) -> 4081 | N12: =YEAR(Tabla3[[#This Row],[Fecha final]]) -> 2020
A13: 44196 | B13: 31-01-2021 | C13: 31 | D13: REAL | E13: 2266 | F13: 9888 | G13: 4641 | H13: =Tabla3[[#This Row],[P1 + P4]]*VLOOKUP(MONTH(Tabla3[[#This Row],[Fecha final]]),Tabla20[#All],2,FALSE) -> 2266 | I13: =Tabla3[[#This Row],[P2 + P5]]*VLOOKUP(MONTH(Tabla3[[#This Row],[Fecha final]]),Tabla20[#All],3,FALSE) -> 9888 | J13: =(Tabla3[[#This Row],[P3 + P6]])*VLOOKUP(MONTH(Tabla3[[#This Row],[Fecha final]]),Tabla20[#All],4,FALSE) -> 0 | K13: =Tabla3[[#This Row],[P1 + P4]]*VLOOKUP(MONTH(Tabla3[[#This Row],[Fecha final]]),Tabla20[#All],5,FALSE) -> 0 | L13: =Tabla3[[#This Row],[P2 + P5]]*VLOOKUP(MONTH(Tabla3[[#This Row],[Fecha final]]),Tabla20[#All],6,FALSE) -> 0 | M13: =Tabla3[[#This Row],[P3 + P6]]*VLOOKUP(MONTH(Tabla3[[#This Row],[Fecha final]]),Tabla20[#All],7,FALSE) -> 4641 | N13: =YEAR(Tabla3[[#This Row],[Fecha final]]) -> 2021
A14: 44227 | B14: 28-02-2021 | C14: 28 | D14: REAL | E14: 1680 | F14: 6887 | G14: 3335 | H14: =Tabla3[[#This Row],[P1 + P4]]*VLOOKUP(MONTH(Tabla3[[#This Row],[Fecha final]]),Tabla20[#All],2,FALSE) -> 1680 | I14: =Tabla3[[#This Row],[P2 + P5]]*VLOOKUP(MONTH(Tabla3[[#This Row],[Fecha final]]),Tabla20[#All],3,FALSE) -> 6887 | J14: =(Tabla3[[#This Row],[P3 + P6]])*VLOOKUP(MONTH(Tabla3[[#This Row],[Fecha final]]),Tabla20[#All],4,FALSE) -> 0 | K14: =Tabla3[[#This Row],[P1 + P4]]*VLOOKUP(MONTH(Tabla3[[#This Row],[Fecha final]]),Tabla20[#All],5,FALSE) -> 0 | L14: =Tabla3[[#This Row],[P2 + P5]]*VLOOKUP(MONTH(Tabla3[[#This Row],[Fecha final]]),Tabla20[#All],6,FALSE) -> 0 | M14: =Tabla3[[#This Row],[P3 + P6]]*VLOOKUP(MONTH(Tabla3[[#This Row],[Fecha final]]),Tabla20[#All],7,FALSE) -> 3335 | N14: =YEAR(Tabla3[[#This Row],[Fecha final]]) -> 2021
A15: 44255 | B15: 31-03-2021 | C15: 31 | D15: REAL | E15: 1838 | F15: 6718 | G15: 3527 | H15: =Tabla3[[#This Row],[P1 + P4]]*VLOOKUP(MONTH(Tabla3[[#This Row],[Fecha final]]),Tabla20[#All],2,FALSE) -> 0 | I15: =Tabla3[[#This Row],[P2 + P5]]*VLOOKUP(MONTH(Tabla3[[#This Row],[Fecha final]]),Tabla20[#All],3,FALSE) -> 6718 | J15: =(Tabla3[[#This Row],[P3 + P6]])*VLOOKUP(MONTH(Tabla3[[#This Row],[Fecha final]]),Tabla20[#All],4,FALSE) -> 1057.3946 | K15: =Tabla3[[#This Row],[P1 + P4]]*VLOOKUP(MONTH(Tabla3[[#This Row],[Fecha final]]),Tabla20[#All],5,FALSE) -> 0 | L15: =Tabla3[[#This Row],[P2 + P5]]*VLOOKUP(MONTH(Tabla3[[#This Row],[Fecha final]]),Tabla20[#All],6,FALSE) -> 0 | M15: =Tabla3[[#This Row],[P3 + P6]]*VLOOKUP(MONTH(Tabla3[[#This Row],[Fecha final]]),Tabla20[#All],7,FALSE) -> 2469.6054 | N15: =YEAR(Tabla3[[#This Row],[Fecha final]]) -> 2021
A16: 44286 | B16: 28-04-2021 | C16: 28 | D16: REAL | E16: 1948 | F16: 4865 | G16: 2790 | H16: =Tabla3[[#This Row],[P1 + P4]]*VLOOKUP(MONTH(Tabla3[[#This Row],[Fecha final]]),Tabla20[#All],2,FALSE) -> 0 | I16: =Tabla3[[#This Row],[P2 + P5]]*VLOOKUP(MONTH(Tabla3[[#This Row],[Fecha final]]),Tabla20[#All],3,FALSE) -> 0 | J16: =(Tabla3[[#This Row],[P3 + P6]])*VLOOKUP(MONTH(Tabla3[[#This Row],[Fecha final]]),Tabla20[#All],4,FALSE) -> 0 | K16: =Tabla3[[#This Row],[P1 + P4]]*VLOOKUP(MONTH(Tabla3[[#This Row],[Fecha final]]),Tabla20[#All],5,FALSE) -> 1948 | L16: =Tabla3[[#This Row],[P2 + P5]]*VLOOKUP(MONTH(Tabla3[[#This Row],[Fecha final]]),Tabla20[#All],6,FALSE) -> 4865 | M16: =Tabla3[[#This Row],[P3 + P6]]*VLOOKUP(MONTH(Tabla3[[#This Row],[Fecha final]]),Tabla20[#All],7,FALSE) -> 2790 | N16: =YEAR(Tabla3[[#This Row],[Fecha final]]) -> 2021
A17: 44314 | B17: 30-04-2021 | C17: 2 | D17: REAL | E17: 125 | F17: 313 | G17: 164 | H17: =Tabla3[[#This Row],[P1 + P4]]*VLOOKUP(MONTH(Tabla3[[#This Row],[Fecha final]]),Tabla20[#All],2,FALSE) -> 0 | I17: =Tabla3[[#This Row],[P2 + P5]]*VLOOKUP(MONTH(Tabla3[[#This Row],[Fecha final]]),Tabla20[#All],3,FALSE) -> 0 | J17: =(Tabla3[[#This Row],[P3 + P6]])*VLOOKUP(MONTH(Tabla3[[#This Row],[Fecha final]]),Tabla20[#All],4,FALSE) -> 0 | K17: =Tabla3[[#This Row],[P1 + P4]]*VLOOKUP(MONTH(Tabla3[[#This Row],[Fecha final]]),Tabla20[#All],5,FALSE) -> 125 | L17: =Tabla3[[#This Row],[P2 + P5]]*VLOOKUP(MONTH(Tabla3[[#This Row],[Fecha final]]),Tabla20[#All],6,FALSE) -> 313 | M17: =Tabla3[[#This Row],[P3 + P6]]*VLOOKUP(MONTH(Tabla3[[#This Row],[Fecha final]]),Tabla20[#All],7,FALSE) -> 164 | N17: =YEAR(Tabla3[[#This Row],[Fecha final]]) -> 2021
A18: 44316 | B18: 31-05-2021 | C18: 31 | D18: REAL | E18: 1420 | F18: 3706 | G18: 2089 | H18: =Tabla3[[#This Row],[P1 + P4]]*VLOOKUP(MONTH(Tabla3[[#This Row],[Fecha final]]),Tabla20[#All],2,FALSE) -> 0 | I18: =Tabla3[[#This Row],[P2 + P5]]*VLOOKUP(MONTH(Tabla3[[#This Row],[Fecha final]]),Tabla20[#All],3,FALSE) -> 0 | J18: =(Tabla3[[#This Row],[P3 + P6]])*VLOOKUP(MONTH(Tabla3[[#This Row],[Fecha final]]),Tabla20[#All],4,FALSE) -> 0 | K18: =Tabla3[[#This Row],[P1 + P4]]*VLOOKUP(MONTH(Tabla3[[#This Row],[Fecha final]]),Tabla20[#All],5,FALSE) -> 1420 | L18: =Tabla3[[#This Row],[P2 + P5]]*VLOOKUP(MONTH(Tabla3[[#This Row],[Fecha final]]),Tabla20[#All],6,FALSE) -> 3706 | M18: =Tabla3[[#This Row],[P3 + P6]]*VLOOKUP(MONTH(Tabla3[[#This Row],[Fecha final]]),Tabla20[#All],7,FALSE) -> 2089 | N18: =YEAR(Tabla3[[#This Row],[Fecha final]]) -> 2021
... A41: 44985 | B41: 31-03-2023 | C41: 31 | D41: REAL | E41: 0 | F41: 3163 | G41: 5547 | H41: =Tabla3[[#This Row],[P1 + P4]]*VLOOKUP(MONTH(Tabla3[[#This Row],[Fecha final]]),Tabla20[#All],2,FALSE) -> 0 | I41: =Tabla3[[#This Row],[P2 + P5]]*VLOOKUP(MONTH(Tabla3[[#This Row],[Fecha final]]),Tabla20[#All],3,FALSE) -> 3163 | J41: =(Tabla3[[#This Row],[P3 + P6]])*VLOOKUP(MONTH(Tabla3[[#This Row],[Fecha final]]),Tabla20[#All],4,FALSE) -> 1662.9906 | K41: =Tabla3[[#This Row],[P1 + P4]]*VLOOKUP(MONTH(Tabla3[[#This Row],[Fecha final]]),Tabla20[#All],5,FALSE) -> 0 | L41: =Tabla3[[#This Row],[P2 + P5]]*VLOOKUP(MONTH(Tabla3[[#This Row],[Fecha final]]),Tabla20[#All],6,FALSE) -> 0 | M41: =Tabla3[[#This Row],[P3 + P6]]*VLOOKUP(MONTH(Tabla3[[#This Row],[Fecha final]]),Tabla20[#All],7,FALSE) -> 3884.0094 | N41: =YEAR(Tabla3[[#This Row],[Fecha final]]) -> 2023
E42: =SUBTOTAL(109,Tabla3[P1 + P4]) -> 113077 | F42: =SUBTOTAL(109,Tabla3[P2 + P5]) -> 135571 | G42: =SUBTOTAL(109,Tabla3[P3 + P6]) -> 189274 | H42: =SUBTOTAL(109,Tabla3[P1]) -> 54252 | I42: =SUBTOTAL(109,Tabla3[P2]) -> 93623 | J42: =SUBTOTAL(109,Tabla3[P3]) -> 36403.867 | K42: =SUBTOTAL(109,Tabla3[P4]) -> 55435 | L42: =SUBTOTAL(109,Tabla3[P5]) -> 22667 | M42: =SUBTOTAL(109,Tabla3[P6]) -> 152870.13
A44: CONSUMO REACTIVA
A46: Fecha inicial | B46: Fecha final | C46: Días | D46: Tipo | E46: P1 + P4 | F46: P2 + P5 | G46: P3 + P6
A47: 28-02-2023 | B47: 31-03-2023 | C47: 31 | D47: REAL | E47: 0 | F47: 0 | G47: 0
A48: 31-01-2023 | B48: 28-02-2023 | C48: 28 | D48: REAL | E48: 0 | F48: 0 | G48: 0
A49: 31-12-2022 | B49: 31-01-2023 | C49: 31 | D49: REAL | E49: 0 | F49: 0 | G49: 0
A50: 30-11-2022 | B50: 31-12-2022 | C50: 31 | D50: REAL | E50: 0 | F50: 0 | G50: 0
A51: 31-10-2022 | B51: 30-11-2022 | C51: 30 | D51: REAL | E51: 0 | F51: 0 | G51: 0
A52: 30-09-2022 | B52: 31-10-2022 | C52: 31 | D52: REAL | E52: 0 | F52: 0 | G52: 0
A53: 31-08-2022 | B53: 30-09-2022 | C53: 30 | D53: REAL | E53: 0 | F53: 0 | G53: 0
A54: 31-07-2022 | B54: 31-08-2022 | C54: 31 | D54: REAL | E54: 0 | F54: 0 | G54: 0
A55: 30-06-2022 | B55: 31-07-2022 | C55: 31 | D55: REAL | E55: 0 | F55: 0 | G55: 0
A56: 31-05-2022 | B56: 30-06-2022 | C56: 30 | D56: REAL | E56: 0 | F56: 0 | G56: 0
A57: 30-04-2022 | B57: 31-05-2022 | C57: 31 | D57: REAL | E57: 0 | F57: 0 | G57: 0
A58: 31-03-2022 | B58: 30-04-2022 | C58: 30 | D58: REAL | E58: 0 | F58: 0 | G58: 0
... A81: 30-06-2020 | B81: 31-07-2020 | C81: 31 | D81: REAL | E81: 57 | F81: 146 | G81: 100
A84: MAXÍMETRO
A86: POTENCIAS CONTRATADAS | B86: P1 | C86: P2 | D86: P3
A87: Potencias Contratadas (kW) | B87: 80 | C87: 80 | D87: 80
A88: Fecha inicial | B88: Fecha final | C88: Días | D88: Tipo | E88: P1 | F88: P2 | G88: P3
A89: 28-02-2023 | B89: 31-03-2023 | C89: 31 | D89: REAL | E89: 0 | F89: 52 | G89: 68
A90: 31-01-2023 | B90: 28-02-2023 | C90: 28 | D90: REAL | E90: 52 | F90: 56 | G90: 80
A91: 31-12-2022 | B91: 31-01-2023 | C91: 31 | D91: REAL | E91: 88 | F91: 120 | G91: 112
A92: 30-11-2022 | B92: 31-12-2022 | C92: 31 | D92: REAL | E92: 52 | F92: 52 | G92: 68
A93: 31-10-2022 | B93: 30-11-2022 | C93: 30 | D93: REAL | E93: 0 | F93: 52 | G93: 52
A94: 30-09-2022 | B94: 31-10-2022 | C94: 31 | D94: REAL | E94: 40 | F94: 40 | G94: 60
A95: 31-08-2022 | B95: 30-09-2022 | C95: 30 | D95: REAL | E95: 48 | F95: 0 | G95: 64
A96: 31-07-2022 | B96: 31-08-2022 | C96: 31 | D96: REAL | E96: 80 | F96: 0 | G96: 80
A97: 30-06-2022 | B97: 31-07-2022 | C97: 31 | D97: REAL | E97: 92 | F97: 96 | G97: 68
A98: 31-05-2022 | B98: 30-06-2022 | C98: 30 | D98: REAL | E98: 76 | F98: 0 | G98: 80
A99: 30-04-2022 | B99: 31-05-2022 | C99: 31 | D99: REAL | E99: 84 | F99: 64 | G99: 80
A100: 31-03-2022 | B100: 30-04-2022 | C100: 30 | D100: REAL | E100: 52 | F100: 52 | G100: 52
... A123: 30-06-2020 | B123: 31-07-2020 | C123: 31 | D123: REAL | E123: 76 | F123: 81 | G123: 64
A126: OPTIMIZACIÓN POTENCIA
A129: COMPENSACIÓN REACTIVA

Sheet 1026AP
A1: CONSUMO ACTIVA
A3: CONSUMO ANUAL: 72355kWh | B3: P1 + P4 | C3: P2 + P5 | D3: P3 + P6
A4: Consumo anual por periodos en kWh | B4: 28258 | C4: 21686 | D4: 22411
A5: Consumo anual por periodos en % | B5: 39 | C5: 30 | D5: 31
A6: Fecha inicial | B6: Fecha final | C6: Días | D6: Tipo | E6: P1 + P4 | F6: P2 + P5 | G6: P3 + P6 | H6: P1 | I6: P2 | J6: P3 | K6: P4 | L6: P5 | M6: P6 | N6: año
A7: 43982 | B7: 30-06-2020 | C7: 30 | D7: REAL | E7: 1975 | F7: 3628 | G7: 597 | H7: =Tabla4[[#This Row],[P1 + P4]]*VLOOKUP(MONTH(Tabla4[[#This Row],[Fecha final]]),Tabla20[#All],2,FALSE) -> 0 | I7: =Tabla4[[#This Row],[P2 + P5]]*VLOOKUP(MONTH(Tabla4[[#This Row],[Fecha final]]),Tabla20[#All],3,FALSE) -> 0 | J7: =(Tabla4[[#This Row],[P3 + P6]])*VLOOKUP(MONTH(Tabla4[[#This Row],[Fecha final]]),Tabla20[#All],4,FALSE) -> 208.8306 | K7: =Tabla4[[#This Row],[P1 + P4]]*VLOOKUP(MONTH(Tabla4[[#This Row],[Fecha final]]),Tabla20[#All],5,FALSE) -> 1975 | L7: =Tabla4[[#This Row],[P2 + P5]]*VLOOKUP(MONTH(Tabla4[[#This Row],[Fecha final]]),Tabla20[#All],6,FALSE) -> 0 | M7: =Tabla4[[#This Row],[P3 + P6]]*VLOOKUP(MONTH(Tabla4[[#This Row],[Fecha final]]),Tabla20[#All],7,FALSE) -> 388.1694 | N7: =YEAR(Tabla3[[#This Row],[Fecha final]]) -> 2020
A8: 44012 | B8: 31-07-2020 | C8: 31 | D8: REAL | E8: 3223 | F8: 5708 | G8: 794 | H8: =Tabla4[[#This Row],[P1 + P4]]*VLOOKUP(MONTH(Tabla4[[#This Row],[Fecha final]]),Tabla20[#All],2,FALSE) -> 3223 | I8: =Tabla4[[#This Row],[P2 + P5]]*VLOOKUP(MONTH(Tabla4[[#This Row],[Fecha final]]),Tabla20[#All],3,FALSE) -> 5708 | J8: =(Tabla4[[#This Row],[P3 + P6]])*VLOOKUP(MONTH(Tabla4[[#This Row],[Fecha final]]),Tabla20[#All],4,FALSE) -> 0 | K8: =Tabla4[[#This Row],[P1 + P4]]*VLOOKUP(MONTH(Tabla4[[#This Row],[Fecha final]]),Tabla20[#All],5,FALSE) -> 0 | L8: =Tabla4[[#This Row],[P2 + P5]]*VLOOKUP(MONTH(Tabla4[[#This Row],[Fecha final]]),Tabla20[#All],6,FALSE) -> 0 | M8: =Tabla4[[#This Row],[P3 + P6]]*VLOOKUP(MONTH(Tabla4[[#This Row],[Fecha final]]),Tabla20[#All],7,FALSE) -> 794 | N8: =YEAR(Tabla3[[#This Row],[Fecha final]]) -> 2020
A9: 44043 | B9: 31-08-2020 | C9: 31 | D9: REAL | E9: 2578 | F9: 3327 | G9: 762 | H9: =Tabla4[[#This Row],[P1 + P4]]*VLOOKUP(MONTH(Tabla4[[#This Row],[Fecha final]]),Tabla20[#All],2,FALSE) -> 0 | I9: =Tabla4[[#This Row],[P2 + P5]]*VLOOKUP(MONTH(Tabla4[[#This Row],[Fecha final]]),Tabla20[#All],3,FALSE) -> 0 | J9: =(Tabla4[[#This Row],[P3 + P6]])*VLOOKUP(MONTH(Tabla4[[#This Row],[Fecha final]]),Tabla20[#All],4,FALSE) -> 255.7272 | K9: =Tabla4[[#This Row],[P1 + P4]]*VLOOKUP(MONTH(Tabla4[[#This Row],[Fecha final]]),Tabla20[#All],5,FALSE) -> 2578 | L9: =Tabla4[[#This Row],[P2 + P5]]*VLOOKUP(MONTH(Tabla4[[#This Row],[Fecha final]]),Tabla20[#All],6,FALSE) -> 0 | M9: =Tabla4[[#This Row],[P3 + P6]]*VLOOKUP(MONTH(Tabla4[[#This Row],[Fecha final]]),Tabla20[#All],7,FALSE) -> 506.2728 | N9: =YEAR(Tabla3[[#This Row],[Fecha final]]) -> 2020
A10: 44074 | B10: 30-09-2020 | C10: 30 | D10: REAL | E10: 2121 | F10: 4015 | G10: 619 | H10: =Tabla4[[#This Row],[P1 + P4]]*VLOOKUP(MONTH(Tabla4[[#This Row],[Fecha final]]),Tabla20[#All],2,FALSE) -> 0 | I10: =Tabla4[[#This Row],[P2 + P5]]*VLOOKUP(MONTH(Tabla4[[#This Row],[Fecha final]]),Tabla20[#All],3,FALSE) -> 0 | J10: =(Tabla4[[#This Row],[P3 + P6]])*VLOOKUP(MONTH(Tabla4[[#This Row],[Fecha final]]),Tabla20[#All],4,FALSE) -> 216.5262 | K10: =Tabla4[[#This Row],[P1 + P4]]*VLOOKUP(MONTH(Tabla4[[#This Row],[Fecha final]]),Tabla20[#All],5,FALSE) -> 2121 | L10: =Tabla4[[#This Row],[P2 + P5]]*VLOOKUP(MONTH(Tabla4[[#This Row],[Fecha final]]),Tabla20[#All],6,FALSE) -> 0 | M10: =Tabla4[[#This Row],[P3 + P6]]*VLOOKUP(MONTH(Tabla4[[#This Row],[Fecha final]]),Tabla20[#All],7,FALSE) -> 402.4738 | N10: =YEAR(Tabla3[[#This Row],[Fecha final]]) -> 2020
A11: 44104 | B11: 31-10-2020 | C11: 31 | D11: REAL | E11: 1162 | F11: 2680 | G11: 445 | H11: =Tabla4[[#This Row],[P1 + P4]]*VLOOKUP(MONTH(Tabla4[[#This Row],[Fecha final]]),Tabla20[#All],2,FALSE) -> 0 | I11: =Tabla4[[#This Row],[P2 + P5]]*VLOOKUP(MONTH(Tabla4[[#This Row],[Fecha final]]),Tabla20[#All],3,FALSE) -> 0 | J11: =(Tabla4[[#This Row],[P3 + P6]])*VLOOKUP(MONTH(Tabla4[[#This Row],[Fecha final]]),Tabla20[#All],4,FALSE) -> 0 | K11: =Tabla4[[#This Row],[P1 + P4]]*VLOOKUP(MONTH(Tabla4[[#This Row],[Fecha final]]),Tabla20[#All],5,FALSE) -> 1162 | L11: =Tabla4[[#This Row],[P2 + P5]]*VLOOKUP(MONTH(Tabla4[[#This Row],[Fecha final]]),Tabla20[#All],6,FALSE) -> 2680 | M11: =Tabla4[[#This Row],[P3 + P6]]*VLOOKUP(MONTH(Tabla4[[#This Row],[Fecha final]]),Tabla20[#All],7,FALSE) -> 445 | N11: =YEAR(Tabla3[[#This Row],[Fecha final]]) -> 2020
A12: 44135 | B12: 30-11-2020 | C12: 30 | D12: REAL | E12: 675 | F12: 2775 | G12: 502 | H12: =Tabla4[[#This Row],[P1 + P4]]*VLOOKUP(MONTH(Tabla4[[#This Row],[Fecha final]]),Tabla20[#All],2,FALSE) -> 0 | I12: =Tabla4[[#This Row],[P2 + P5]]*VLOOKUP(MONTH(Tabla4[[#This Row],[Fecha final]]),Tabla20[#All],3,FALSE) -> 2775 | J12: =(Tabla4[[#This Row],[P3 + P6]])*VLOOKUP(MONTH(Tabla4[[#This Row],[Fecha final]]),Tabla20[#All],4,FALSE) -> 138.9536 | K12: =Tabla4[[#This Row],[P1 + P4]]*VLOOKUP(MONTH(Tabla4[[#This Row],[Fecha final]]),Tabla20[#All],5,FALSE) -> 0 | L12: =Tabla4[[#This Row],[P2 + P5]]*VLOOKUP(MONTH(Tabla4[[#This Row],[Fecha final]]),Tabla20[#All],6,FALSE) -> 0 | M12: =Tabla4[[#This Row],[P3 + P6]]*VLOOKUP(MONTH(Tabla4[[#This Row],[Fecha final]]),Tabla20[#All],7,FALSE) -> 363.0464 | N12: =YEAR(Tabla3[[#This Row],[Fecha final]]) -> 2020
A13: 44165 | B13: 31-12-2020 | C13: 31 | D13: REAL | E13: 936 | F13: 5119 | G13: 667 | H13: =Tabla4[[#This Row],[P1 + P4]]*VLOOKUP(MONTH(Tabla4[[#This Row],[Fecha final]]),Tabla20[#All],2,FALSE) -> 936 | I13: =Tabla4[[#This Row],[P2 + P5]]*VLOOKUP(MONTH(Tabla4[[#This Row],[Fecha final]]),Tabla20[#All],3,FALSE) -> 5119 | J13: =(Tabla4[[#This Row],[P3 + P6]])*VLOOKUP(MONTH(Tabla4[[#This Row],[Fecha final]]),Tabla20[#All],4,FALSE) -> 0 | K13: =Tabla4[[#This Row],[P1 + P4]]*VLOOKUP(MONTH(Tabla4[[#This Row],[Fecha final]]),Tabla20[#All],5,FALSE) -> 0 | L13: =Tabla4[[#This Row],[P2 + P5]]*VLOOKUP(MONTH(Tabla4[[#This Row],[Fecha final]]),Tabla20[#All],6,FALSE) -> 0 | M13: =Tabla4[[#This Row],[P3 + P6]]*VLOOKUP(MONTH(Tabla4[[#This Row],[Fecha final]]),Tabla20[#All],7,FALSE) -> 667 | N13: =YEAR(Tabla3[[#This Row],[Fecha final]]) -> 2021
A14: 44196 | B14: 31-01-2021 | C14: 31 | D14: REAL | E14: 1210 | F14: 6881 | G14: 684 | H14: =Tabla4[[#This Row],[P1 + P4]]*VLOOKUP(MONTH(Tabla4[[#This Row],[Fecha final]]),Tabla20[#All],2,FALSE) -> 1210 | I14: =Tabla4[[#This Row],[P2 + P5]]*VLOOKUP(MONTH(Tabla4[[#This Row],[Fecha final]]),Tabla20[#All],3,FALSE) -> 6881 | J14: =(Tabla4[[#This Row],[P3 + P6]])*VLOOKUP(MONTH(Tabla4[[#This Row],[Fecha final]]),Tabla20[#All],4,FALSE) -> 0 | K14: =Tabla4[[#This Row],[P1 + P4]]*VLOOKUP(MONTH(Tabla4[[#This Row],[Fecha final]]),Tabla20[#All],5,FALSE) -> 0 | L14: =Tabla4[[#This Row],[P2 + P5]]*VLOOKUP(MONTH(Tabla4[[#This Row],[Fecha final]]),Tabla20[#All],6,FALSE) -> 0 | M14: =Tabla4[[#This Row],[P3 + P6]]*VLOOKUP(MONTH(Tabla4[[#This Row],[Fecha final]]),Tabla20[#All],7,FALSE) -> 684 | N14: =YEAR(Tabla3[[#This Row],[Fecha final]]) -> 2021
A15: 44227 | B15: 28-02-2021 | C15: 28 | D15: REAL | E15: 995 | F15: 5243 | G15: 733 | H15: =Tabla4[[#This Row],[P1 + P4]]*VLOOKUP(MONTH(Tabla4[[#This Row],[Fecha final]]),Tabla20[#All],2,FALSE) -> 995 | I15: =Tabla4[[#This Row],[P2 + P5]]*VLOOKUP(MONTH(Tabla4[[#This Row],[Fecha final]]),Tabla20[#All],3,FALSE) -> 5243 | J15: =(Tabla4[[#This Row],[P3 + P6]])*VLOOKUP(MONTH(Tabla4[[#This Row],[Fecha final]]),Tabla20[#All],4,FALSE) -> 0 | K15: =Tabla4[[#This Row],[P1 + P4]]*VLOOKUP(MONTH(Tabla4[[#This Row],[Fecha final]]),Tabla20[#All],5,FALSE) -> 0 | L15: =Tabla4[[#This Row],[P2 + P5]]*VLOOKUP(MONTH(Tabla4[[#This Row],[Fecha final]]),Tabla20[#All],6,FALSE) -> 0 | M15: =Tabla4[[#This Row],[P3 + P6]]*VLOOKUP(MONTH(Tabla4[[#This Row],[Fecha final]]),Tabla20[#All],7,FALSE) -> 733 | N15: =YEAR(Tabla3[[#This Row],[Fecha final]]) -> 2021
A16: 44255 | B16: 31-03-2021 | C16: 31 | D16: REAL | E16: 1055 | F16: 5063 | G16: 756 | H16: =Tabla4[[#This Row],[P1 + P4]]*VLOOKUP(MONTH(Tabla4[[#This Row],[Fecha final]]),Tabla20[#All],2,FALSE) -> 0 | I16: =Tabla4[[#This Row],[P2 + P5]]*VLOOKUP(MONTH(Tabla4[[#This Row],[Fecha final]]),Tabla20[#All],3,FALSE) -> 5063 | J16: =(Tabla4[[#This Row],[P3 + P6]])*VLOOKUP(MONTH(Tabla4[[#This Row],[Fecha final]]),Tabla20[#All],4,FALSE) -> 226.6488 | K16: =Tabla4[[#This Row],[P1 + P4]]*VLOOKUP(MONTH(Tabla4[[#This Row],[Fecha final]]),Tabla20[#All],5,FALSE) -> 0 | L16: =Tabla4[[#This Row],[P2 + P5]]*VLOOKUP(MONTH(Tabla4[[#This Row],[Fecha final]]),Tabla20[#All],6,FALSE) -> 0 | M16: =Tabla4[[#This Row],[P3 + P6]]*VLOOKUP(MONTH(Tabla4[[#This Row],[Fecha final]]),Tabla20[#All],7,FALSE) -> 529.3512 | N16: =YEAR(Tabla3[[#This Row],[Fecha final]]) -> 2021
A17: 44286 | B17: 30-04-2021 | C17: 30 | D17: REAL | E17: 1671 | F17: 3435 | G17: 657 | H17: =Tabla4[[#This Row],[P1 + P4]]*VLOOKUP(MONTH(Tabla4[[#This Row],[Fecha final]]),Tabla20[#All],2,FALSE) -> 0 | I17: =Tabla4[[#This Row],[P2 + P5]]*VLOOKUP(MONTH(Tabla4[[#This Row],[Fecha final]]),Tabla20[#All],3,FALSE) -> 0 | J17: =(Tabla4[[#This Row],[P3 + P6]])*VLOOKUP(MONTH(Tabla4[[#This Row],[Fecha final]]),Tabla20[#All],4,FALSE) -> 0 | K17: =Tabla4[[#This Row],[P1 + P4]]*VLOOKUP(MONTH(Tabla4[[#This Row],[Fecha final]]),Tabla20[#All],5,FALSE) -> 1671 | L17: =Tabla4[[#This Row],[P2 + P5]]*VLOOKUP(MONTH(Tabla4[[#This Row],[Fecha final]]),Tabla20[#All],6,FALSE) -> 3435 | M17: =Tabla4[[#This Row],[P3 + P6]]*VLOOKUP(MONTH(Tabla4[[#This Row],[Fecha final]]),Tabla20[#All],7,FALSE) -> 657 | N17: =YEAR(Tabla3[[#This Row],[Fecha final]]) -> 2021
A18: 44316 | B18: 31-05-2021 | C18: 31 | D18: REAL | E18: 1361 | F18: 2753 | G18: 611 | H18: =Tabla4[[#This Row],[P1 + P4]]*VLOOKUP(MONTH(Tabla4[[#This Row],[Fecha final]]),Tabla20[#All],2,FALSE) -> 0 | I18: =Tabla4[[#This Row],[P2 + P5]]*VLOOKUP(MONTH(Tabla4[[#This Row],[Fecha final]]),Tabla20[#All],3,FALSE) -> 0 | J18: =(Tabla4[[#This Row],[P3 + P6]])*VLOOKUP(MONTH(Tabla4[[#This Row],[Fecha final]]),Tabla20[#All],4,FALSE) -> 0 | K18: =Tabla4[[#This Row],[P1 + P4]]*VLOOKUP(MONTH(Tabla4[[#This Row],[Fecha final]]),Tabla20[#All],5,FALSE) -> 1361 | L18: =Tabla4[[#This Row],[P2 + P5]]*VLOOKUP(MONTH(Tabla4[[#This Row],[Fecha final]]),Tabla20[#All],6,FALSE) -> 2753 | M18: =Tabla4[[#This Row],[P3 + P6]]*VLOOKUP(MONTH(Tabla4[[#This Row],[Fecha final]]),Tabla20[#All],7,FALSE) -> 611 | N18: =YEAR(Tabla3[[#This Row],[Fecha final]]) -> 2021
... A41: 44985 | B41: 31-03-2023 | C41: 31 | D41: REAL | E41: 0 | F41: 3145 | G41: 2914 | H41: =Tabla4[[#This Row],[P1 + P4]]*VLOOKUP(MONTH(Tabla4[[#This Row],[Fecha final]]),Tabla20[#All],2,FALSE) -> 0 | I41: =Tabla4[[#This Row],[P2 + P5]]*VLOOKUP(MONTH(Tabla4[[#This Row],[Fecha final]]),Tabla20[#All],3,FALSE) -> 3145 | J41: =(Tabla4[[#This Row],[P3 + P6]])*VLOOKUP(MONTH(Tabla4[[#This Row],[Fecha final]]),Tabla20[#All],4,FALSE) -> 873.6172 | K41: =Tabla4[[#This Row],[P1 + P4]]*VLOOKUP(MONTH(Tabla4[[#This Row],[Fecha final]]),Tabla20[#All],5,FALSE) -> 0 | L41: =Tabla4[[#This Row],[P2 + P5]]*VLOOKUP(MONTH(Tabla4[[#This Row],[Fecha final]]),Tabla20[#All],6,FALSE) -> 0 | M41: =Tabla4[[#This Row],[P3 + P6]]*VLOOKUP(MONTH(Tabla4[[#This Row],[Fecha final]]),Tabla20[#All],7,FALSE) -> 2040.3828 | N41: =YEAR(Tabla3[[#This Row],[Fecha final]]) -> 2023
A44: CONSUMO REACTIVA
A46: Fecha inicial | B46: Fecha final | C46: Días | D46: Tipo | E46: P1 + P4 | F46: P2 + P5 | G46: P3 + P6
A47: 28-02-2023 | B47: 31-03-2023 | C47: 31 | D47: REAL | E47: 0 | F47: 34 | G47: 53
A48: 31-01-2023 | B48: 28-02-2023 | C48: 28 | D48: REAL | E48: 270 | F48: 203 | G48: 0
A49: 31-12-2022 | B49: 31-01-2023 | C49: 31 | D49: REAL | E49: 375 | F49: 309 | G49: 0
A50: 30-11-2022 | B50: 31-12-2022 | C50: 31 | D50: REAL | E50: 271 | F50: 233 | G50: 0
A51: 31-10-2022 | B51: 30-11-2022 | C51: 30 | D51: REAL | E51: 0 | F51: 0 | G51: 15
A52: 30-09-2022 | B52: 31-10-2022 | C52: 31 | D52: REAL | E52: 147 | F52: 130 | G52: 0
A53: 31-08-2022 | B53: 30-09-2022 | C53: 30 | D53: REAL | E53: 401 | F53: 0 | G53: 438
A54: 31-07-2022 | B54: 31-08-2022 | C54: 31 | D54: REAL | E54: 207 | F54: 0 | G54: 425
A55: 30-06-2022 | B55: 31-07-2022 | C55: 31 | D55: REAL | E55: 529 | F55: 502 | G55: 0
A56: 31-05-2022 | B56: 30-06-2022 | C56: 30 | D56: REAL | E56: 471 | F56: 0 | G56: 500
A57: 30-04-2022 | B57: 31-05-2022 | C57: 31 | D57: REAL | E57: 125 | F57: 151 | G57: 0
A58: 31-03-2022 | B58: 30-04-2022 | C58: 30 | D58: REAL | E58: 115 | F58: 156 | G58: 0
... A81: 31-05-2020 | B81: 30-06-2020 | C81: 30 | D81: REAL | E81: 800 | F81: 1510 | G81: 149
A84: MAXÍMETRO
A86: POTENCIAS CONTRATADAS | B86: P1 | C86: P2 | D86: P3
A87: Potencias Contratadas (kW) | B87: 125 | C87: 125 | D87: 125
A88: Fecha inicial | B88: Fecha final | C88: Días | D88: Tipo | E88: P1 | F88: P2 | G88: P3
A89: 28-02-2023 | B89: 31-03-2023 | C89: 31 | D89: REAL | E89: 0 | F89: 40 | G89: 40
A90: 31-01-2023 | B90: 28-02-2023 | C90: 28 | D90: REAL | E90: 44 | F90: 40 | G90: 28
A91: 31-12-2022 | B91: 31-01-2023 | C91: 31 | D91: REAL | E91: 40 | F91: 40 | G91: 24
A92: 30-11-2022 | B92: 31-12-2022 | C92: 31 | D92: REAL | E92: 36 | F92: 36 | G92: 24
A93: 31-10-2022 | B93: 30-11-2022 | C93: 30 | D93: REAL | E93: 0 | F93: 36 | G93: 32
A94: 30-09-2022 | B94: 31-10-2022 | C94: 31 | D94: REAL | E94: 28 | F94: 28 | G94: 24
A95: 31-08-2022 | B95: 30-09-2022 | C95: 30 | D95: REAL | E95: 32 | F95: 0 | G95: 36
A96: 31-07-2022 | B96: 31-08-2022 | C96: 31 | D96: REAL | E96: 36 | F96: 0 | G96: 36
A97: 30-06-2022 | B97: 31-07-2022 | C97: 31 | D97: REAL | E97: 40 | F97: 36 | G97: 32
A98: 31-05-2022 | B98: 30-06-2022 | C98: 30 | D98: REAL | E98: 36 | F98: 0 | G98: 36
A99: 30-04-2022 | B99: 31-05-2022 | C99: 31 | D99: REAL | E99: 32 | F99: 36 | G99: 24
A100: 31-03-2022 | B100: 30-04-2022 | C100: 30 | D100: REAL | E100: 36 | F100: 40 | G100: 28
... A123: 31-05-2020 | B123: 30-06-2020 | C123: 30 | D123: REAL | E123: 48 | F123: 46 | G123: 42
A126: OPTIMIZACIÓN POTENCIA
A129: COMPENSACIÓN REACTIVA

Sheet 6001EZ
A1: CONSUMO ACTIVA
A3: CONSUMO ANUAL: 20777kWh | B3: P1 + P4 | C3: P2 + P5 | D3: P3 + P6
A4: Consumo anual por periodos en kWh | B4: 8212 | C4: 2679 | D4: 9886
A5: Consumo anual por periodos en % | B5: 40 | C5: 13 | D5: 48
A6: Fecha inicial | B6: Fecha final | C6: Días | D6: Tipo | E6: P1 + P4 | F6: P2 + P5 | G6: P3 + P6 | H6: P1 | I6: P2 | J6: P3 | K6: P4 | L6: P5 | M6: P6 | N6: año
A7: 43982 | B7: 44012 | C7: 30 | D7: REAL | E7: 359 | F7: 657 | G7: 251 | H7: =Tabla6[[#This Row],[P1 + P4]]*VLOOKUP(MONTH(Tabla6[[#This Row],[Fecha final]]),Tabla20[#All],2,FALSE) -> 0 | I7: =Tabla6[[#This Row],[P2 + P5]]*VLOOKUP(MONTH(Tabla6[[#This Row],[Fecha final]]),Tabla20[#All],3,FALSE) -> 0 | J7: =(Tabla6[[#This Row],[P3 + P6]])*VLOOKUP(MONTH(Tabla6[[#This Row],[Fecha final]]),Tabla20[#All],4,FALSE) -> 87.7998 | K7: =Tabla6[[#This Row],[P1 + P4]]*VLOOKUP(MONTH(Tabla6[[#This Row],[Fecha final]]),Tabla20[#All],5,FALSE) -> 359 | L7: =Tabla6[[#This Row],[P2 + P5]]*VLOOKUP(MONTH(Tabla6[[#This Row],[Fecha final]]),Tabla20[#All],6,FALSE) -> 0 | M7: =Tabla6[[#This Row],[P3 + P6]]*VLOOKUP(MONTH(Tabla6[[#This Row],[Fecha final]]),Tabla20[#All],7,FALSE) -> 163.2002 | N7: =YEAR(Tabla6[[#This Row],[Fecha final]]) -> 2020 | P7: =SUM(Tabla6[[#This Row],[P1 + P4]:[P3 + P6]])=SUM(Tabla6[[#This Row],[P1]:[P6]]) -> FALSE
A8: 44012 | B8: 44045 | C8: 33 | D8: REAL | E8: 581 | F8: 1004 | G8: 341 | H8: =Tabla6[[#This Row],[P1 + P4]]*VLOOKUP(MONTH(Tabla6[[#This Row],[Fecha final]]),Tabla20[#All],2,FALSE) -> 0 | I8: =Tabla6[[#This Row],[P2 + P5]]*VLOOKUP(MONTH(Tabla6[[#This Row],[Fecha final]]),Tabla20[#All],3,FALSE) -> 0 | J8: =(Tabla6[[#This Row],[P3 + P6]])*VLOOKUP(MONTH(Tabla6[[#This Row],[Fecha final]]),Tabla20[#All],4,FALSE) -> 114.4396 | K8: =Tabla6[[#This Row],[P1 + P4]]*VLOOKUP(MONTH(Tabla6[[#This Row],[Fecha final]]),Tabla20[#All],5,FALSE) -> 581 | L8: =Tabla6[[#This Row],[P2 + P5]]*VLOOKUP(MONTH(Tabla6[[#This Row],[Fecha final]]),Tabla20[#All],6,FALSE) -> 0 | M8: =Tabla6[[#This Row],[P3 + P6]]*VLOOKUP(MONTH(Tabla6[[#This Row],[Fecha final]]),Tabla20[#All],7,FALSE) -> 226.5604 | N8: =YEAR(Tabla6[[#This Row],[Fecha final]]) -> 2020 | P8: =SUM(Tabla6[[#This Row],[P1 + P4]:[P3 + P6]])=SUM(Tabla6[[#This Row],[P1]:[P6]]) -> FALSE
A9: 44045 | B9: 44074 | C9: 29 | D9: REAL | E9: 513 | F9: 824 | G9: 284 | H9: =Tabla6[[#This Row],[P1 + P4]]*VLOOKUP(MONTH(Tabla6[[#This Row],[Fecha final]]),Tabla20[#All],2,FALSE) -> 0 | I9: =Tabla6[[#This Row],[P2 + P5]]*VLOOKUP(MONTH(Tabla6[[#This Row],[Fecha final]]),Tabla20[#All],3,FALSE) -> 0 | J9: =(Tabla6[[#This Row],[P3 + P6]])*VLOOKUP(MONTH(Tabla6[[#This Row],[Fecha final]]),Tabla20[#All],4,FALSE) -> 95.3104 | K9: =Tabla6[[#This Row],[P1 + P4]]*VLOOKUP(MONTH(Tabla6[[#This Row],[Fecha final]]),Tabla20[#All],5,FALSE) -> 513 | L9: =Tabla6[[#This Row],[P2 + P5]]*VLOOKUP(MONTH(Tabla6[[#This Row],[Fecha final]]),Tabla20[#All],6,FALSE) -> 0 | M9: =Tabla6[[#This Row],[P3 + P6]]*VLOOKUP(MONTH(Tabla6[[#This Row],[Fecha final]]),Tabla20[#All],7,FALSE) -> 188.6896 | N9: =YEAR(Tabla6[[#This Row],[Fecha final]]) -> 2020 | P9: =SUM(Tabla6[[#This Row],[P1 + P4]:[P3 + P6]])=SUM(Tabla6[[#This Row],[P1]:[P6]]) -> FALSE
A10: 44074 | B10: 44104 | C10: 30 | D10: REAL | E10: 376 | F10: 862 | G10: 275 | H10: =Tabla6[[#This Row],[P1 + P4]]*VLOOKUP(MONTH(Tabla6[[#This Row],[Fecha final]]),Tabla20[#All],2,FALSE) -> 0 | I10: =Tabla6[[#This Row],[P2 + P5]]*VLOOKUP(MONTH(Tabla6[[#This Row],[Fecha final]]),Tabla20[#All],3,FALSE) -> 0 | J10: =(Tabla6[[#This Row],[P3 + P6]])*VLOOKUP(MONTH(Tabla6[[#This Row],[Fecha final]]),Tabla20[#All],4,FALSE) -> 96.195 | K10: =Tabla6[[#This Row],[P1 + P4]]*VLOOKUP(MONTH(Tabla6[[#This Row],[Fecha final]]),Tabla20[#All],5,FALSE) -> 376 | L10: =Tabla6[[#This Row],[P2 + P5]]*VLOOKUP(MONTH(Tabla6[[#This Row],[Fecha final]]),Tabla20[#All],6,FALSE) -> 0 | M10: =Tabla6[[#This Row],[P3 + P6]]*VLOOKUP(MONTH(Tabla6[[#This Row],[Fecha final]]),Tabla20[#All],7,FALSE) -> 178.805 | N10: =YEAR(Tabla6[[#This Row],[Fecha final]]) -> 2020 | P10: =SUM(Tabla6[[#This Row],[P1 + P4]:[P3 + P6]])=SUM(Tabla6[[#This Row],[P1]:[P6]]) -> FALSE
A11: 44104 | B11: 44135 | C11: 31 | D11: REAL | E11: 407 | F11: 1145 | G11: 336 | H11: =Tabla6[[#This Row],[P1 + P4]]*VLOOKUP(MONTH(Tabla6[[#This Row],[Fecha final]]),Tabla20[#All],2,FALSE) -> 0 | I11: =Tabla6[[#This Row],[P2 + P5]]*VLOOKUP(MONTH(Tabla6[[#This Row],[Fecha final]]),Tabla20[#All],3,FALSE) -> 0 | J11: =(Tabla6[[#This Row],[P3 + P6]])*VLOOKUP(MONTH(Tabla6[[#This Row],[Fecha final]]),Tabla20[#All],4,FALSE) -> 0 | K11: =Tabla6[[#This Row],[P1 + P4]]*VLOOKUP(MONTH(Tabla6[[#This Row],[Fecha final]]),Tabla20[#All],5,FALSE) -> 407 | L11: =Tabla6[[#This Row],[P2 + P5]]*VLOOKUP(MONTH(Tabla6[[#This Row],[Fecha final]]),Tabla20[#All],6,FALSE) -> 1145 | M11: =Tabla6[[#This Row],[P3 + P6]]*VLOOKUP(MONTH(Tabla6[[#This Row],[Fecha final]]),Tabla20[#All],7,FALSE) -> 336 | N11: =YEAR(Tabla6[[#This Row],[Fecha final]]) -> 2020 | P11: =SUM(Tabla6[[#This Row],[P1 + P4]:[P3 + P6]])=SUM(Tabla6[[#This Row],[P1]:[P6]]) -> TRUE
A12: 44135 | B12: 44165 | C12: 30 | D12: REAL | E12: 277 | F12: 1407 | G12: 412 | H12: =Tabla6[[#This Row],[P1 + P4]]*VLOOKUP(MONTH(Tabla6[[#This Row],[Fecha final]]),Tabla20[#All],2,FALSE) -> 0 | I12: =Tabla6[[#This Row],[P2 + P5]]*VLOOKUP(MONTH(Tabla6[[#This Row],[Fecha final]]),Tabla20[#All],3,FALSE) -> 1407 | J12: =(Tabla6[[#This Row],[P3 + P6]])*VLOOKUP(MONTH(Tabla6[[#This Row],[Fecha final]]),Tabla20[#All],4,FALSE) -> 114.0416 | K12: =Tabla6[[#This Row],[P1 + P4]]*VLOOKUP(MONTH(Tabla6[[#This Row],[Fecha final]]),Tabla20[#All],5,FALSE) -> 0 | L12: =Tabla6[[#This Row],[P2 + P5]]*VLOOKUP(MONTH(Tabla6[[#This Row],[Fecha final]]),Tabla20[#All],6,FALSE) -> 0 | M12: =Tabla6[[#This Row],[P3 + P6]]*VLOOKUP(MONTH(Tabla6[[#This Row],[Fecha final]]),Tabla20[#All],7,FALSE) -> 297.9584 | N12: =YEAR(Tabla6[[#This Row],[Fecha final]]) -> 2020 | P12: =SUM(Tabla6[[#This Row],[P1 + P4]:[P3 + P6]])=SUM(Tabla6[[#This Row],[P1]:[P6]]) -> FALSE
A13: 44165 | B13: 44196 | C13: 31 | D13: REAL | E13: 281 | F13: 1769 | G13: 472 | H13: =Tabla6[[#This Row],[P1 + P4]]*VLOOKUP(MONTH(Tabla6[[#This Row],[Fecha final]]),Tabla20[#All],2,FALSE) -> 281 | I13: =Tabla6[[#This Row],[P2 + P5]]*VLOOKUP(MONTH(Tabla6[[#This Row],[Fecha final]]),Tabla20[#All],3,FALSE) -> 1769 | J13: =(Tabla6[[#This Row],[P3 + P6]])*VLOOKUP(MONTH(Tabla6[[#This Row],[Fecha final]]),Tabla20[#All],4,FALSE) -> 0 | K13: =Tabla6[[#This Row],[P1 + P4]]*VLOOKUP(MONTH(Tabla6[[#This Row],[Fecha final]]),Tabla20[#All],5,FALSE) -> 0 | L13: =Tabla6[[#This Row],[P2 + P5]]*VLOOKUP(MONTH(Tabla6[[#This Row],[Fecha final]]),Tabla20[#All],6,FALSE) -> 0 | M13: =Tabla6[[#This Row],[P3 + P6]]*VLOOKUP(MONTH(Tabla6[[#This Row],[Fecha final]]),Tabla20[#All],7,FALSE) -> 472 | N13: =YEAR(Tabla6[[#This Row],[Fecha final]]) -> 2020 | P13: =SUM(Tabla6[[#This Row],[P1 + P4]:[P3 + P6]])=SUM(Tabla6[[#This Row],[P1]:[P6]]) -> TRUE
A14: 44196 | B14: 44227 | C14: 31 | D14: REAL | E14: 256 | F14: 2329 | G14: 504 | H14: =Tabla6[[#This Row],[P1 + P4]]*VLOOKUP(MONTH(Tabla6[[#This Row],[Fecha final]]),Tabla20[#All],2,FALSE) -> 256 | I14: =Tabla6[[#This Row],[P2 + P5]]*VLOOKUP(MONTH(Tabla6[[#This Row],[Fecha final]]),Tabla20[#All],3,FALSE) -> 2329 | J14: =(Tabla6[[#This Row],[P3 + P6]])*VLOOKUP(MONTH(Tabla6[[#This Row],[Fecha final]]),Tabla20[#All],4,FALSE) -> 0 | K14: =Tabla6[[#This Row],[P1 + P4]]*VLOOKUP(MONTH(Tabla6[[#This Row],[Fecha final]]),Tabla20[#All],5,FALSE) -> 0 | L14: =Tabla6[[#This Row],[P2 + P5]]*VLOOKUP(MONTH(Tabla6[[#This Row],[Fecha final]]),Tabla20[#All],6,FALSE) -> 0 | M14: =Tabla6[[#This Row],[P3 + P6]]*VLOOKUP(MONTH(Tabla6[[#This Row],[Fecha final]]),Tabla20[#All],7,FALSE) -> 504 | N14: =YEAR(Tabla6[[#This Row],[Fecha final]]) -> 2021 | P14: =SUM(Tabla6[[#This Row],[P1 + P4]:[P3 + P6]])=SUM(Tabla6[[#This Row],[P1]:[P6]]) -> TRUE
A15: 44227 | B15: 44255 | C15: 28 | D15: REAL | E15: 230 | F15: 1835 | G15: 418 | H15: =Tabla6[[#This Row],[P1 + P4]]*VLOOKUP(MONTH(Tabla6[[#This Row],[Fecha final]]),Tabla20[#All],2,FALSE) -> 230 | I15: =Tabla6[[#This Row],[P2 + P5]]*VLOOKUP(MONTH(Tabla6[[#This Row],[Fecha final]]),Tabla20[#All],3,FALSE) -> 1835 | J15: =(Tabla6[[#This Row],[P3 + P6]])*VLOOKUP(MONTH(Tabla6[[#This Row],[Fecha final]]),Tabla20[#All],4,FALSE) -> 0 | K15: =Tabla6[[#This Row],[P1 + P4]]*VLOOKUP(MONTH(Tabla6[[#This Row],[Fecha final]]),Tabla20[#All],5,FALSE) -> 0 | L15: =Tabla6[[#This Row],[P2 + P5]]*VLOOKUP(MONTH(Tabla6[[#This Row],[Fecha final]]),Tabla20[#All],6,FALSE) -> 0 | M15: =Tabla6[[#This Row],[P3 + P6]]*VLOOKUP(MONTH(Tabla6[[#This Row],[Fecha final]]),Tabla20[#All],7,FALSE) -> 418 | N15: =YEAR(Tabla6[[#This Row],[Fecha final]]) -> 2021 | P15: =SUM(Tabla6[[#This Row],[P1 + P4]:[P3 + P6]])=SUM(Tabla6[[#This Row],[P1]:[P6]]) -> TRUE
A16: 44255 | B16: 44286 | C16: 31 | D16: REAL | E16: 276 | F16: 1635 | G16: 420 | H16: =Tabla6[[#This Row],[P1 + P4]]*VLOOKUP(MONTH(Tabla6[[#This Row],[Fecha final]]),Tabla20[#All],2,FALSE) -> 0 | I16: =Tabla6[[#This Row],[P2 + P5]]*VLOOKUP(MONTH(Tabla6[[#This Row],[Fecha final]]),Tabla20[#All],3,FALSE) -> 1635 | J16: =(Tabla6[[#This Row],[P3 + P6]])*VLOOKUP(MONTH(Tabla6[[#This Row],[Fecha final]]),Tabla20[#All],4,FALSE) -> 125.916 | K16: =Tabla6[[#This Row],[P1 + P4]]*VLOOKUP(MONTH(Tabla6[[#This Row],[Fecha final]]),Tabla20[#All],5,FALSE) -> 0 | L16: =Tabla6[[#This Row],[P2 + P5]]*VLOOKUP(MONTH(Tabla6[[#This Row],[Fecha final]]),Tabla20[#All],6,FALSE) -> 0 | M16: =Tabla6[[#This Row],[P3 + P6]]*VLOOKUP(MONTH(Tabla6[[#This Row],[Fecha final]]),Tabla20[#All],7,FALSE) -> 294.084 | N16: =YEAR(Tabla6[[#This Row],[Fecha final]]) -> 2021 | P16: =SUM(Tabla6[[#This Row],[P1 + P4]:[P3 + P6]])=SUM(Tabla6[[#This Row],[P1]:[P6]]) -> FALSE
A17: 44286 | B17: 44316 | C17: 30 | D17: REAL | E17: 556 | F17: 1094 | G17: 313 | H17: =Tabla6[[#This Row],[P1 + P4]]*VLOOKUP(MONTH(Tabla6[[#This Row],[Fecha final]]),Tabla20[#All],2,FALSE) -> 0 | I17: =Tabla6[[#This Row],[P2 + P5]]*VLOOKUP(MONTH(Tabla6[[#This Row],[Fecha final]]),Tabla20[#All],3,FALSE) -> 0 | J17: =(Tabla6[[#This Row],[P3 + P6]])*VLOOKUP(MONTH(Tabla6[[#This Row],[Fecha final]]),Tabla20[#All],4,FALSE) -> 0 | K17: =Tabla6[[#This Row],[P1 + P4]]*VLOOKUP(MONTH(Tabla6[[#This Row],[Fecha final]]),Tabla20[#All],5,FALSE) -> 556 | L17: =Tabla6[[#This Row],[P2 + P5]]*VLOOKUP(MONTH(Tabla6[[#This Row],[Fecha final]]),Tabla20[#All],6,FALSE) -> 1094 | M17: =Tabla6[[#This Row],[P3 + P6]]*VLOOKUP(MONTH(Tabla6[[#This Row],[Fecha final]]),Tabla20[#All],7,FALSE) -> 313 | N17: =YEAR(Tabla6[[#This Row],[Fecha final]]) -> 2021 | P17: =SUM(Tabla6[[#This Row],[P1 + P4]:[P3 + P6]])=SUM(Tabla6[[#This Row],[P1]:[P6]]) -> TRUE
A18: 44316 | B18: 44347 | C18: 31 | D18: REAL | E18: 302 | F18: 747 | G18: 328 | H18: =Tabla6[[#This Row],[P1 + P4]]*VLOOKUP(MONTH(Tabla6[[#This Row],[Fecha final]]),Tabla20[#All],2,FALSE) -> 0 | I18: =Tabla6[[#This Row],[P2 + P5]]*VLOOKUP(MONTH(Tabla6[[#This Row],[Fecha final]]),Tabla20[#All],3,FALSE) -> 0 | J18: =(Tabla6[[#This Row],[P3 + P6]])*VLOOKUP(MONTH(Tabla6[[#This Row],[Fecha final]]),Tabla20[#All],4,FALSE) -> 0 | K18: =Tabla6[[#This Row],[P1 + P4]]*VLOOKUP(MONTH(Tabla6[[#This Row],[Fecha final]]),Tabla20[#All],5,FALSE) -> 302 | L18: =Tabla6[[#This Row],[P2 + P5]]*VLOOKUP(MONTH(Tabla6[[#This Row],[Fecha final]]),Tabla20[#All],6,FALSE) -> 747 | M18: =Tabla6[[#This Row],[P3 + P6]]*VLOOKUP(MONTH(Tabla6[[#This Row],[Fecha final]]),Tabla20[#All],7,FALSE) -> 328 | N18: =YEAR(Tabla6[[#This Row],[Fecha final]]) -> 2021 | P18: =SUM(Tabla6[[#This Row],[P1 + P4]:[P3 + P6]])=SUM(Tabla6[[#This Row],[P1]:[P6]]) -> TRUE
... A41: 44985 | B41: 45016 | C41: 31 | D41: REAL | E41: 0 | F41: 570 | G41: 1496 | H41: =Tabla6[[#This Row],[P1 + P4]]*VLOOKUP(MONTH(Tabla6[[#This Row],[Fecha final]]),Tabla20[#All],2,FALSE) -> 0 | I41: =Tabla6[[#This Row],[P2 + P5]]*VLOOKUP(MONTH(Tabla6[[#This Row],[Fecha final]]),Tabla20[#All],3,FALSE) -> 570 | J41: =(Tabla6[[#This Row],[P3 + P6]])*VLOOKUP(MONTH(Tabla6[[#This Row],[Fecha final]]),Tabla20[#All],4,FALSE) -> 448.5008 | K41: =Tabla6[[#This Row],[P1 + P4]]*VLOOKUP(MONTH(Tabla6[[#This Row],[Fecha final]]),Tabla20[#All],5,FALSE) -> 0 | L41: =Tabla6[[#This Row],[P2 + P5]]*VLOOKUP(MONTH(Tabla6[[#This Row],[Fecha final]]),Tabla20[#All],6,FALSE) -> 0 | M41: =Tabla6[[#This Row],[P3 + P6]]*VLOOKUP(MONTH(Tabla6[[#This Row],[Fecha final]]),Tabla20[#All],7,FALSE) -> 1047.4992 | N41: =YEAR(Tabla6[[#This Row],[Fecha final]]) -> 2023 | P41: =SUM(Tabla6[[#This Row],[P1 + P4]:[P3 + P6]])=SUM(Tabla6[[#This Row],[P1]:[P6]]) -> TRUE
H42: =SUBTOTAL(109,Tabla6[P1]) -> 7499 | I42: =SUBTOTAL(109,Tabla6[P2]) -> 4311 | J42: =SUBTOTAL(109,Tabla6[P3]) -> 2207.6306 | K42: =SUBTOTAL(109,Tabla6[P4]) -> 3395 | L42: =SUBTOTAL(109,Tabla6[P5]) -> 1150 | M42: =SUBTOTAL(109,Tabla6[P6]) -> 9915.3694
A44: CONSUMO REACTIVA
A46: Fecha inicial | B46: Fecha final | C46: Días | D46: Tipo | E46: P1 + P4 | F46: P2 + P5 | G46: P3 + P6
A47: 28-02-2023 | B47: 31-03-2023 | C47: 31 | D47: REAL | E47: 0 | F47: 0 | G47: 0
A48: 31-01-2023 | B48: 28-02-2023 | C48: 28 | D48: REAL | E48: 0 | F48: 0 | G48: 0
A49: 10-01-2023 | B49: 31-01-2023 | C49: 21 | D49: REAL | E49: 0 | F49: 0 | G49: 0
A50: 30-11-2022 | B50: 10-01-2023 | C50: 41 | D50: REAL | E50: 0 | F50: 0 | G50: 0
A51: 31-10-2022 | B51: 30-11-2022 | C51: 30 | D51: REAL | E51: 0 | F51: 0 | G51: 0
A52: 30-09-2022 | B52: 31-10-2022 | C52: 31 | D52: REAL | E52: 0 | F52: 0 | G52: 0
A53: 31-08-2022 | B53: 30-09-2022 | C53: 30 | D53: REAL | E53: 0 | F53: 0 | G53: 0
A54: 31-07-2022 | B54: 31-08-2022 | C54: 31 | D54: REAL | E54: 0 | F54: 0 | G54: 0
A55: 30-06-2022 | B55: 31-07-2022 | C55: 31 | D55: REAL | E55: 0 | F55: 0 | G55: 0
A56: 31-05-2022 | B56: 30-06-2022 | C56: 30 | D56: REAL | E56: 0 | F56: 0 | G56: 0
A57: 30-04-2022 | B57: 31-05-2022 | C57: 31 | D57: REAL | E57: 0 | F57: 0 | G57: 0
A58: 31-03-2022 | B58: 30-04-2022 | C58: 30 | D58: REAL | E58: 0 | F58: 0 | G58: 0
... A81: 31-05-2020 | B81: 30-06-2020 | C81: 30 | D81: REAL | E81: 0 | F81: 21 | G81: 0
A84: MAXÍMETRO
A86: POTENCIAS CONTRATADAS | B86: P1 | C86: P2 | D86: P3
A87: Potencias Contratadas (kW) | B87: 31.5 | C87: 31.5 | D87: 31.5
A88: Fecha inicial | B88: Fecha final | C88: Días | D88: Tipo | E88: P1 | F88: P2 | G88: P3
A89: 28-02-2023 | B89: 31-03-2023 | C89: 31 | D89: REAL | E89: 0 | F89: 9 | G89: 13
A90: 31-01-2023 | B90: 28-02-2023 | C90: 28 | D90: REAL | E90: 7 | F90: 8 | G90: 13
A91: 10-01-2023 | B91: 31-01-2023 | C91: 21 | D91: REAL | E91: 11.26 | F91: 1.057 | G91: 1.55
A92: 30-11-2022 | B92: 10-01-2023 | C92: 41 | D92: REAL | E92: 8 | F92: 7 | G92: 12
A93: 31-10-2022 | B93: 30-11-2022 | C93: 30 | D93: REAL | E93: 0 | F93: 5.958 | G93: 4.565
A94: 30-09-2022 | B94: 31-10-2022 | C94: 31 | D94: REAL | E94: 8 | F94: 6.6 | G94: 8
A95: 31-08-2022 | B95: 30-09-2022 | C95: 30 | D95: REAL | E95: 8 | F95: 0 | G95: 8
A96: 31-07-2022 | B96: 31-08-2022 | C96: 31 | D96: REAL | E96: 10 | F96: 0 | G96: 9
A97: 30-06-2022 | B97: 31-07-2022 | C97: 31 | D97: REAL | E97: 9 | F97: 11 | G97: 5
A98: 31-05-2022 | B98: 30-06-2022 | C98: 30 | D98: REAL | E98: 9 | F98: 0 | G98: 10
A99: 30-04-2022 | B99: 31-05-2022 | C99: 31 | D99: REAL | E99: 10 | F99: 7 | G99: 5
A100: 31-03-2022 | B100: 30-04-2022 | C100: 30 | D100: REAL | E100: 12 | F100: 9 | G100: 5
... A123: 31-05-2020 | B123: 30-06-2020 | C123: 30 | D123: REAL | E123: 7 | F123: 8 | G123: 4
A126: OPTIMIZACIÓN POTENCIA
A129: COMPENSACIÓN REACTIVA

Sheet 9014LW
A1: CONSUMO ACTIVA
A3: CONSUMO ANUAL: 7851kWh | B3: P1 + P4 | C3: P2 + P5 | D3: P3 + P6
A4: Consumo anual por periodos en kWh | B4: 3133 | C4: 2848 | D4: 1869
A5: Consumo anual por periodos en % | B5: 40 | C5: 36 | D5: 24
A6: Fecha inicial | B6: Fecha final | C6: Días | D6: Tipo | E6: P1 + P4 | F6: P2 + P5 | G6: P3 + P6 | H6: P1 | I6: P2 | J6: P3 | K6: P4 | L6: P5 | M6: P6 | N6: año
A7: 44035 | B7: 44067 | C7: 32 | D7: REAL | E7: 840 | F7: 0 | G7: 0 | H7: =SUM(Tabla31[[#This Row],[P1 + P4]:[P2 + P5]]) -> 840 | I7: =Tabla31[[#This Row],[P3 + P6]] -> 0 | J7: NA | K7: NA | L7: NA | M7: NA | N7: =YEAR(Tabla31[[#This Row],[Fecha final]]) -> 2020
A8: 44067 | B8: 44096 | C8: 29 | D8: REAL | E8: 598 | F8: 0 | G8: 0 | H8: =SUM(Tabla31[[#This Row],[P1 + P4]:[P2 + P5]]) -> 598 | I8: =Tabla31[[#This Row],[P3 + P6]] -> 0 | J8: NA | K8: NA | L8: NA | M8: NA | N8: =YEAR(Tabla31[[#This Row],[Fecha final]]) -> 2020
A9: 44096 | B9: 44126 | C9: 30 | D9: REAL | E9: 429 | F9: 0 | G9: 0 | H9: =SUM(Tabla31[[#This Row],[P1 + P4]:[P2 + P5]]) -> 429 | I9: =Tabla31[[#This Row],[P3 + P6]] -> 0 | J9: NA | K9: NA | L9: NA | M9: NA | N9: =YEAR(Tabla31[[#This Row],[Fecha final]]) -> 2020
A10: 44126 | B10: 44155 | C10: 29 | D10: REAL | E10: 397 | F10: 0 | G10: 0 | H10: =SUM(Tabla31[[#This Row],[P1 + P4]:[P2 + P5]]) -> 397 | I10: =Tabla31[[#This Row],[P3 + P6]] -> 0 | J10: NA | K10: NA | L10: NA | M10: NA | N10: =YEAR(Tabla31[[#This Row],[Fecha final]]) -> 2020
A11: 44155 | B11: 44191 | C11: 36 | D11: REAL | E11: 805 | F11: 0 | G11: 0 | H11: =SUM(Tabla31[[#This Row],[P1 + P4]:[P2 + P5]]) -> 805 | I11: =Tabla31[[#This Row],[P3 + P6]] -> 0 | J11: NA | K11: NA | L11: NA | M11: NA | N11: =YEAR(Tabla31[[#This Row],[Fecha final]]) -> 2020
A12: 44191 | B12: 44219 | C12: 28 | D12: REAL | E12: 785 | F12: 0 | G12: 0 | H12: =SUM(Tabla31[[#This Row],[P1 + P4]:[P2 + P5]]) -> 785 | I12: =Tabla31[[#This Row],[P3 + P6]] -> 0 | J12: NA | K12: NA | L12: NA | M12: NA | N12: =YEAR(Tabla31[[#This Row],[Fecha final]]) -> 2021
A13: 44219 | B13: 44249 | C13: 30 | D13: REAL | E13: 766 | F13: 0 | G13: 0 | H13: =SUM(Tabla31[[#This Row],[P1 + P4]:[P2 + P5]]) -> 766 | I13: =Tabla31[[#This Row],[P3 + P6]] -> 0 | J13: NA | K13: NA | L13: NA | M13: NA | N13: =YEAR(Tabla31[[#This Row],[Fecha final]]) -> 2021
A14: 44249 | B14: 44278 | C14: 29 | D14: REAL | E14: 685 | F14: 0 | G14: 0 | H14: =SUM(Tabla31[[#This Row],[P1 + P4]:[P2 + P5]]) -> 685 | I14: =Tabla31[[#This Row],[P3 + P6]] -> 0 | J14: NA | K14: NA | L14: NA | M14: NA | N14: =YEAR(Tabla31[[#This Row],[Fecha final]]) -> 2021
A15: 44278 | B15: 44313 | C15: 35 | D15: REAL | E15: 695 | F15: 0 | G15: 0 | H15: =SUM(Tabla31[[#This Row],[P1 + P4]:[P2 + P5]]) -> 695 | I15: =Tabla31[[#This Row],[P3 + P6]] -> 0 | J15: NA | K15: NA | L15: NA | M15: NA | N15: =YEAR(Tabla31[[#This Row],[Fecha final]]) -> 2021
A16: 44313 | B16: 44341 | C16: 28 | D16: REAL | E16: 415 | F16: 0 | G16: 0 | H16: =SUM(Tabla31[[#This Row],[P1 + P4]:[P2 + P5]]) -> 415 | I16: =Tabla31[[#This Row],[P3 + P6]] -> 0 | J16: NA | K16: NA | L16: NA | M16: NA | N16: =YEAR(Tabla31[[#This Row],[Fecha final]]) -> 2021
A17: 44341 | B17: 44347 | C17: 6 | D17: REAL | E17: 85 | F17: 0 | G17: 0 | H17: =SUM(Tabla31[[#This Row],[P1 + P4]:[P2 + P5]]) -> 85 | I17: =Tabla31[[#This Row],[P3 + P6]] -> 0 | J17: NA | K17: NA | L17: NA | M17: NA | N17: =YEAR(Tabla31[[#This Row],[Fecha final]]) -> 2021
A18: 44347 | B18: 44366 | C18: 19 | D18: REAL | E18: 139 | F18: 91 | G18: 78 | H18: =SUM(Tabla31[[#This Row],[P1 + P4]:[P2 + P5]]) -> 230 | I18: =Tabla31[[#This Row],[P3 + P6]] -> 78 | J18: NA | K18: NA | L18: NA | M18: NA | N18: =YEAR(Tabla31[[#This Row],[Fecha final]]) -> 2021
... A41: 44996 | B41: 45031 | C41: 35 | D41: REAL | E41: 242 | F41: 239 | G41: 167 | H41: =SUM(Tabla31[[#This Row],[P1 + P4]:[P2 + P5]]) -> 481 | I41: =Tabla31[[#This Row],[P3 + P6]] -> 167 | J41: NA | K41: NA | L41: NA | M41: NA | N41: =YEAR(Tabla31[[#This Row],[Fecha final]]) -> 2023
A44: CONSUMO REACTIVA
A46: Fecha inicial | B46: Fecha final | C46: Días | D46: Tipo | E46: P1 + P4 | F46: P2 + P5 | G46: P3 + P6
A47: 11-03-2023 | B47: 15-04-2023 | C47: 35 | D47: REAL | E47: 0 | F47: 0 | G47: 0
A48: 10-02-2023 | B48: 11-03-2023 | C48: 29 | D48: REAL | E48: 0 | F48: 0 | G48: 0
A49: 14-01-2023 | B49: 10-02-2023 | C49: 27 | D49: REAL | E49: 0 | F49: 0 | G49: 0
A50: 08-12-2022 | B50: 14-01-2023 | C50: 37 | D50: REAL | E50: 0 | F50: 0 | G50: 0
A51: 08-11-2022 | B51: 08-12-2022 | C51: 30 | D51: REAL | E51: 0 | F51: 0 | G51: 0
A52: 15-10-2022 | B52: 08-11-2022 | C52: 24 | D52: REAL | E52: 0 | F52: 0 | G52: 0
A53: 13-09-2022 | B53: 15-10-2022 | C53: 32 | D53: REAL | E53: 0 | F53: 0 | G53: 0
A54: 11-08-2022 | B54: 13-09-2022 | C54: 33 | D54: REAL | E54: 0 | F54: 0 | G54: 0
A55: 13-07-2022 | B55: 11-08-2022 | C55: 29 | D55: REAL | E55: 0 | F55: 0 | G55: 0
A56: 09-06-2022 | B56: 13-07-2022 | C56: 34 | D56: REAL | E56: 0 | F56: 0 | G56: 0
A57: 08-05-2022 | B57: 09-06-2022 | C57: 32 | D57: REAL | E57: 0 | F57: 0 | G57: 0
A58: 11-04-2022 | B58: 08-05-2022 | C58: 27 | D58: REAL | E58: 0 | F58: 0 | G58: 0
... A81: 23-07-2020 | B81: 24-08-2020 | C81: 32 | D81: REAL | E81: 0 | F81: 0 | G81: 0
A84: MAXÍMETRO
A86: POTENCIAS CONTRATADAS | B86: P1 | C86: P2 | D86: P3
A87: Potencias Contratadas (kW) | B87: 10 | C87: 10 | D87: 0
A88: Fecha inicial | B88: Fecha final | C88: Días | D88: Tipo | E88: P1 | F88: P2 | G88: P3
A89: 11-03-2023 | B89: 15-04-2023 | C89: 35 | D89: REAL | E89: 0 | F89: 0 | G89: 0
A90: 10-02-2023 | B90: 11-03-2023 | C90: 29 | D90: REAL | E90: 0 | F90: 0 | G90: 0
A91: 14-01-2023 | B91: 10-02-2023 | C91: 27 | D91: REAL | E91: 0 | F91: 0 | G91: 0
A92: 08-12-2022 | B92: 14-01-2023 | C92: 37 | D92: REAL | E92: 0 | F92: 0 | G92: 0
A93: 08-11-2022 | B93: 08-12-2022 | C93: 30 | D93: REAL | E93: 0 | F93: 0 | G93: 0
A94: 15-10-2022 | B94: 08-11-2022 | C94: 24 | D94: REAL | E94: 0 | F94: 0 | G94: 0
A95: 13-09-2022 | B95: 15-10-2022 | C95: 32 | D95: REAL | E95: 0 | F95: 0 | G95: 0
A96: 11-08-2022 | B96: 13-09-2022 | C96: 33 | D96: REAL | E96: 0 | F96: 0 | G96: 0
A97: 13-07-2022 | B97: 11-08-2022 | C97: 29 | D97: REAL | E97: 0 | F97: 0 | G97: 0
A98: 09-06-2022 | B98: 13-07-2022 | C98: 34 | D98: REAL | E98: 0 | F98: 0 | G98: 0
A99: 08-05-2022 | B99: 09-06-2022 | C99: 32 | D99: REAL | E99: 0 | F99: 0 | G99: 0
A100: 11-04-2022 | B100: 08-05-2022 | C100: 27 | D100: REAL | E100: 0 | F100: 0 | G100: 0
... A123: 23-07-2020 | B123: 24-08-2020 | C123: 32 | D123: REAL | E123: 0 | F123: 0 | G123: 0

Sheet 9001DR
A1: CONSUMO ACTIVA
A3: CONSUMO ANUAL: 4658kWh | B3: P1 + P4 | C3: P2 + P5 | D3: P3 + P6
A4: Consumo anual por periodos en kWh | B4: 1628 | C4: 1240 | D4: 1790
A5: Consumo anual por periodos en % | B5: 35 | C5: 26 | D5: 39
A6: Fecha inicial | B6: Fecha final | C6: Días | D6: Tipo | E6: P1 + P4 | F6: P2 + P5 | G6: P3 + P6 | H6: P1 | I6: P2 | J6: P3 | K6: P4 | L6: P5 | M6: P6 | N6: año
A7: 43951 | B7: 43982 | C7: 31 | D7: REAL | E7: 348 | F7: 423 | G7: 134 | H7: =Tabla32[[#This Row],[P1 + P4]]*VLOOKUP(MONTH(Tabla32[[#This Row],[Fecha final]]),Tabla20[#All],2,FALSE) -> 0 | I7: =Tabla32[[#This Row],[P2 + P5]]*VLOOKUP(MONTH(Tabla32[[#This Row],[Fecha final]]),Tabla20[#All],3,FALSE) -> 0 | J7: =(Tabla32[[#This Row],[P3 + P6]])*VLOOKUP(MONTH(Tabla32[[#This Row],[Fecha final]]),Tabla20[#All],4,FALSE) -> 0 | K7: =Tabla32[[#This Row],[P1 + P4]]*VLOOKUP(MONTH(Tabla32[[#This Row],[Fecha final]]),Tabla20[#All],5,FALSE) -> 348 | L7: =Tabla32[[#This Row],[P2 + P5]]*VLOOKUP(MONTH(Tabla32[[#This Row],[Fecha final]]),Tabla20[#All],6,FALSE) -> 423 | M7: =Tabla32[[#This Row],[P3 + P6]]*VLOOKUP(MONTH(Tabla32[[#This Row],[Fecha final]]),Tabla20[#All],7,FALSE) -> 134 | N7: =YEAR(Tabla32[[#This Row],[Fecha final]]) -> 2020
A8: 43982 | B8: 44012 | C8: 30 | D8: REAL | E8: 415 | F8: 488 | G8: 136 | H8: =Tabla32[[#This Row],[P1 + P4]]*VLOOKUP(MONTH(Tabla32[[#This Row],[Fecha final]]),Tabla20[#All],2,FALSE) -> 0 | I8: =Tabla32[[#This Row],[P2 + P5]]*VLOOKUP(MONTH(Tabla32[[#This Row],[Fecha final]]),Tabla20[#All],3,FALSE) -> 0 | J8: =(Tabla32[[#This Row],[P3 + P6]])*VLOOKUP(MONTH(Tabla32[[#This Row],[Fecha final]]),Tabla20[#All],4,FALSE) -> 47.5728 | K8: =Tabla32[[#This Row],[P1 + P4]]*VLOOKUP(MONTH(Tabla32[[#This Row],[Fecha final]]),Tabla20[#All],5,FALSE) -> 415 | L8: =Tabla32[[#This Row],[P2 + P5]]*VLOOKUP(MONTH(Tabla32[[#This Row],[Fecha final]]),Tabla20[#All],6,FALSE) -> 0 | M8: =Tabla32[[#This Row],[P3 + P6]]*VLOOKUP(MONTH(Tabla32[[#This Row],[Fecha final]]),Tabla20[#All],7,FALSE) -> 88.4272 | N8: =YEAR(Tabla32[[#This Row],[Fecha final]]) -> 2020
A9: 44012 | B9: 44043 | C9: 31 | D9: REAL | E9: 573 | F9: 675 | G9: 197 | H9: =Tabla32[[#This Row],[P1 + P4]]*VLOOKUP(MONTH(Tabla32[[#This Row],[Fecha final]]),Tabla20[#All],2,FALSE) -> 573 | I9: =Tabla32[[#This Row],[P2 + P5]]*VLOOKUP(MONTH(Tabla32[[#This Row],[Fecha final]]),Tabla20[#All],3,FALSE) -> 675 | J9: =(Tabla32[[#This Row],[P3 + P6]])*VLOOKUP(MONTH(Tabla32[[#This Row],[Fecha final]]),Tabla20[#All],4,FALSE) -> 0 | K9: =Tabla32[[#This Row],[P1 + P4]]*VLOOKUP(MONTH(Tabla32[[#This Row],[Fecha final]]),Tabla20[#All],5,FALSE) -> 0 | L9: =Tabla32[[#This Row],[P2 + P5]]*VLOOKUP(MONTH(Tabla32[[#This Row],[Fecha final]]),Tabla20[#All],6,FALSE) -> 0 | M9: =Tabla32[[#This Row],[P3 + P6]]*VLOOKUP(MONTH(Tabla32[[#This Row],[Fecha final]]),Tabla20[#All],7,FALSE) -> 197 | N9: =YEAR(Tabla32[[#This Row],[Fecha final]]) -> 2020
A10: 44043 | B10: 44074 | C10: 31 | D10: REAL | E10: 582 | F10: 731 | G10: 220 | H10: =Tabla32[[#This Row],[P1 + P4]]*VLOOKUP(MONTH(Tabla32[[#This Row],[Fecha final]]),Tabla20[#All],2,FALSE) -> 0 | I10: =Tabla32[[#This Row],[P2 + P5]]*VLOOKUP(MONTH(Tabla32[[#This Row],[Fecha final]]),Tabla20[#All],3,FALSE) -> 0 | J10: =(Tabla32[[#This Row],[P3 + P6]])*VLOOKUP(MONTH(Tabla32[[#This Row],[Fecha final]]),Tabla20[#All],4,FALSE) -> 73.832 | K10: =Tabla32[[#This Row],[P1 + P4]]*VLOOKUP(MONTH(Tabla32[[#This Row],[Fecha final]]),Tabla20[#All],5,FALSE) -> 582 | L10: =Tabla32[[#This Row],[P2 + P5]]*VLOOKUP(MONTH(Tabla32[[#This Row],[Fecha final]]),Tabla20[#All],6,FALSE) -> 0 | M10: =Tabla32[[#This Row],[P3 + P6]]*VLOOKUP(MONTH(Tabla32[[#This Row],[Fecha final]]),Tabla20[#All],7,FALSE) -> 146.168 | N10: =YEAR(Tabla32[[#This Row],[Fecha final]]) -> 2020
A11: 44074 | B11: 44104 | C11: 30 | D11: REAL | E11: 498 | F11: 715 | G11: 187 | H11: =Tabla32[[#This Row],[P1 + P4]]*VLOOKUP(MONTH(Tabla32[[#This Row],[Fecha final]]),Tabla20[#All],2,FALSE) -> 0 | I11: =Tabla32[[#This Row],[P2 + P5]]*VLOOKUP(MONTH(Tabla32[[#This Row],[Fecha final]]),Tabla20[#All],3,FALSE) -> 0 | J11: =(Tabla32[[#This Row],[P3 + P6]])*VLOOKUP(MONTH(Tabla32[[#This Row],[Fecha final]]),Tabla20[#All],4,FALSE) -> 65.4126 | K11: =Tabla32[[#This Row],[P1 + P4]]*VLOOKUP(MONTH(Tabla32[[#This Row],[Fecha final]]),Tabla20[#All],5,FALSE) -> 498 | L11: =Tabla32[[#This Row],[P2 + P5]]*VLOOKUP(MONTH(Tabla32[[#This Row],[Fecha final]]),Tabla20[#All],6,FALSE) -> 0 | M11: =Tabla32[[#This Row],[P3 + P6]]*VLOOKUP(MONTH(Tabla32[[#This Row],[Fecha final]]),Tabla20[#All],7,FALSE) -> 121.5874 | N11: =YEAR(Tabla32[[#This Row],[Fecha final]]) -> 2020
A12: 44104 | B12: 44135 | C12: 31 | D12: REAL | E12: 364 | F12: 816 | G12: 174 | H12: =Tabla32[[#This Row],[P1 + P4]]*VLOOKUP(MONTH(Tabla32[[#This Row],[Fecha final]]),Tabla20[#All],2,FALSE) -> 0 | I12: =Tabla32[[#This Row],[P2 + P5]]*VLOOKUP(MONTH(Tabla32[[#This Row],[Fecha final]]),Tabla20[#All],3,FALSE) -> 0 | J12: =(Tabla32[[#This Row],[P3 + P6]])*VLOOKUP(MONTH(Tabla32[[#This Row],[Fecha final]]),Tabla20[#All],4,FALSE) -> 0 | K12: =Tabla32[[#This Row],[P1 + P4]]*VLOOKUP(MONTH(Tabla32[[#This Row],[Fecha final]]),Tabla20[#All],5,FALSE) -> 364 | L12: =Tabla32[[#This Row],[P2 + P5]]*VLOOKUP(MONTH(Tabla32[[#This Row],[Fecha final]]),Tabla20[#All],6,FALSE) -> 816 | M12: =Tabla32[[#This Row],[P3 + P6]]*VLOOKUP(MONTH(Tabla32[[#This Row],[Fecha final]]),Tabla20[#All],7,FALSE) -> 174 | N12: =YEAR(Tabla32[[#This Row],[Fecha final]]) -> 2020
A13: 44135 | B13: 44165 | C13: 30 | D13: REAL | E13: 256 | F13: 1493 | G13: 335 | H13: =Tabla32[[#This Row],[P1 + P4]]*VLOOKUP(MONTH(Tabla32[[#This Row],[Fecha final]]),Tabla20[#All],2,FALSE) -> 0 | I13: =Tabla32[[#This Row],[P2 + P5]]*VLOOKUP(MONTH(Tabla32[[#This Row],[Fecha final]]),Tabla20[#All],3,FALSE) -> 1493 | J13: =(Tabla32[[#This Row],[P3 + P6]])*VLOOKUP(MONTH(Tabla32[[#This Row],[Fecha final]]),Tabla20[#All],4,FALSE) -> 92.728 | K13: =Tabla32[[#This Row],[P1 + P4]]*VLOOKUP(MONTH(Tabla32[[#This Row],[Fecha final]]),Tabla20[#All],5,FALSE) -> 0 | L13: =Tabla32[[#This Row],[P2 + P5]]*VLOOKUP(MONTH(Tabla32[[#This Row],[Fecha final]]),Tabla20[#All],6,FALSE) -> 0 | M13: =Tabla32[[#This Row],[P3 + P6]]*VLOOKUP(MONTH(Tabla32[[#This Row],[Fecha final]]),Tabla20[#All],7,FALSE) -> 242.272 | N13: =YEAR(Tabla32[[#This Row],[Fecha final]]) -> 2020
A14: 44165 | B14: 44196 | C14: 31 | D14: REAL | E14: 316 | F14: 1846 | G14: 533 | H14: =Tabla32[[#This Row],[P1 + P4]]*VLOOKUP(MONTH(Tabla32[[#This Row],[Fecha final]]),Tabla20[#All],2,FALSE) -> 316 | I14: =Tabla32[[#This Row],[P2 + P5]]*VLOOKUP(MONTH(Tabla32[[#This Row],[Fecha final]]),Tabla20[#All],3,FALSE) -> 1846 | J14: =(Tabla32[[#This Row],[P3 + P6]])*VLOOKUP(MONTH(Tabla32[[#This Row],[Fecha final]]),Tabla20[#All],4,FALSE) -> 0 | K14: =Tabla32[[#This Row],[P1 + P4]]*VLOOKUP(MONTH(Tabla32[[#This Row],[Fecha final]]),Tabla20[#All],5,FALSE) -> 0 | L14: =Tabla32[[#This Row],[P2 + P5]]*VLOOKUP(MONTH(Tabla32[[#This Row],[Fecha final]]),Tabla20[#All],6,FALSE) -> 0 | M14: =Tabla32[[#This Row],[P3 + P6]]*VLOOKUP(MONTH(Tabla32[[#This Row],[Fecha final]]),Tabla20[#All],7,FALSE) -> 533 | N14: =YEAR(Tabla32[[#This Row],[Fecha final]]) -> 2020
A15: 44196 | B15: 44228 | C15: 32 | D15: REAL | E15: 406 | F15: 2393 | G15: 737 | H15: =Tabla32[[#This Row],[P1 + P4]]*VLOOKUP(MONTH(Tabla32[[#This Row],[Fecha final]]),Tabla20[#All],2,FALSE) -> 406 | I15: =Tabla32[[#This Row],[P2 + P5]]*VLOOKUP(MONTH(Tabla32[[#This Row],[Fecha final]]),Tabla20[#All],3,FALSE) -> 2393 | J15: =(Tabla32[[#This Row],[P3 + P6]])*VLOOKUP(MONTH(Tabla32[[#This Row],[Fecha final]]),Tabla20[#All],4,FALSE) -> 0 | K15: =Tabla32[[#This Row],[P1 + P4]]*VLOOKUP(MONTH(Tabla32[[#This Row],[Fecha final]]),Tabla20[#All],5,FALSE) -> 0 | L15: =Tabla32[[#This Row],[P2 + P5]]*VLOOKUP(MONTH(Tabla32[[#This Row],[Fecha final]]),Tabla20[#All],6,FALSE) -> 0 | M15: =Tabla32[[#This Row],[P3 + P6]]*VLOOKUP(MONTH(Tabla32[[#This Row],[Fecha final]]),Tabla20[#All],7,FALSE) -> 737 | N15: =YEAR(Tabla32[[#This Row],[Fecha final]]) -> 2021
A16: 44228 | B16: 44256 | C16: 28 | D16: REAL | E16: 924 | F16: 2772 | G16: 1848 | H16: =Tabla32[[#This Row],[P1 + P4]]*VLOOKUP(MONTH(Tabla32[[#This Row],[Fecha final]]),Tabla20[#All],2,FALSE) -> 0 | I16: =Tabla32[[#This Row],[P2 + P5]]*VLOOKUP(MONTH(Tabla32[[#This Row],[Fecha final]]),Tabla20[#All],3,FALSE) -> 2772 | J16: =(Tabla32[[#This Row],[P3 + P6]])*VLOOKUP(MONTH(Tabla32[[#This Row],[Fecha final]]),Tabla20[#All],4,FALSE) -> 554.0304 | K16: =Tabla32[[#This Row],[P1 + P4]]*VLOOKUP(MONTH(Tabla32[[#This Row],[Fecha final]]),Tabla20[#All],5,FALSE) -> 0 | L16: =Tabla32[[#This Row],[P2 + P5]]*VLOOKUP(MONTH(Tabla32[[#This Row],[Fecha final]]),Tabla20[#All],6,FALSE) -> 0 | M16: =Tabla32[[#This Row],[P3 + P6]]*VLOOKUP(MONTH(Tabla32[[#This Row],[Fecha final]]),Tabla20[#All],7,FALSE) -> 1293.9696 | N16: =YEAR(Tabla32[[#This Row],[Fecha final]]) -> 2021
A17: 44256 | B17: 44304 | C17: 48 | D17: REAL | E17: 195 | F17: 668 | G17: 227 | H17: =Tabla32[[#This Row],[P1 + P4]]*VLOOKUP(MONTH(Tabla32[[#This Row],[Fecha final]]),Tabla20[#All],2,FALSE) -> 0 | I17: =Tabla32[[#This Row],[P2 + P5]]*VLOOKUP(MONTH(Tabla32[[#This Row],[Fecha final]]),Tabla20[#All],3,FALSE) -> 0 | J17: =(Tabla32[[#This Row],[P3 + P6]])*VLOOKUP(MONTH(Tabla32[[#This Row],[Fecha final]]),Tabla20[#All],4,FALSE) -> 0 | K17: =Tabla32[[#This Row],[P1 + P4]]*VLOOKUP(MONTH(Tabla32[[#This Row],[Fecha final]]),Tabla20[#All],5,FALSE) -> 195 | L17: =Tabla32[[#This Row],[P2 + P5]]*VLOOKUP(MONTH(Tabla32[[#This Row],[Fecha final]]),Tabla20[#All],6,FALSE) -> 668 | M17: =Tabla32[[#This Row],[P3 + P6]]*VLOOKUP(MONTH(Tabla32[[#This Row],[Fecha final]]),Tabla20[#All],7,FALSE) -> 227 | N17: =YEAR(Tabla32[[#This Row],[Fecha final]]) -> 2021
A18: 44304 | B18: 44316 | C18: 12 | D18: REAL | E18: 0 | F18: 0 | G18: 0 | H18: =Tabla32[[#This Row],[P1 + P4]]*VLOOKUP(MONTH(Tabla32[[#This Row],[Fecha final]]),Tabla20[#All],2,FALSE) -> 0 | I18: =Tabla32[[#This Row],[P2 + P5]]*VLOOKUP(MONTH(Tabla32[[#This Row],[Fecha final]]),Tabla20[#All],3,FALSE) -> 0 | J18: =(Tabla32[[#This Row],[P3 + P6]])*VLOOKUP(MONTH(Tabla32[[#This Row],[Fecha final]]),Tabla20[#All],4,FALSE) -> 0 | K18: =Tabla32[[#This Row],[P1 + P4]]*VLOOKUP(MONTH(Tabla32[[#This Row],[Fecha final]]),Tabla20[#All],5,FALSE) -> 0 | L18: =Tabla32[[#This Row],[P2 + P5]]*VLOOKUP(MONTH(Tabla32[[#This Row],[Fecha final]]),Tabla20[#All],6,FALSE) -> 0 | M18: =Tabla32[[#This Row],[P3 + P6]]*VLOOKUP(MONTH(Tabla32[[#This Row],[Fecha final]]),Tabla20[#All],7,FALSE) -> 0 | N18: =YEAR(Tabla32[[#This Row],[Fecha final]]) -> 2021
... A41: 44985 | B41: 45016 | C41: 31 | D41: REAL | E41: 0 | F41: 209 | G41: 287 | H41: =Tabla32[[#This Row],[P1 + P4]]*VLOOKUP(MONTH(Tabla32[[#This Row],[Fecha final]]),Tabla20[#All],2,FALSE) -> 0 | I41: =Tabla32[[#This Row],[P2 + P5]]*VLOOKUP(MONTH(Tabla32[[#This Row],[Fecha final]]),Tabla20[#All],3,FALSE) -> 209 | J41: =(Tabla32[[#This Row],[P3 + P6]])*VLOOKUP(MONTH(Tabla32[[#This Row],[Fecha final]]),Tabla20[#All],4,FALSE) -> 86.0426 | K41: =Tabla32[[#This Row],[P1 + P4]]*VLOOKUP(MONTH(Tabla32[[#This Row],[Fecha final]]),Tabla20[#All],5,FALSE) -> 0 | L41: =Tabla32[[#This Row],[P2 + P5]]*VLOOKUP(MONTH(Tabla32[[#This Row],[Fecha final]]),Tabla20[#All],6,FALSE) -> 0 | M41: =Tabla32[[#This Row],[P3 + P6]]*VLOOKUP(MONTH(Tabla32[[#This Row],[Fecha final]]),Tabla20[#All],7,FALSE) -> 200.9574 | N41: =YEAR(Tabla32[[#This Row],[Fecha final]]) -> 2023
A44: CONSUMO REACTIVA
A46: Fecha inicial | B46: Fecha final | C46: Días | D46: Tipo | E46: P1 + P4 | F46: P2 + P5 | G46: P3 + P6
A47: 28-02-2023 | B47: 31-03-2023 | C47: 31 | D47: REAL | E47: 0 | F47: 14 | G47: 15
A48: 31-01-2023 | B48: 28-02-2023 | C48: 28 | D48: REAL | E48: 37 | F48: 33 | G48: 0
A49: 31-12-2022 | B49: 31-01-2023 | C49: 31 | D49: REAL | E49: 31 | F49: 25 | G49: 0
A50: 30-11-2022 | B50: 31-12-2022 | C50: 31 | D50: REAL | E50: 27 | F50: 14 | G50: 0
A51: 31-10-2022 | B51: 30-11-2022 | C51: 30 | D51: REAL | E51: 0 | F51: 9 | G51: 15
A52: 30-09-2022 | B52: 31-10-2022 | C52: 31 | D52: REAL | E52: 9 | F52: 6 | G52: 0
A53: 31-08-2022 | B53: 30-09-2022 | C53: 30 | D53: REAL | E53: 8 | F53: 0 | G53: 12
A54: 16-08-2022 | B54: 31-08-2022 | C54: 15 | D54: REAL | E54: 0 | F54: 0 | G54: 3
A55: 31-05-2022 | B55: 16-08-2022 | C55: 77 | D55: REAL | E55: 0 | F55: 0 | G55: 0
A56: 30-04-2022 | B56: 31-05-2022 | C56: 31 | D56: REAL | E56: 0 | F56: 10 | G56: 0
A57: 31-03-2022 | B57: 30-04-2022 | C57: 30 | D57: REAL | E57: 0 | F57: 0 | G57: 0
A58: 18-02-2022 | B58: 31-03-2022 | C58: 41 | D58: REAL | E58: 0 | F58: 0 | G58: 0
... A81: 30-04-2020 | B81: 31-05-2020 | C81: 31 | D81: REAL | E81: 191 | F81: 152 | G81: 2
A84: MAXÍMETRO
A86: POTENCIAS CONTRATADAS | B86: P1 | C86: P2 | D86: P3
A87: Potencias Contratadas (kW) | B87: 25 | C87: 25 | D87: 25
A88: Fecha inicial | B88: Fecha final | C88: Días | D88: Tipo | E88: P1 | F88: P2 | G88: P3
A89: 28-02-2023 | B89: 31-03-2023 | C89: 31 | D89: REAL | E89: 0 | F89: 6 | G89: 5
A90: 31-01-2023 | B90: 28-02-2023 | C90: 28 | D90: REAL | E90: 6 | F90: 7 | G90: 4
A91: 31-12-2022 | B91: 31-01-2023 | C91: 31 | D91: REAL | E91: 8 | F91: 8 | G91: 4
A92: 30-11-2022 | B92: 31-12-2022 | C92: 31 | D92: REAL | E92: 7 | F92: 5 | G92: 1
A93: 31-10-2022 | B93: 30-11-2022 | C93: 30 | D93: REAL | E93: 0 | F93: 5 | G93: 5
A94: 30-09-2022 | B94: 31-10-2022 | C94: 31 | D94: REAL | E94: 1 | F94: 3 | G94: 1
A95: 31-08-2022 | B95: 30-09-2022 | C95: 30 | D95: REAL | E95: 1 | F95: 0 | G95: 2
A96: 16-08-2022 | B96: 31-08-2022 | C96: 15 | D96: REAL | E96: 21.25 | F96: 0 | G96: 21.25
A97: 31-05-2022 | B97: 16-08-2022 | C97: 77 | D97: REAL | E97: 21.25 | F97: 21.25 | G97: 21.25
A98: 30-04-2022 | B98: 31-05-2022 | C98: 31 | D98: REAL | E98: 2 | F98: 2 | G98: 1
A99: 31-03-2022 | B99: 30-04-2022 | C99: 30 | D99: REAL | E99: 3 | F99: 1 | G99: 1
A100: 18-02-2022 | B100: 31-03-2022 | C100: 41 | D100: REAL | E100: 0 | F100: 3 | G100: 3
... A123: 30-04-2020 | B123: 31-05-2020 | C123: 31 | D123: REAL | E123: 6 | F123: 6 | G123: 2
A126: OPTIMIZACIÓN POTENCIA
A129: COMPENSACIÓN REACTIVA

Sheet 3021YT
A1: CONSUMO ACTIVA
A3: CONSUMO ANUAL: 152kWh | B3: P1 + P4 | C3: P2 + P5 | D3: P3 + P6
A4: Consumo anual por periodos en kWh | B4: 39 | C4: 27 | D4: 86
A5: Consumo anual por periodos en % | B5: 26 | C5: 18 | D5: 56
A6: Fecha inicial | B6: Fecha final | C6: Días | D6: Tipo | E6: P1 + P4 | F6: P2 + P5 | G6: P3 + P6 | H6: P1 | I6: P2 | J6: P3 | K6: P4 | L6: P5 | M6: P6 | N6: año
A7: 44124 | B7: 44154 | C7: 30 | D7: REAL | E7: 139 | F7: 645 | G7: 166 | H7: =Tabla33[[#This Row],[P1 + P4]]*VLOOKUP(MONTH(Tabla33[[#This Row],[Fecha final]]),Tabla20[#All],2,FALSE) -> 0 | I7: =Tabla33[[#This Row],[P2 + P5]]*VLOOKUP(MONTH(Tabla33[[#This Row],[Fecha final]]),Tabla20[#All],3,FALSE) -> 645 | J7: =(Tabla33[[#This Row],[P3 + P6]])*VLOOKUP(MONTH(Tabla33[[#This Row],[Fecha final]]),Tabla20[#All],4,FALSE) -> 45.9488 | K7: =Tabla33[[#This Row],[P1 + P4]]*VLOOKUP(MONTH(Tabla33[[#This Row],[Fecha final]]),Tabla20[#All],5,FALSE) -> 0 | L7: =Tabla33[[#This Row],[P2 + P5]]*VLOOKUP(MONTH(Tabla33[[#This Row],[Fecha final]]),Tabla20[#All],6,FALSE) -> 0 | M7: =Tabla33[[#This Row],[P3 + P6]]*VLOOKUP(MONTH(Tabla33[[#This Row],[Fecha final]]),Tabla20[#All],7,FALSE) -> 120.0512 | N7: =YEAR(Tabla33[[#This Row],[Fecha final]]) -> 2020
A8: 44154 | B8: 44187 | C8: 33 | D8: REAL | E8: 194 | F8: 1169 | G8: 269 | H8: =Tabla33[[#This Row],[P1 + P4]]*VLOOKUP(MONTH(Tabla33[[#This Row],[Fecha final]]),Tabla20[#All],2,FALSE) -> 194 | I8: =Tabla33[[#This Row],[P2 + P5]]*VLOOKUP(MONTH(Tabla33[[#This Row],[Fecha final]]),Tabla20[#All],3,FALSE) -> 1169 | J8: =(Tabla33[[#This Row],[P3 + P6]])*VLOOKUP(MONTH(Tabla33[[#This Row],[Fecha final]]),Tabla20[#All],4,FALSE) -> 0 | K8: =Tabla33[[#This Row],[P1 + P4]]*VLOOKUP(MONTH(Tabla33[[#This Row],[Fecha final]]),Tabla20[#All],5,FALSE) -> 0 | L8: =Tabla33[[#This Row],[P2 + P5]]*VLOOKUP(MONTH(Tabla33[[#This Row],[Fecha final]]),Tabla20[#All],6,FALSE) -> 0 | M8: =Tabla33[[#This Row],[P3 + P6]]*VLOOKUP(MONTH(Tabla33[[#This Row],[Fecha final]]),Tabla20[#All],7,FALSE) -> 269 | N8: =YEAR(Tabla33[[#This Row],[Fecha final]]) -> 2020
A9: 44187 | B9: 44218 | C9: 31 | D9: REAL | E9: 202 | F9: 1385 | G9: 303 | H9: =Tabla33[[#This Row],[P1 + P4]]*VLOOKUP(MONTH(Tabla33[[#This Row],[Fecha final]]),Tabla20[#All],2,FALSE) -> 202 | I9: =Tabla33[[#This Row],[P2 + P5]]*VLOOKUP(MONTH(Tabla33[[#This Row],[Fecha final]]),Tabla20[#All],3,FALSE) -> 1385 | J9: =(Tabla33[[#This Row],[P3 + P6]])*VLOOKUP(MONTH(Tabla33[[#This Row],[Fecha final]]),Tabla20[#All],4,FALSE) -> 0 | K9: =Tabla33[[#This Row],[P1 + P4]]*VLOOKUP(MONTH(Tabla33[[#This Row],[Fecha final]]),Tabla20[#All],5,FALSE) -> 0 | L9: =Tabla33[[#This Row],[P2 + P5]]*VLOOKUP(MONTH(Tabla33[[#This Row],[Fecha final]]),Tabla20[#All],6,FALSE) -> 0 | M9: =Tabla33[[#This Row],[P3 + P6]]*VLOOKUP(MONTH(Tabla33[[#This Row],[Fecha final]]),Tabla20[#All],7,FALSE) -> 303 | N9: =YEAR(Tabla33[[#This Row],[Fecha final]]) -> 2021
A10: 44218 | B10: 44243 | C10: 25 | D10: REAL | E10: 115 | F10: 909 | G10: 138 | H10: =Tabla33[[#This Row],[P1 + P4]]*VLOOKUP(MONTH(Tabla33[[#This Row],[Fecha final]]),Tabla20[#All],2,FALSE) -> 115 | I10: =Tabla33[[#This Row],[P2 + P5]]*VLOOKUP(MONTH(Tabla33[[#This Row],[Fecha final]]),Tabla20[#All],3,FALSE) -> 909 | J10: =(Tabla33[[#This Row],[P3 + P6]])*VLOOKUP(MONTH(Tabla33[[#This Row],[Fecha final]]),Tabla20[#All],4,FALSE) -> 0 | K10: =Tabla33[[#This Row],[P1 + P4]]*VLOOKUP(MONTH(Tabla33[[#This Row],[Fecha final]]),Tabla20[#All],5,FALSE) -> 0 | L10: =Tabla33[[#This Row],[P2 + P5]]*VLOOKUP(MONTH(Tabla33[[#This Row],[Fecha final]]),Tabla20[#All],6,FALSE) -> 0 | M10: =Tabla33[[#This Row],[P3 + P6]]*VLOOKUP(MONTH(Tabla33[[#This Row],[Fecha final]]),Tabla20[#All],7,FALSE) -> 138 | N10: =YEAR(Tabla33[[#This Row],[Fecha final]]) -> 2021
A11: 44243 | B11: 44272 | C11: 29 | D11: REAL | E11: 189 | F11: 875 | G11: 292 | H11: =Tabla33[[#This Row],[P1 + P4]]*VLOOKUP(MONTH(Tabla33[[#This Row],[Fecha final]]),Tabla20[#All],2,FALSE) -> 0 | I11: =Tabla33[[#This Row],[P2 + P5]]*VLOOKUP(MONTH(Tabla33[[#This Row],[Fecha final]]),Tabla20[#All],3,FALSE) -> 875 | J11: =(Tabla33[[#This Row],[P3 + P6]])*VLOOKUP(MONTH(Tabla33[[#This Row],[Fecha final]]),Tabla20[#All],4,FALSE) -> 87.5416 | K11: =Tabla33[[#This Row],[P1 + P4]]*VLOOKUP(MONTH(Tabla33[[#This Row],[Fecha final]]),Tabla20[#All],5,FALSE) -> 0 | L11: =Tabla33[[#This Row],[P2 + P5]]*VLOOKUP(MONTH(Tabla33[[#This Row],[Fecha final]]),Tabla20[#All],6,FALSE) -> 0 | M11: =Tabla33[[#This Row],[P3 + P6]]*VLOOKUP(MONTH(Tabla33[[#This Row],[Fecha final]]),Tabla20[#All],7,FALSE) -> 204.4584 | N11: =YEAR(Tabla33[[#This Row],[Fecha final]]) -> 2021
A12: 44272 | B12: 44286 | C12: 14 | D12: REAL | E12: 104 | F12: 351 | G12: 32 | H12: =Tabla33[[#This Row],[P1 + P4]]*VLOOKUP(MONTH(Tabla33[[#This Row],[Fecha final]]),Tabla20[#All],2,FALSE) -> 0 | I12: =Tabla33[[#This Row],[P2 + P5]]*VLOOKUP(MONTH(Tabla33[[#This Row],[Fecha final]]),Tabla20[#All],3,FALSE) -> 351 | J12: =(Tabla33[[#This Row],[P3 + P6]])*VLOOKUP(MONTH(Tabla33[[#This Row],[Fecha final]]),Tabla20[#All],4,FALSE) -> 9.5936 | K12: =Tabla33[[#This Row],[P1 + P4]]*VLOOKUP(MONTH(Tabla33[[#This Row],[Fecha final]]),Tabla20[#All],5,FALSE) -> 0 | L12: =Tabla33[[#This Row],[P2 + P5]]*VLOOKUP(MONTH(Tabla33[[#This Row],[Fecha final]]),Tabla20[#All],6,FALSE) -> 0 | M12: =Tabla33[[#This Row],[P3 + P6]]*VLOOKUP(MONTH(Tabla33[[#This Row],[Fecha final]]),Tabla20[#All],7,FALSE) -> 22.4064 | N12: =YEAR(Tabla33[[#This Row],[Fecha final]]) -> 2021
A13: 44286 | B13: 44334 | C13: 48 | D13: REAL | E13: 6 | F13: 13 | G13: 6 | H13: =Tabla33[[#This Row],[P1 + P4]]*VLOOKUP(MONTH(Tabla33[[#This Row],[Fecha final]]),Tabla20[#All],2,FALSE) -> 0 | I13: =Tabla33[[#This Row],[P2 + P5]]*VLOOKUP(MONTH(Tabla33[[#This Row],[Fecha final]]),Tabla20[#All],3,FALSE) -> 0 | J13: =(Tabla33[[#This Row],[P3 + P6]])*VLOOKUP(MONTH(Tabla33[[#This Row],[Fecha final]]),Tabla20[#All],4,FALSE) -> 0 | K13: =Tabla33[[#This Row],[P1 + P4]]*VLOOKUP(MONTH(Tabla33[[#This Row],[Fecha final]]),Tabla20[#All],5,FALSE) -> 6 | L13: =Tabla33[[#This Row],[P2 + P5]]*VLOOKUP(MONTH(Tabla33[[#This Row],[Fecha final]]),Tabla20[#All],6,FALSE) -> 13 | M13: =Tabla33[[#This Row],[P3 + P6]]*VLOOKUP(MONTH(Tabla33[[#This Row],[Fecha final]]),Tabla20[#All],7,FALSE) -> 6 | N13: =YEAR(Tabla33[[#This Row],[Fecha final]]) -> 2021
A14: 44334 | B14: 44337 | C14: 3 | D14: REAL | E14: 6 | F14: 14 | G14: 6 | H14: =Tabla33[[#This Row],[P1 + P4]]*VLOOKUP(MONTH(Tabla33[[#This Row],[Fecha final]]),Tabla20[#All],2,FALSE) -> 0 | I14: =Tabla33[[#This Row],[P2 + P5]]*VLOOKUP(MONTH(Tabla33[[#This Row],[Fecha final]]),Tabla20[#All],3,FALSE) -> 0 | J14: =(Tabla33[[#This Row],[P3 + P6]])*VLOOKUP(MONTH(Tabla33[[#This Row],[Fecha final]]),Tabla20[#All],4,FALSE) -> 0 | K14: =Tabla33[[#This Row],[P1 + P4]]*VLOOKUP(MONTH(Tabla33[[#This Row],[Fecha final]]),Tabla20[#All],5,FALSE) -> 6 | L14: =Tabla33[[#This Row],[P2 + P5]]*VLOOKUP(MONTH(Tabla33[[#This Row],[Fecha final]]),Tabla20[#All],6,FALSE) -> 14 | M14: =Tabla33[[#This Row],[P3 + P6]]*VLOOKUP(MONTH(Tabla33[[#This Row],[Fecha final]]),Tabla20[#All],7,FALSE) -> 6 | N14: =YEAR(Tabla33[[#This Row],[Fecha final]]) -> 2021
A15: 44337 | B15: 44347 | C15: 10 | D15: REAL | E15: 24 | F15: 60 | G15: 27 | H15: =Tabla33[[#This Row],[P1 + P4]]*VLOOKUP(MONTH(Tabla33[[#This Row],[Fecha final]]),Tabla20[#All],2,FALSE) -> 0 | I15: =Tabla33[[#This Row],[P2 + P5]]*VLOOKUP(MONTH(Tabla33[[#This Row],[Fecha final]]),Tabla20[#All],3,FALSE) -> 0 | J15: =(Tabla33[[#This Row],[P3 + P6]])*VLOOKUP(MONTH(Tabla33[[#This Row],[Fecha final]]),Tabla20[#All],4,FALSE) -> 0 | K15: =Tabla33[[#This Row],[P1 + P4]]*VLOOKUP(MONTH(Tabla33[[#This Row],[Fecha final]]),Tabla20[#All],5,FALSE) -> 24 | L15: =Tabla33[[#This Row],[P2 + P5]]*VLOOKUP(MONTH(Tabla33[[#This Row],[Fecha final]]),Tabla20[#All],6,FALSE) -> 60 | M15: =Tabla33[[#This Row],[P3 + P6]]*VLOOKUP(MONTH(Tabla33[[#This Row],[Fecha final]]),Tabla20[#All],7,FALSE) -> 27 | N15: =YEAR(Tabla33[[#This Row],[Fecha final]]) -> 2021
A16: 44347 | B16: 44397 | C16: 50 | D16: REAL | E16: 966 | F16: 1280 | G16: 936 | H16: =Tabla33[[#This Row],[P1 + P4]]*VLOOKUP(MONTH(Tabla33[[#This Row],[Fecha final]]),Tabla20[#All],2,FALSE) -> 966 | I16: =Tabla33[[#This Row],[P2 + P5]]*VLOOKUP(MONTH(Tabla33[[#This Row],[Fecha final]]),Tabla20[#All],3,FALSE) -> 1280 | J16: =(Tabla33[[#This Row],[P3 + P6]])*VLOOKUP(MONTH(Tabla33[[#This Row],[Fecha final]]),Tabla20[#All],4,FALSE) -> 0 | K16: =Tabla33[[#This Row],[P1 + P4]]*VLOOKUP(MONTH(Tabla33[[#This Row],[Fecha final]]),Tabla20[#All],5,FALSE) -> 0 | L16: =Tabla33[[#This Row],[P2 + P5]]*VLOOKUP(MONTH(Tabla33[[#This Row],[Fecha final]]),Tabla20[#All],6,FALSE) -> 0 | M16: =Tabla33[[#This Row],[P3 + P6]]*VLOOKUP(MONTH(Tabla33[[#This Row],[Fecha final]]),Tabla20[#All],7,FALSE) -> 936 | N16: =YEAR(Tabla33[[#This Row],[Fecha final]]) -> 2021
A17: 44397 | B17: 44425 | C17: 28 | D17: REAL | E17: 356 | F17: 107 | G17: 575 | H17: =Tabla33[[#This Row],[P1 + P4]]*VLOOKUP(MONTH(Tabla33[[#This Row],[Fecha final]]),Tabla20[#All],2,FALSE) -> 0 | I17: =Tabla33[[#This Row],[P2 + P5]]*VLOOKUP(MONTH(Tabla33[[#This Row],[Fecha final]]),Tabla20[#All],3,FALSE) -> 0 | J17: =(Tabla33[[#This Row],[P3 + P6]])*VLOOKUP(MONTH(Tabla33[[#This Row],[Fecha final]]),Tabla20[#All],4,FALSE) -> 192.97 | K17: =Tabla33[[#This Row],[P1 + P4]]*VLOOKUP(MONTH(Tabla33[[#This Row],[Fecha final]]),Tabla20[#All],5,FALSE) -> 356 | L17: =Tabla33[[#This Row],[P2 + P5]]*VLOOKUP(MONTH(Tabla33[[#This Row],[Fecha final]]),Tabla20[#All],6,FALSE) -> 0 | M17: =Tabla33[[#This Row],[P3 + P6]]*VLOOKUP(MONTH(Tabla33[[#This Row],[Fecha final]]),Tabla20[#All],7,FALSE) -> 382.03 | N17: =YEAR(Tabla33[[#This Row],[Fecha final]]) -> 2021
A18: 44425 | B18: 44431 | C18: 6 | D18: REAL | E18: 29 | F18: 0 | G18: 111 | H18: =Tabla33[[#This Row],[P1 + P4]]*VLOOKUP(MONTH(Tabla33[[#This Row],[Fecha final]]),Tabla20[#All],2,FALSE) -> 0 | I18: =Tabla33[[#This Row],[P2 + P5]]*VLOOKUP(MONTH(Tabla33[[#This Row],[Fecha final]]),Tabla20[#All],3,FALSE) -> 0 | J18: =(Tabla33[[#This Row],[P3 + P6]])*VLOOKUP(MONTH(Tabla33[[#This Row],[Fecha final]]),Tabla20[#All],4,FALSE) -> 37.2516 | K18: =Tabla33[[#This Row],[P1 + P4]]*VLOOKUP(MONTH(Tabla33[[#This Row],[Fecha final]]),Tabla20[#All],5,FALSE) -> 29 | L18: =Tabla33[[#This Row],[P2 + P5]]*VLOOKUP(MONTH(Tabla33[[#This Row],[Fecha final]]),Tabla20[#All],6,FALSE) -> 0 | M18: =Tabla33[[#This Row],[P3 + P6]]*VLOOKUP(MONTH(Tabla33[[#This Row],[Fecha final]]),Tabla20[#All],7,FALSE) -> 73.7484 | N18: =YEAR(Tabla33[[#This Row],[Fecha final]]) -> 2021
... A41: 44985 | B41: 45016 | C41: 31 | D41: REAL | E41: 0 | F41: 10 | G41: 26 | H41: =Tabla33[[#This Row],[P1 + P4]]*VLOOKUP(MONTH(Tabla33[[#This Row],[Fecha final]]),Tabla20[#All],2,FALSE) -> 0 | I41: =Tabla33[[#This Row],[P2 + P5]]*VLOOKUP(MONTH(Tabla33[[#This Row],[Fecha final]]),Tabla20[#All],3,FALSE) -> 10 | J41: =(Tabla33[[#This Row],[P3 + P6]])*VLOOKUP(MONTH(Tabla33[[#This Row],[Fecha final]]),Tabla20[#All],4,FALSE) -> 7.7948 | K41: =Tabla33[[#This Row],[P1 + P4]]*VLOOKUP(MONTH(Tabla33[[#This Row],[Fecha final]]),Tabla20[#All],5,FALSE) -> 0 | L41: =Tabla33[[#This Row],[P2 + P5]]*VLOOKUP(MONTH(Tabla33[[#This Row],[Fecha final]]),Tabla20[#All],6,FALSE) -> 0 | M41: =Tabla33[[#This Row],[P3 + P6]]*VLOOKUP(MONTH(Tabla33[[#This Row],[Fecha final]]),Tabla20[#All],7,FALSE) -> 18.2052 | N41: =YEAR(Tabla33[[#This Row],[Fecha final]]) -> 2023
A44: CONSUMO REACTIVA
A46: Fecha inicial | B46: Fecha final | C46: Días | D46: Tipo | E46: P1 + P4 | F46: P2 + P5 | G46: P3 + P6
A47: 28-02-2023 | B47: 31-03-2023 | C47: 31 | D47: REAL | E47: 0 | F47: 2 | G47: 1
A48: 31-01-2023 | B48: 28-02-2023 | C48: 28 | D48: REAL | E48: 1 | F48: 1 | G48: 0
A49: 31-12-2022 | B49: 31-01-2023 | C49: 31 | D49: REAL | E49: 2 | F49: 2 | G49: 0
A50: 21-12-2022 | B50: 31-12-2022 | C50: 10 | D50: REAL | E50: 0 | F50: 0 | G50: 0
A51: 20-11-2022 | B51: 21-12-2022 | C51: 31 | D51: REAL | E51: 0 | F51: 0 | G51: 0
A52: 31-10-2022 | B52: 20-11-2022 | C52: 20 | D52: REAL | E52: 0 | F52: 0 | G52: 0
A53: 30-09-2022 | B53: 31-10-2022 | C53: 31 | D53: REAL | E53: 0 | F53: 0 | G53: 0
A54: 31-08-2022 | B54: 30-09-2022 | C54: 30 | D54: REAL | E54: 0 | F54: 0 | G54: 0
A55: 31-07-2022 | B55: 31-08-2022 | C55: 31 | D55: REAL | E55: 1 | F55: 0 | G55: 1
A56: 30-06-2022 | B56: 31-07-2022 | C56: 31 | D56: REAL | E56: 2 | F56: 1 | G56: 0
A57: 31-05-2022 | B57: 30-06-2022 | C57: 30 | D57: REAL | E57: 2 | F57: 0 | G57: 2
A58: 16-05-2022 | B58: 31-05-2022 | C58: 15 | D58: REAL | E58: 0 | F58: 0 | G58: 0
... A81: 20-10-2020 | B81: 19-11-2020 | C81: 30 | D81: REAL | E81: 3 | F81: 34 | G81: 7
A84: MAXÍMETRO
A86: POTENCIAS CONTRATADAS | B86: P1 | C86: P2 | D86: P3
A87: Potencias Contratadas (kW) | B87: 25 | C87: 25 | D87: 25
A88: Fecha inicial | B88: Fecha final | C88: Días | D88: Tipo | E88: P1 | F88: P2 | G88: P3
A89: 28-02-2023 | B89: 31-03-2023 | C89: 31 | D89: REAL | E89: 0 | F89: 0 | G89: 0
A90: 31-01-2023 | B90: 28-02-2023 | C90: 28 | D90: REAL | E90: 0 | F90: 0 | G90: 0
A91: 31-12-2022 | B91: 31-01-2023 | C91: 31 | D91: REAL | E91: 0 | F91: 0 | G91: 0
A92: 21-12-2022 | B92: 31-12-2022 | C92: 10 | D92: REAL | E92: 0 | F92: 0 | G92: 0
A93: 20-11-2022 | B93: 21-12-2022 | C93: 31 | D93: REAL | E93: 0 | F93: 0 | G93: 0.002
A94: 31-10-2022 | B94: 20-11-2022 | C94: 20 | D94: REAL | E94: 0 | F94: 3.043 | G94: 2.952
A95: 30-09-2022 | B95: 31-10-2022 | C95: 31 | D95: REAL | E95: 1.372 | F95: 1.243 | G95: 0.579
A96: 31-08-2022 | B96: 30-09-2022 | C96: 30 | D96: REAL | E96: 1 | F96: 0 | G96: 1
A97: 31-07-2022 | B97: 31-08-2022 | C97: 31 | D97: REAL | E97: 0 | F97: 0 | G97: 0
A98: 30-06-2022 | B98: 31-07-2022 | C98: 31 | D98: REAL | E98: 0 | F98: 0 | G98: 0
A99: 31-05-2022 | B99: 30-06-2022 | C99: 30 | D99: REAL | E99: 0 | F99: 0 | G99: 0
A100: 16-05-2022 | B100: 31-05-2022 | C100: 15 | D100: REAL | E100: 0 | F100: 0 | G100: 0
... A123: 20-10-2020 | B123: 19-11-2020 | C123: 30 | D123: REAL | E123: 3 | F123: 4 | G123: 2
A126: OPTIMIZACIÓN POTENCIA
A129: COMPENSACIÓN REACTIVA

Sheet 6034XG
A1: CONSUMO ACTIVA
A3: CONSUMO ANUAL: 7307kWh | B3: P1 + P4 | C3: P2 + P5 | D3: P3 + P6
A4: Consumo anual por periodos en kWh | B4: 3073 | C4: 2320 | D4: 1913
A5: Consumo anual por periodos en % | B5: 42 | C5: 32 | D5: 26
A6: Fecha inicial | B6: Fecha final | C6: Días | D6: Tipo | E6: P1 + P4 | F6: P2 + P5 | G6: P3 + P6 | H6: P1 | I6: P2 | J6: P3 | K6: P4 | L6: P5 | M6: P6 | N6: año
A7: 44035 | B7: 44067 | C7: 32 | D7: REAL | E7: 420 | F7: 0 | G7: 0 | H7: =SUM(Tabla34[[#This Row],[P1 + P4]:[P2 + P5]]) -> 420 | I7: =Tabla34[[#This Row],[P3 + P6]] -> 0 | J7: NA | K7: NA | L7: NA | M7: NA | N7: =YEAR(Tabla34[[#This Row],[Fecha final]]) -> 2020
A8: 44067 | B8: 44098 | C8: 31 | D8: REAL | E8: 344 | F8: 0 | G8: 0 | H8: =SUM(Tabla34[[#This Row],[P1 + P4]:[P2 + P5]]) -> 344 | I8: =Tabla34[[#This Row],[P3 + P6]] -> 0 | J8: NA | K8: NA | L8: NA | M8: NA | N8: =YEAR(Tabla34[[#This Row],[Fecha final]]) -> 2020
A9: 44098 | B9: 44129 | C9: 31 | D9: REAL | E9: 421 | F9: 0 | G9: 0 | H9: =SUM(Tabla34[[#This Row],[P1 + P4]:[P2 + P5]]) -> 421 | I9: =Tabla34[[#This Row],[P3 + P6]] -> 0 | J9: NA | K9: NA | L9: NA | M9: NA | N9: =YEAR(Tabla34[[#This Row],[Fecha final]]) -> 2020
A10: 44129 | B10: 44158 | C10: 29 | D10: REAL | E10: 654 | F10: 0 | G10: 0 | H10: =SUM(Tabla34[[#This Row],[P1 + P4]:[P2 + P5]]) -> 654 | I10: =Tabla34[[#This Row],[P3 + P6]] -> 0 | J10: NA | K10: NA | L10: NA | M10: NA | N10: =YEAR(Tabla34[[#This Row],[Fecha final]]) -> 2020
A11: 44158 | B11: 44191 | C11: 33 | D11: REAL | E11: 963 | F11: 0 | G11: 0 | H11: =SUM(Tabla34[[#This Row],[P1 + P4]:[P2 + P5]]) -> 963 | I11: =Tabla34[[#This Row],[P3 + P6]] -> 0 | J11: NA | K11: NA | L11: NA | M11: NA | N11: =YEAR(Tabla34[[#This Row],[Fecha final]]) -> 2020
A12: 44191 | B12: 44223 | C12: 32 | D12: REAL | E12: 1336 | F12: 0 | G12: 0 | H12: =SUM(Tabla34[[#This Row],[P1 + P4]:[P2 + P5]]) -> 1336 | I12: =Tabla34[[#This Row],[P3 + P6]] -> 0 | J12: NA | K12: NA | L12: NA | M12: NA | N12: =YEAR(Tabla34[[#This Row],[Fecha final]]) -> 2021
A13: 44223 | B13: 44250 | C13: 27 | D13: REAL | E13: 863 | F13: 0 | G13: 0 | H13: =SUM(Tabla34[[#This Row],[P1 + P4]:[P2 + P5]]) -> 863 | I13: =Tabla34[[#This Row],[P3 + P6]] -> 0 | J13: NA | K13: NA | L13: NA | M13: NA | N13: =YEAR(Tabla34[[#This Row],[Fecha final]]) -> 2021
A14: 44250 | B14: 44278 | C14: 28 | D14: REAL | E14: 882 | F14: 0 | G14: 0 | H14: =SUM(Tabla34[[#This Row],[P1 + P4]:[P2 + P5]]) -> 882 | I14: =Tabla34[[#This Row],[P3 + P6]] -> 0 | J14: NA | K14: NA | L14: NA | M14: NA | N14: =YEAR(Tabla34[[#This Row],[Fecha final]]) -> 2021
A15: 44278 | B15: 44313 | C15: 35 | D15: REAL | E15: 814 | F15: 0 | G15: 0 | H15: =SUM(Tabla34[[#This Row],[P1 + P4]:[P2 + P5]]) -> 814 | I15: =Tabla34[[#This Row],[P3 + P6]] -> 0 | J15: NA | K15: NA | L15: NA | M15: NA | N15: =YEAR(Tabla34[[#This Row],[Fecha final]]) -> 2021
A16: 44313 | B16: 44341 | C16: 28 | D16: REAL | E16: 446 | F16: 0 | G16: 0 | H16: =SUM(Tabla34[[#This Row],[P1 + P4]:[P2 + P5]]) -> 446 | I16: =Tabla34[[#This Row],[P3 + P6]] -> 0 | J16: NA | K16: NA | L16: NA | M16: NA | N16: =YEAR(Tabla34[[#This Row],[Fecha final]]) -> 2021
A17: 44341 | B17: 44347 | C17: 6 | D17: REAL | E17: 71 | F17: 0 | G17: 0 | H17: =SUM(Tabla34[[#This Row],[P1 + P4]:[P2 + P5]]) -> 71 | I17: =Tabla34[[#This Row],[P3 + P6]] -> 0 | J17: NA | K17: NA | L17: NA | M17: NA | N17: =YEAR(Tabla34[[#This Row],[Fecha final]]) -> 2021
A18: 44347 | B18: 44370 | C18: 23 | D18: REAL | E18: 143 | F18: 71 | G18: 100 | H18: =SUM(Tabla34[[#This Row],[P1 + P4]:[P2 + P5]]) -> 214 | I18: =Tabla34[[#This Row],[P3 + P6]] -> 100 | J18: NA | K18: NA | L18: NA | M18: NA | N18: =YEAR(Tabla34[[#This Row],[Fecha final]]) -> 2021
... A41: 44997 | B41: 45032 | C41: 35 | D41: REAL | E41: 232 | F41: 204 | G41: 158 | H41: =SUM(Tabla34[[#This Row],[P1 + P4]:[P2 + P5]]) -> 436 | I41: =Tabla34[[#This Row],[P3 + P6]] -> 158 | J41: NA | K41: NA | L41: NA | M41: NA | N41: =YEAR(Tabla34[[#This Row],[Fecha final]]) -> 2023
A44: CONSUMO REACTIVA
A46: Fecha inicial | B46: Fecha final | C46: Días | D46: Tipo | E46: P1 + P4 | F46: P2 + P5 | G46: P3 + P6
A47: 12-03-2023 | B47: 16-04-2023 | C47: 35 | D47: REAL | E47: 0 | F47: 0 | G47: 0
A48: 12-02-2023 | B48: 12-03-2023 | C48: 28 | D48: REAL | E48: 0 | F48: 0 | G48: 0
A49: 14-01-2023 | B49: 12-02-2023 | C49: 29 | D49: REAL | E49: 0 | F49: 0 | G49: 0
A50: 14-12-2022 | B50: 14-01-2023 | C50: 31 | D50: REAL | E50: 0 | F50: 0 | G50: 0
A51: 13-11-2022 | B51: 14-12-2022 | C51: 31 | D51: REAL | E51: 0 | F51: 0 | G51: 0
A52: 14-10-2022 | B52: 13-11-2022 | C52: 30 | D52: REAL | E52: 0 | F52: 0 | G52: 0
A53: 12-09-2022 | B53: 14-10-2022 | C53: 32 | D53: REAL | E53: 0 | F53: 0 | G53: 0
A54: 09-08-2022 | B54: 12-09-2022 | C54: 34 | D54: REAL | E54: 0 | F54: 0 | G54: 0
A55: 12-07-2022 | B55: 09-08-2022 | C55: 28 | D55: REAL | E55: 0 | F55: 0 | G55: 0
A56: 14-06-2022 | B56: 12-07-2022 | C56: 28 | D56: REAL | E56: 0 | F56: 0 | G56: 0
A57: 10-05-2022 | B57: 14-06-2022 | C57: 35 | D57: REAL | E57: 0 | F57: 0 | G57: 0
A58: 12-04-2022 | B58: 10-05-2022 | C58: 28 | D58: REAL | E58: 0 | F58: 0 | G58: 0
... A81: 23-07-2020 | B81: 24-08-2020 | C81: 32 | D81: REAL | E81: 0 | F81: 0 | G81: 0
A84: MAXÍMETRO
A86: POTENCIAS CONTRATADAS | B86: P1 | C86: P2 | D86: P3
A87: Potencias Contratadas (kW) | B87: 9.2 | C87: 9.2 | D87: 0
A88: Fecha inicial | B88: Fecha final | C88: Días | D88: Tipo | E88: P1 | F88: P2 | G88: P3
A89: 12-03-2023 | B89: 16-04-2023 | C89: 35 | D89: REAL | E89: 0 | F89: 0 | G89: 0
A90: 12-02-2023 | B90: 12-03-2023 | C90: 28 | D90: REAL | E90: 0 | F90: 0 | G90: 0
A91: 14-01-2023 | B91: 12-02-2023 | C91: 29 | D91: REAL | E91: 0 | F91: 0 | G91: 0
A92: 14-12-2022 | B92: 14-01-2023 | C92: 31 | D92: REAL | E92: 0 | F92: 0 | G92: 0
A93: 13-11-2022 | B93: 14-12-2022 | C93: 31 | D93: REAL | E93: 0 | F93: 0 | G93: 0
A94: 14-10-2022 | B94: 13-11-2022 | C94: 30 | D94: REAL | E94: 0 | F94: 0 | G94: 0
A95: 12-09-2022 | B95: 14-10-2022 | C95: 32 | D95: REAL | E95: 0 | F95: 0 | G95: 0
A96: 09-08-2022 | B96: 12-09-2022 | C96: 34 | D96: REAL | E96: 0 | F96: 0 | G96: 0
A97: 12-07-2022 | B97: 09-08-2022 | C97: 28 | D97: REAL | E97: 0 | F97: 0 | G97: 0
A98: 14-06-2022 | B98: 12-07-2022 | C98: 28 | D98: REAL | E98: 0 | F98: 0 | G98: 0
A99: 10-05-2022 | B99: 14-06-2022 | C99: 35 | D99: REAL | E99: 0 | F99: 0 | G99: 0
A100: 12-04-2022 | B100: 10-05-2022 | C100: 28 | D100: REAL | E100: 0 | F100: 0 | G100: 0
... A123: 23-07-2020 | B123: 24-08-2020 | C123: 32 | D123: REAL | E123: 0 | F123: 0 | G123: 0

Sheet 3003KX
A1: CONSUMO ACTIVA
A3: CONSUMO ANUAL: 3423kWh | B3: P1 + P4 | C3: P2 + P5 | D3: P3 + P6
A4: Consumo anual por periodos en kWh | B4: 1382 | C4: 952 | D4: 1088
A5: Consumo anual por periodos en % | B5: 40 | C5: 28 | D5: 32
A6: Fecha inicial | B6: Fecha final | C6: Días | D6: Tipo | E6: P1 + P4 | F6: P2 + P5 | G6: P3 + P6 | H6: P1 | I6: P2 | J6: P3 | K6: P4 | L6: P5 | M6: P6 | N6: año
A7: 44005 | B7: 44035 | C7: 30 | D7: REAL | E7: 28 | F7: 40 | G7: 0 | H7: =SUM(Tabla35[[#This Row],[P1 + P4]:[P2 + P5]]) -> 68 | I7: =Tabla35[[#This Row],[P3 + P6]] -> 0 | J7: NA | K7: NA | L7: NA | M7: NA | N7: =YEAR(Tabla35[[#This Row],[Fecha final]]) -> 2020
A8: 44035 | B8: 44067 | C8: 32 | D8: REAL | E8: 20 | F8: 27 | G8: 0 | H8: =SUM(Tabla35[[#This Row],[P1 + P4]:[P2 + P5]]) -> 47 | I8: =Tabla35[[#This Row],[P3 + P6]] -> 0 | J8: NA | K8: NA | L8: NA | M8: NA | N8: =YEAR(Tabla35[[#This Row],[Fecha final]]) -> 2020
A9: 44067 | B9: 44096 | C9: 29 | D9: REAL | E9: 18 | F9: 25 | G9: 0 | H9: =SUM(Tabla35[[#This Row],[P1 + P4]:[P2 + P5]]) -> 43 | I9: =Tabla35[[#This Row],[P3 + P6]] -> 0 | J9: NA | K9: NA | L9: NA | M9: NA | N9: =YEAR(Tabla35[[#This Row],[Fecha final]]) -> 2020
A10: 44096 | B10: 44129 | C10: 33 | D10: REAL | E10: 17 | F10: 25 | G10: 0 | H10: =SUM(Tabla35[[#This Row],[P1 + P4]:[P2 + P5]]) -> 42 | I10: =Tabla35[[#This Row],[P3 + P6]] -> 0 | J10: NA | K10: NA | L10: NA | M10: NA | N10: =YEAR(Tabla35[[#This Row],[Fecha final]]) -> 2020
A11: 44129 | B11: 44159 | C11: 30 | D11: REAL | E11: 17 | F11: 23 | G11: 0 | H11: =SUM(Tabla35[[#This Row],[P1 + P4]:[P2 + P5]]) -> 40 | I11: =Tabla35[[#This Row],[P3 + P6]] -> 0 | J11: NA | K11: NA | L11: NA | M11: NA | N11: =YEAR(Tabla35[[#This Row],[Fecha final]]) -> 2020
A12: 44159 | B12: 44193 | C12: 34 | D12: REAL | E12: 58 | F12: 70 | G12: 0 | H12: =SUM(Tabla35[[#This Row],[P1 + P4]:[P2 + P5]]) -> 128 | I12: =Tabla35[[#This Row],[P3 + P6]] -> 0 | J12: NA | K12: NA | L12: NA | M12: NA | N12: =YEAR(Tabla35[[#This Row],[Fecha final]]) -> 2020
A13: 44193 | B13: 44223 | C13: 30 | D13: REAL | E13: 235 | F13: 151 | G13: 0 | H13: =SUM(Tabla35[[#This Row],[P1 + P4]:[P2 + P5]]) -> 386 | I13: =Tabla35[[#This Row],[P3 + P6]] -> 0 | J13: NA | K13: NA | L13: NA | M13: NA | N13: =YEAR(Tabla35[[#This Row],[Fecha final]]) -> 2021
A14: 44223 | B14: 44250 | C14: 27 | D14: REAL | E14: 211 | F14: 158 | G14: 0 | H14: =SUM(Tabla35[[#This Row],[P1 + P4]:[P2 + P5]]) -> 369 | I14: =Tabla35[[#This Row],[P3 + P6]] -> 0 | J14: NA | K14: NA | L14: NA | M14: NA | N14: =YEAR(Tabla35[[#This Row],[Fecha final]]) -> 2021
A15: 44250 | B15: 44251 | C15: 1 | D15: REAL | E15: 12 | F15: 10 | G15: 0 | H15: =SUM(Tabla35[[#This Row],[P1 + P4]:[P2 + P5]]) -> 22 | I15: =Tabla35[[#This Row],[P3 + P6]] -> 0 | J15: NA | K15: NA | L15: NA | M15: NA | N15: =YEAR(Tabla35[[#This Row],[Fecha final]]) -> 2021
A16: 44252 | B16: 44279 | C16: 27 | D16: REAL | E16: 367 | F16: 247 | G16: 0 | H16: =SUM(Tabla35[[#This Row],[P1 + P4]:[P2 + P5]]) -> 614 | I16: =Tabla35[[#This Row],[P3 + P6]] -> 0 | J16: NA | K16: NA | L16: NA | M16: NA | N16: =YEAR(Tabla35[[#This Row],[Fecha final]]) -> 2021
A17: 44279 | B17: 44314 | C17: 35 | D17: REAL | E17: 331 | F17: 332 | G17: 0 | H17: =SUM(Tabla35[[#This Row],[P1 + P4]:[P2 + P5]]) -> 663 | I17: =Tabla35[[#This Row],[P3 + P6]] -> 0 | J17: NA | K17: NA | L17: NA | M17: NA | N17: =YEAR(Tabla35[[#This Row],[Fecha final]]) -> 2021
A18: 44314 | B18: 44341 | C18: 27 | D18: REAL | E18: 224 | F18: 245 | G18: 0 | H18: =SUM(Tabla35[[#This Row],[P1 + P4]:[P2 + P5]]) -> 469 | I18: =Tabla35[[#This Row],[P3 + P6]] -> 0 | J18: NA | K18: NA | L18: NA | M18: NA | N18: =YEAR(Tabla35[[#This Row],[Fecha final]]) -> 2021
... A41: 44979 | B41: 45010 | C41: 31 | D41: REAL | E41: 122 | F41: 77 | G41: 113 | H41: =SUM(Tabla35[[#This Row],[P1 + P4]:[P2 + P5]]) -> 199 | I41: =Tabla35[[#This Row],[P3 + P6]] -> 113 | J41: NA | K41: NA | L41: NA | M41: NA | N41: =YEAR(Tabla35[[#This Row],[Fecha final]]) -> 2023
A44: CONSUMO REACTIVA
A46: Fecha inicial | B46: Fecha final | C46: Días | D46: Tipo | E46: P1 + P4 | F46: P2 + P5 | G46: P3 + P6
A47: 22-02-2023 | B47: 25-03-2023 | C47: 31 | D47: REAL | E47: 0 | F47: 0 | G47: 0
A48: 24-01-2023 | B48: 22-02-2023 | C48: 29 | D48: REAL | E48: 0 | F48: 0 | G48: 0
A49: 27-12-2022 | B49: 24-01-2023 | C49: 28 | D49: REAL | E49: 0 | F49: 0 | G49: 0
A50: 23-11-2022 | B50: 27-12-2022 | C50: 34 | D50: REAL | E50: 0 | F50: 0 | G50: 0
A51: 24-10-2022 | B51: 23-11-2022 | C51: 30 | D51: REAL | E51: 0 | F51: 0 | G51: 0
A52: 24-09-2022 | B52: 24-10-2022 | C52: 30 | D52: REAL | E52: 0 | F52: 0 | G52: 0
A53: 24-08-2022 | B53: 24-09-2022 | C53: 31 | D53: REAL | E53: 0 | F53: 0 | G53: 0
A54: 25-07-2022 | B54: 24-08-2022 | C54: 30 | D54: REAL | E54: 0 | F54: 0 | G54: 0
A55: 22-06-2022 | B55: 25-07-2022 | C55: 33 | D55: REAL | E55: 0 | F55: 0 | G55: 0
A56: 23-05-2022 | B56: 22-06-2022 | C56: 30 | D56: REAL | E56: 0 | F56: 0 | G56: 0
A57: 28-04-2022 | B57: 23-05-2022 | C57: 25 | D57: REAL | E57: 0 | F57: 0 | G57: 0
A58: 23-03-2022 | B58: 28-04-2022 | C58: 36 | D58: REAL | E58: 0 | F58: 0 | G58: 0
... A81: 23-06-2020 | B81: 23-07-2020 | C81: 30 | D81: REAL | E81: 0 | F81: 0 | G81: 0
A84: MAXÍMETRO
A86: POTENCIAS CONTRATADAS | B86: P1 | C86: P2 | D86: P3
A87: Potencias Contratadas (kW) | B87: 5.6 | C87: 5.6 | D87: 0
A88: Fecha inicial | B88: Fecha final | C88: Días | D88: Tipo | E88: P1 | F88: P2 | G88: P3
A89: 22-02-2023 | B89: 25-03-2023 | C89: 31 | D89: REAL | E89: 0 | F89: 0 | G89: 0
A90: 24-01-2023 | B90: 22-02-2023 | C90: 29 | D90: REAL | E90: 0 | F90: 0 | G90: 0
A91: 27-12-2022 | B91: 24-01-2023 | C91: 28 | D91: REAL | E91: 0 | F91: 0 | G91: 0
A92: 23-11-2022 | B92: 27-12-2022 | C92: 34 | D92: REAL | E92: 0 | F92: 0 | G92: 0
A93: 24-10-2022 | B93: 23-11-2022 | C93: 30 | D93: REAL | E93: 0 | F93: 0 | G93: 0
A94: 24-09-2022 | B94: 24-10-2022 | C94: 30 | D94: REAL | E94: 0 | F94: 0 | G94: 0
A95: 24-08-2022 | B95: 24-09-2022 | C95: 31 | D95: REAL | E95: 0 | F95: 0 | G95: 0
A96: 25-07-2022 | B96: 24-08-2022 | C96: 30 | D96: REAL | E96: 0 | F96: 0 | G96: 0
A97: 22-06-2022 | B97: 25-07-2022 | C97: 33 | D97: REAL | E97: 0 | F97: 0 | G97: 0
A98: 23-05-2022 | B98: 22-06-2022 | C98: 30 | D98: REAL | E98: 0 | F98: 0 | G98: 0
A99: 28-04-2022 | B99: 23-05-2022 | C99: 25 | D99: REAL | E99: 0 | F99: 0 | G99: 0
A100: 23-03-2022 | B100: 28-04-2022 | C100: 36 | D100: REAL | E100: 0 | F100: 0 | G100: 0
... A123: 23-06-2020 | B123: 23-07-2020 | C123: 30 | D123: REAL | E123: 0 | F123: 0 | G123: 0

Sheet 7871CF
A1: CONSUMO ACTIVA
A3: CONSUMO ANUAL: 6526kWh | B3: P1 + P4 | C3: P2 + P5 | D3: P3 + P6
A4: Consumo anual por periodos en kWh | B4: 1743 | C4: 2154 | D4: 2629
A5: Consumo anual por periodos en % | B5: 27 | C5: 33 | D5: 41
A6: Fecha inicial | B6: Fecha final | C6: Días | D6: Tipo | E6: P1 + P4 | F6: P2 + P5 | G6: P3 + P6 | H6: P1 | I6: P2 | J6: P3 | K6: P4 | L6: P5 | M6: P6 | N6: año
A7: 44227 | B7: 44255 | C7: 28 | D7: REAL | E7: 149 | F7: 1051 | G7: 267 | H7: =SUM(Tabla36[[#This Row],[P1 + P4]:[P2 + P5]]) -> 1200 | I7: =Tabla36[[#This Row],[P3 + P6]] -> 267 | J7: NA | K7: NA | L7: NA | M7: NA | N7: =YEAR(Tabla36[[#This Row],[Fecha final]]) -> 2021
A8: 44255 | B8: 44293 | C8: 38 | D8: REAL | E8: 174 | F8: 1085 | G8: 278 | H8: =SUM(Tabla36[[#This Row],[P1 + P4]:[P2 + P5]]) -> 1259 | I8: =Tabla36[[#This Row],[P3 + P6]] -> 278 | J8: NA | K8: NA | L8: NA | M8: NA | N8: =YEAR(Tabla36[[#This Row],[Fecha final]]) -> 2021
A9: 44293 | B9: 44316 | C9: 23 | D9: REAL | E9: 330 | F9: 763 | G9: 201 | H9: =SUM(Tabla36[[#This Row],[P1 + P4]:[P2 + P5]]) -> 1093 | I9: =Tabla36[[#This Row],[P3 + P6]] -> 201 | J9: NA | K9: NA | L9: NA | M9: NA | N9: =YEAR(Tabla36[[#This Row],[Fecha final]]) -> 2021
A10: 44316 | B10: 44347 | C10: 31 | D10: REAL | E10: 225 | F10: 550 | G10: 171 | H10: =SUM(Tabla36[[#This Row],[P1 + P4]:[P2 + P5]]) -> 775 | I10: =Tabla36[[#This Row],[P3 + P6]] -> 171 | J10: NA | K10: NA | L10: NA | M10: NA | N10: =YEAR(Tabla36[[#This Row],[Fecha final]]) -> 2021
A11: 44347 | B11: 44377 | C11: 30 | D11: REAL | E11: 293 | F11: 0 | G11: 743 | H11: =SUM(Tabla36[[#This Row],[P1 + P4]:[P2 + P5]]) -> 293 | I11: =Tabla36[[#This Row],[P3 + P6]] -> 743 | J11: NA | K11: NA | L11: NA | M11: NA | N11: =YEAR(Tabla36[[#This Row],[Fecha final]]) -> 2021
A12: 44377 | B12: 44408 | C12: 31 | D12: REAL | E12: 666 | F12: 420 | G12: 240 | H12: =SUM(Tabla36[[#This Row],[P1 + P4]:[P2 + P5]]) -> 1086 | I12: =Tabla36[[#This Row],[P3 + P6]] -> 240 | J12: NA | K12: NA | L12: NA | M12: NA | N12: =YEAR(Tabla36[[#This Row],[Fecha final]]) -> 2021
A13: 44408 | B13: 44439 | C13: 31 | D13: REAL | E13: 294 | F13: 0 | G13: 694 | H13: =SUM(Tabla36[[#This Row],[P1 + P4]:[P2 + P5]]) -> 294 | I13: =Tabla36[[#This Row],[P3 + P6]] -> 694 | J13: NA | K13: NA | L13: NA | M13: NA | N13: =YEAR(Tabla36[[#This Row],[Fecha final]]) -> 2021
A14: 44439 | B14: 44469 | C14: 30 | D14: REAL | E14: 279 | F14: 0 | G14: 671 | H14: =SUM(Tabla36[[#This Row],[P1 + P4]:[P2 + P5]]) -> 279 | I14: =Tabla36[[#This Row],[P3 + P6]] -> 671 | J14: NA | K14: NA | L14: NA | M14: NA | N14: =YEAR(Tabla36[[#This Row],[Fecha final]]) -> 2021
A15: 44469 | B15: 44500 | C15: 31 | D15: REAL | E15: 332 | F15: 212 | G15: 189 | H15: =SUM(Tabla36[[#This Row],[P1 + P4]:[P2 + P5]]) -> 544 | I15: =Tabla36[[#This Row],[P3 + P6]] -> 189 | J15: NA | K15: NA | L15: NA | M15: NA | N15: =YEAR(Tabla36[[#This Row],[Fecha final]]) -> 2021
A16: 44500 | B16: 44530 | C16: 30 | D16: REAL | E16: 0 | F16: 15 | G16: 43 | H16: =SUM(Tabla36[[#This Row],[P1 + P4]:[P2 + P5]]) -> 15 | I16: =Tabla36[[#This Row],[P3 + P6]] -> 43 | J16: NA | K16: NA | L16: NA | M16: NA | N16: =YEAR(Tabla36[[#This Row],[Fecha final]]) -> 2021
A17: 44530 | B17: 44561 | C17: 31 | D17: REAL | E17: 18 | F17: 11 | G17: 33 | H17: =SUM(Tabla36[[#This Row],[P1 + P4]:[P2 + P5]]) -> 29 | I17: =Tabla36[[#This Row],[P3 + P6]] -> 33 | J17: NA | K17: NA | L17: NA | M17: NA | N17: =YEAR(Tabla36[[#This Row],[Fecha final]]) -> 2021
A18: 44561 | B18: 44592 | C18: 31 | D18: REAL | E18: 15 | F18: 12 | G18: 34 | H18: =SUM(Tabla36[[#This Row],[P1 + P4]:[P2 + P5]]) -> 27 | I18: =Tabla36[[#This Row],[P3 + P6]] -> 34 | J18: NA | K18: NA | L18: NA | M18: NA | N18: =YEAR(Tabla36[[#This Row],[Fecha final]]) -> 2022
... A33: 45016 | B33: 45046 | C33: 30 | D33: REAL | E33: 155 | F33: 108 | G33: 165 | H33: =SUM(Tabla36[[#This Row],[P1 + P4]:[P2 + P5]]) -> 263 | I33: =Tabla36[[#This Row],[P3 + P6]] -> 165 | J33: NA | K33: NA | L33: NA | M33: NA | N33: =YEAR(Tabla36[[#This Row],[Fecha final]]) -> 2023
A36: CONSUMO REACTIVA
A38: Fecha inicial | B38: Fecha final | C38: Días | D38: Tipo | E38: P1 + P4 | F38: P2 + P5 | G38: P3 + P6
A39: 31-03-2023 | B39: 30-04-2023 | C39: 30 | D39: REAL | E39: 0 | F39: 0 | G39: 0
A40: 28-02-2023 | B40: 31-03-2023 | C40: 31 | D40: REAL | E40: 0 | F40: 0 | G40: 0
A41: 31-01-2023 | B41: 28-02-2023 | C41: 28 | D41: REAL | E41: 0 | F41: 0 | G41: 0
A42: 31-12-2022 | B42: 31-01-2023 | C42: 31 | D42: REAL | E42: 0 | F42: 0 | G42: 0
A43: 30-11-2022 | B43: 31-12-2022 | C43: 31 | D43: REAL | E43: 0 | F43: 0 | G43: 0
A44: 31-10-2022 | B44: 30-11-2022 | C44: 30 | D44: REAL | E44: 0 | F44: 0 | G44: 0
A45: 30-09-2022 | B45: 31-10-2022 | C45: 31 | D45: REAL | E45: 0 | F45: 0 | G45: 0
A46: 31-08-2022 | B46: 30-09-2022 | C46: 30 | D46: REAL | E46: 0 | F46: 0 | G46: 0
A47: 31-07-2022 | B47: 31-08-2022 | C47: 31 | D47: REAL | E47: 20 | F47: 0 | G47: 0
A48: 30-06-2022 | B48: 31-07-2022 | C48: 31 | D48: REAL | E48: 8 | F48: 3 | G48: 0
A49: 31-05-2022 | B49: 30-06-2022 | C49: 30 | D49: REAL | E49: 18 | F49: 4 | G49: 0
A50: 30-04-2022 | B50: 31-05-2022 | C50: 31 | D50: REAL | E50: 0 | F50: 0 | G50: 0
... A65: 31-01-2021 | B65: 28-02-2021 | C65: 28 | D65: REAL | E65: 193 | F65: 603 | G65: 0
A68: MAXÍMETRO
A70: POTENCIAS CONTRATADAS | B70: P1 | C70: P2 | D70: P3
A71: Potencias Contratadas (kW) | B71: 18 | C71: 18 | D71: 18
A72: Fecha inicial | B72: Fecha final | C72: Días | D72: Tipo | E72: P1 | F72: P2 | G72: P3
A73: 31-03-2023 | B73: 30-04-2023 | C73: 30 | D73: REAL | E73: 6.562 | F73: 6.691 | G73: 2.492
A74: 28-02-2023 | B74: 31-03-2023 | C74: 31 | D74: REAL | E74: 0 | F74: 11.521 | G74: 11.606
A75: 31-01-2023 | B75: 28-02-2023 | C75: 28 | D75: REAL | E75: 12.3 | F75: 13.768 | G75: 6.333
A76: 31-12-2022 | B76: 31-01-2023 | C76: 31 | D76: REAL | E76: 12.752 | F76: 13.176 | G76: 9.692
A77: 30-11-2022 | B77: 31-12-2022 | C77: 31 | D77: REAL | E77: 11.499 | F77: 13.56 | G77: 4.399
A78: 31-10-2022 | B78: 30-11-2022 | C78: 30 | D78: REAL | E78: 0 | F78: 11.388 | G78: 12.814
A79: 30-09-2022 | B79: 31-10-2022 | C79: 31 | D79: REAL | E79: 6.746 | F79: 8.173 | G79: 2.426
A80: 31-08-2022 | B80: 30-09-2022 | C80: 30 | D80: REAL | E80: 6.822 | F80: 0 | G80: 8.884
A81: 31-07-2022 | B81: 31-08-2022 | C81: 31 | D81: REAL | E81: 1.974 | F81: 0 | G81: 11.296
A82: 30-06-2022 | B82: 31-07-2022 | C82: 31 | D82: REAL | E82: 12 | F82: 1 | G82: 1
A83: 31-05-2022 | B83: 30-06-2022 | C83: 30 | D83: REAL | E83: 1.802 | F83: 0 | G83: 1.632
A84: 30-04-2022 | B84: 31-05-2022 | C84: 31 | D84: REAL | E84: 1.853 | F84: 1.881 | G84: 1.868
... A99: 31-01-2021 | B99: 28-02-2021 | C99: 28 | D99: REAL | E99: 5.335 | F99: 13.986 | G99: 11.867
A102: OPTIMIZACIÓN POTENCIA
A105: COMPENSACIÓN REACTIVA

Sheet 1307LV
A1: CONSUMO ACTIVA
A3: CONSUMO ANUAL: 6936kWh | B3: P1 + P4 | C3: P2 + P5 | D3: P3 + P6
A4: Consumo anual por periodos en kWh | B4: 3128 | C4: 2140 | D4: 1668
A5: Consumo anual por periodos en % | B5: 45 | C5: 31 | D5: 24
A6: Fecha inicial | B6: Fecha final | C6: Días | D6: Tipo | E6: P1 + P4 | F6: P2 + P5 | G6: P3 + P6 | H6: P1 | I6: P2 | J6: P3 | K6: P4 | L6: P5 | M6: P6 | N6: año
A7: 43993 | B7: 44025 | C7: 32 | D7: REAL | E7: 141 | F7: 246 | G7: 0 | H7: =SUM(Tabla37[[#This Row],[P1 + P4]:[P2 + P5]]) -> 387 | I7: =Tabla37[[#This Row],[P3 + P6]] -> 0 | J7: NA | K7: NA | L7: NA | M7: NA | N7: =YEAR(Tabla37[[#This Row],[Fecha final]]) -> 2020
A8: 44025 | B8: 44055 | C8: 30 | D8: REAL | E8: 131 | F8: 310 | G8: 0 | H8: =SUM(Tabla37[[#This Row],[P1 + P4]:[P2 + P5]]) -> 441 | I8: =Tabla37[[#This Row],[P3 + P6]] -> 0 | J8: NA | K8: NA | L8: NA | M8: NA | N8: =YEAR(Tabla37[[#This Row],[Fecha final]]) -> 2020
A9: 44055 | B9: 44087 | C9: 32 | D9: REAL | E9: 120 | F9: 213 | G9: 0 | H9: =SUM(Tabla37[[#This Row],[P1 + P4]:[P2 + P5]]) -> 333 | I9: =Tabla37[[#This Row],[P3 + P6]] -> 0 | J9: NA | K9: NA | L9: NA | M9: NA | N9: =YEAR(Tabla37[[#This Row],[Fecha final]]) -> 2020
A10: 44087 | B10: 44117 | C10: 30 | D10: REAL | E10: 178 | F10: 257 | G10: 0 | H10: =SUM(Tabla37[[#This Row],[P1 + P4]:[P2 + P5]]) -> 435 | I10: =Tabla37[[#This Row],[P3 + P6]] -> 0 | J10: NA | K10: NA | L10: NA | M10: NA | N10: =YEAR(Tabla37[[#This Row],[Fecha final]]) -> 2020
A11: 44117 | B11: 44146 | C11: 29 | D11: REAL | E11: 237 | F11: 359 | G11: 0 | H11: =SUM(Tabla37[[#This Row],[P1 + P4]:[P2 + P5]]) -> 596 | I11: =Tabla37[[#This Row],[P3 + P6]] -> 0 | J11: NA | K11: NA | L11: NA | M11: NA | N11: =YEAR(Tabla37[[#This Row],[Fecha final]]) -> 2020
A12: 44146 | B12: 44175 | C12: 29 | D12: REAL | E12: 326 | F12: 412 | G12: 0 | H12: =SUM(Tabla37[[#This Row],[P1 + P4]:[P2 + P5]]) -> 738 | I12: =Tabla37[[#This Row],[P3 + P6]] -> 0 | J12: NA | K12: NA | L12: NA | M12: NA | N12: =YEAR(Tabla37[[#This Row],[Fecha final]]) -> 2020
A13: 44175 | B13: 44207 | C13: 32 | D13: REAL | E13: 385 | F13: 458 | G13: 0 | H13: =SUM(Tabla37[[#This Row],[P1 + P4]:[P2 + P5]]) -> 843 | I13: =Tabla37[[#This Row],[P3 + P6]] -> 0 | J13: NA | K13: NA | L13: NA | M13: NA | N13: =YEAR(Tabla37[[#This Row],[Fecha final]]) -> 2021
A14: 44207 | B14: 44234 | C14: 27 | D14: REAL | E14: 403 | F14: 452 | G14: 0 | H14: =SUM(Tabla37[[#This Row],[P1 + P4]:[P2 + P5]]) -> 855 | I14: =Tabla37[[#This Row],[P3 + P6]] -> 0 | J14: NA | K14: NA | L14: NA | M14: NA | N14: =YEAR(Tabla37[[#This Row],[Fecha final]]) -> 2021
A15: 44234 | B15: 44266 | C15: 32 | D15: REAL | E15: 330 | F15: 439 | G15: 0 | H15: =SUM(Tabla37[[#This Row],[P1 + P4]:[P2 + P5]]) -> 769 | I15: =Tabla37[[#This Row],[P3 + P6]] -> 0 | J15: NA | K15: NA | L15: NA | M15: NA | N15: =YEAR(Tabla37[[#This Row],[Fecha final]]) -> 2021
A16: 44266 | B16: 44301 | C16: 35 | D16: REAL | E16: 247 | F16: 412 | G16: 0 | H16: =SUM(Tabla37[[#This Row],[P1 + P4]:[P2 + P5]]) -> 659 | I16: =Tabla37[[#This Row],[P3 + P6]] -> 0 | J16: NA | K16: NA | L16: NA | M16: NA | N16: =YEAR(Tabla37[[#This Row],[Fecha final]]) -> 2021
A17: 44301 | B17: 44328 | C17: 27 | D17: REAL | E17: 158 | F17: 240 | G17: 0 | H17: =SUM(Tabla37[[#This Row],[P1 + P4]:[P2 + P5]]) -> 398 | I17: =Tabla37[[#This Row],[P3 + P6]] -> 0 | J17: NA | K17: NA | L17: NA | M17: NA | N17: =YEAR(Tabla37[[#This Row],[Fecha final]]) -> 2021
A18: 44328 | B18: 44347 | C18: 19 | D18: REAL | E18: 89 | F18: 142 | G18: 0 | H18: =SUM(Tabla37[[#This Row],[P1 + P4]:[P2 + P5]]) -> 231 | I18: =Tabla37[[#This Row],[P3 + P6]] -> 0 | J18: NA | K18: NA | L18: NA | M18: NA | N18: =YEAR(Tabla37[[#This Row],[Fecha final]]) -> 2021
... A42: 44998 | B42: 45028 | C42: 30 | D42: REAL | E42: 248 | F42: 146 | G42: 87 | H42: =SUM(Tabla37[[#This Row],[P1 + P4]:[P2 + P5]]) -> 394 | I42: =Tabla37[[#This Row],[P3 + P6]] -> 87 | J42: NA | K42: NA | L42: NA | M42: NA | N42: =YEAR(Tabla37[[#This Row],[Fecha final]]) -> 2023
A45: CONSUMO REACTIVA
A47: Fecha inicial | B47: Fecha final | C47: Días | D47: Tipo | E47: P1 + P4 | F47: P2 + P5 | G47: P3 + P6
A48: 13-03-2023 | B48: 12-04-2023 | C48: 30 | D48: REAL | E48: 0 | F48: 0 | G48: 0
A49: 12-02-2023 | B49: 13-03-2023 | C49: 29 | D49: REAL | E49: 0 | F49: 0 | G49: 0
A50: 12-01-2023 | B50: 12-02-2023 | C50: 31 | D50: REAL | E50: 0 | F50: 0 | G50: 0
A51: 14-12-2022 | B51: 12-01-2023 | C51: 29 | D51: REAL | E51: 0 | F51: 0 | G51: 0
A52: 13-11-2022 | B52: 14-12-2022 | C52: 31 | D52: REAL | E52: 0 | F52: 0 | G52: 0
A53: 13-10-2022 | B53: 13-11-2022 | C53: 31 | D53: REAL | E53: 0 | F53: 0 | G53: 0
A54: 13-09-2022 | B54: 13-10-2022 | C54: 30 | D54: REAL | E54: 0 | F54: 0 | G54: 0
A55: 11-08-2022 | B55: 13-09-2022 | C55: 33 | D55: REAL | E55: 0 | F55: 0 | G55: 0
A56: 12-07-2022 | B56: 11-08-2022 | C56: 30 | D56: REAL | E56: 0 | F56: 0 | G56: 0
A57: 13-06-2022 | B57: 12-07-2022 | C57: 29 | D57: REAL | E57: 0 | F57: 0 | G57: 0
A58: 12-05-2022 | B58: 13-06-2022 | C58: 32 | D58: REAL | E58: 0 | F58: 0 | G58: 0
A59: 12-04-2022 | B59: 12-05-2022 | C59: 30 | D59: REAL | E59: 0 | F59: 0 | G59: 0
... A83: 11-06-2020 | B83: 13-07-2020 | C83: 32 | D83: REAL | E83: 0 | F83: 0 | G83: 0
A86: MAXÍMETRO
A88: POTENCIAS CONTRATADAS | B88: P1 | C88: P2 | D88: P3
A89: Potencias Contratadas (kW) | B89: 10.35 | C89: 10.35 | D89: 0
A90: Fecha inicial | B90: Fecha final | C90: Días | D90: Tipo | E90: P1 | F90: P2 | G90: P3
A91: 13-03-2023 | B91: 12-04-2023 | C91: 30 | D91: REAL | E91: 7.71 | F91: 9.015 | G91: 7.93
A92: 12-02-2023 | B92: 13-03-2023 | C92: 29 | D92: REAL | E92: 11.113 | F92: 11.167 | G92: 6.6
A93: 12-01-2023 | B93: 12-02-2023 | C93: 31 | D93: REAL | E93: 10.884 | F93: 11.162 | G93: 3.28
A94: 14-12-2022 | B94: 12-01-2023 | C94: 29 | D94: REAL | E94: 0 | F94: 7.992 | G94: 8.488
A95: 13-11-2022 | B95: 14-12-2022 | C95: 31 | D95: REAL | E95: 9.985 | F95: 5.734 | G95: 0
A96: 13-10-2022 | B96: 13-11-2022 | C96: 31 | D96: REAL | E96: 3.6 | F96: 4.608 | G96: 0
A97: 13-09-2022 | B97: 13-10-2022 | C97: 30 | D97: REAL | E97: 4.005 | F97: 2.267 | G97: 0
A98: 11-08-2022 | B98: 13-09-2022 | C98: 33 | D98: REAL | E98: 3.775 | F98: 0 | G98: 0
A99: 12-07-2022 | B99: 11-08-2022 | C99: 30 | D99: REAL | E99: 4.287 | F99: 4.606 | G99: 0
A100: 13-06-2022 | B100: 12-07-2022 | C100: 29 | D100: REAL | E100: 4.283 | F100: 3.924 | G100: 0
A101: 12-05-2022 | B101: 13-06-2022 | C101: 32 | D101: REAL | E101: 0 | F101: 0 | G101: 1.042
A102: 12-04-2022 | B102: 12-05-2022 | C102: 30 | D102: REAL | E102: 2.92 | F102: 3.785 | G102: 0
... A126: 11-06-2020 | B126: 13-07-2020 | C126: 32 | D126: REAL | E126: 0 | F126: 0 | G126: 0

Sheet 3001NQ
A1: CONSUMO ACTIVA
A3: CONSUMO ANUAL: 11677kWh | B3: P1 + P4 | C3: P2 + P5 | D3: P3 + P6
A4: Consumo anual por periodos en kWh | B4: 4574 | C4: 3942 | D4: 3161
A5: Consumo anual por periodos en % | B5: 39 | C5: 34 | D5: 27
A6: Fecha inicial | B6: Fecha final | C6: Días | D6: Tipo | E6: P1 + P4 | F6: P2 + P5 | G6: P3 + P6 | H6: P1 | I6: P2 | J6: P3 | K6: P4 | L6: P5 | M6: P6 | N6: año
A7: 44005 | B7: 44035 | C7: 30 | D7: REAL | E7: 231 | F7: 677 | G7: 0 | H7: =SUM(Tabla39[[#This Row],[P1 + P4]:[P2 + P5]]) -> 908 | I7: =Tabla39[[#This Row],[P3 + P6]] -> 0 | N7: =YEAR(Tabla3[[#This Row],[Fecha final]]) -> 2020
A8: 44035 | B8: 44068 | C8: 33 | D8: REAL | E8: 298 | F8: 775 | G8: 0 | H8: =SUM(Tabla39[[#This Row],[P1 + P4]:[P2 + P5]]) -> 1073 | I8: =Tabla39[[#This Row],[P3 + P6]] -> 0 | N8: =YEAR(Tabla3[[#This Row],[Fecha final]]) -> 2020
A9: 44068 | B9: 44097 | C9: 29 | D9: REAL | E9: 272 | F9: 552 | G9: 0 | H9: =SUM(Tabla39[[#This Row],[P1 + P4]:[P2 + P5]]) -> 824 | I9: =Tabla39[[#This Row],[P3 + P6]] -> 0 | N9: =YEAR(Tabla3[[#This Row],[Fecha final]]) -> 2020
A10: 44097 | B10: 44130 | C10: 33 | D10: REAL | E10: 355 | F10: 504 | G10: 0 | H10: =SUM(Tabla39[[#This Row],[P1 + P4]:[P2 + P5]]) -> 859 | I10: =Tabla39[[#This Row],[P3 + P6]] -> 0 | N10: =YEAR(Tabla3[[#This Row],[Fecha final]]) -> 2020
A11: 44130 | B11: 44159 | C11: 29 | D11: REAL | E11: 387 | F11: 512 | G11: 0 | H11: =SUM(Tabla39[[#This Row],[P1 + P4]:[P2 + P5]]) -> 899 | I11: =Tabla39[[#This Row],[P3 + P6]] -> 0 | N11: =YEAR(Tabla3[[#This Row],[Fecha final]]) -> 2020
A12: 44159 | B12: 44193 | C12: 34 | D12: REAL | E12: 585 | F12: 765 | G12: 0 | H12: =SUM(Tabla39[[#This Row],[P1 + P4]:[P2 + P5]]) -> 1350 | I12: =Tabla39[[#This Row],[P3 + P6]] -> 0 | N12: =YEAR(Tabla3[[#This Row],[Fecha final]]) -> 2020
A13: 44193 | B13: 44223 | C13: 30 | D13: REAL | E13: 642 | F13: 869 | G13: 0 | H13: =SUM(Tabla39[[#This Row],[P1 + P4]:[P2 + P5]]) -> 1511 | I13: =Tabla39[[#This Row],[P3 + P6]] -> 0 | N13: =YEAR(Tabla3[[#This Row],[Fecha final]]) -> 2021
A14: 44223 | B14: 44250 | C14: 27 | D14: REAL | E14: 492 | F14: 716 | G14: 0 | H14: =SUM(Tabla39[[#This Row],[P1 + P4]:[P2 + P5]]) -> 1208 | I14: =Tabla39[[#This Row],[P3 + P6]] -> 0 | N14: =YEAR(Tabla3[[#This Row],[Fecha final]]) -> 2021
A15: 44250 | B15: 44279 | C15: 29 | D15: REAL | E15: 541 | F15: 755 | G15: 0 | H15: =SUM(Tabla39[[#This Row],[P1 + P4]:[P2 + P5]]) -> 1296 | I15: =Tabla39[[#This Row],[P3 + P6]] -> 0 | N15: =YEAR(Tabla3[[#This Row],[Fecha final]]) -> 2021
A16: 44279 | B16: 44314 | C16: 35 | D16: REAL | E16: 573 | F16: 1016 | G16: 0 | H16: =SUM(Tabla39[[#This Row],[P1 + P4]:[P2 + P5]]) -> 1589 | I16: =Tabla39[[#This Row],[P3 + P6]] -> 0 | N16: =YEAR(Tabla3[[#This Row],[Fecha final]]) -> 2021
A17: 44314 | B17: 44341 | C17: 27 | D17: REAL | E17: 261 | F17: 421 | G17: 0 | H17: =SUM(Tabla39[[#This Row],[P1 + P4]:[P2 + P5]]) -> 682 | I17: =Tabla39[[#This Row],[P3 + P6]] -> 0 | N17: =YEAR(Tabla3[[#This Row],[Fecha final]]) -> 2021
A18: 44341 | B18: 44347 | C18: 6 | D18: REAL | E18: 58 | F18: 86 | G18: 0 | H18: =SUM(Tabla39[[#This Row],[P1 + P4]:[P2 + P5]]) -> 144 | I18: =Tabla39[[#This Row],[P3 + P6]] -> 0 | N18: =YEAR(Tabla3[[#This Row],[Fecha final]]) -> 2021
... A41: 44974 | B41: 45003 | C41: 29 | D41: REAL | E41: 407 | F41: 375 | G41: 261 | H41: =SUM(Tabla39[[#This Row],[P1 + P4]:[P2 + P5]]) -> 782 | I41: =Tabla39[[#This Row],[P3 + P6]] -> 261 | N41: =YEAR(Tabla3[[#This Row],[Fecha final]]) -> 2023
A44: CONSUMO REACTIVA
A46: Fecha inicial | B46: Fecha final | C46: Días | D46: Tipo | E46: P1 + P4 | F46: P2 + P5 | G46: P3 + P6
A47: 17-02-2023 | B47: 18-03-2023 | C47: 29 | D47: REAL | E47: 0 | F47: 0 | G47: 0
A48: 18-01-2023 | B48: 17-02-2023 | C48: 30 | D48: REAL | E48: 0 | F48: 0 | G48: 0
A49: 20-12-2022 | B49: 18-01-2023 | C49: 29 | D49: REAL | E49: 0 | F49: 0 | G49: 0
A50: 19-11-2022 | B50: 20-12-2022 | C50: 31 | D50: REAL | E50: 0 | F50: 0 | G50: 0
A51: 18-10-2022 | B51: 19-11-2022 | C51: 32 | D51: REAL | E51: 0 | F51: 0 | G51: 0
A52: 18-09-2022 | B52: 18-10-2022 | C52: 30 | D52: REAL | E52: 0 | F52: 0 | G52: 0
A53: 16-08-2022 | B53: 18-09-2022 | C53: 33 | D53: REAL | E53: 0 | F53: 0 | G53: 0
A54: 18-07-2022 | B54: 16-08-2022 | C54: 29 | D54: REAL | E54: 0 | F54: 0 | G54: 0
A55: 18-06-2022 | B55: 18-07-2022 | C55: 30 | D55: REAL | E55: 0 | F55: 0 | G55: 0
A56: 17-05-2022 | B56: 18-06-2022 | C56: 32 | D56: REAL | E56: 0 | F56: 0 | G56: 0
A57: 23-04-2022 | B57: 17-05-2022 | C57: 24 | D57: REAL | E57: 0 | F57: 0 | G57: 0
A58: 18-03-2022 | B58: 23-04-2022 | C58: 36 | D58: REAL | E58: 0 | F58: 0 | G58: 0
... A81: 23-06-2020 | B81: 23-07-2020 | C81: 30 | D81: REAL | E81: 0 | F81: 0 | G81: 0
A84: MAXÍMETRO
A86: POTENCIAS CONTRATADAS | B86: P1 | C86: P2 | D86: P3
A87: Potencias Contratadas (kW) | B87: 14.2 | C87: 14.2 | D87: 0
A88: Fecha inicial | B88: Fecha final | C88: Días | D88: Tipo | E88: P1 | F88: P2 | G88: P3
A89: 17-02-2023 | B89: 18-03-2023 | C89: 29 | D89: REAL | E89: 0 | F89: 0 | G89: 0
A90: 18-01-2023 | B90: 17-02-2023 | C90: 30 | D90: REAL | E90: 0 | F90: 0 | G90: 0
A91: 20-12-2022 | B91: 18-01-2023 | C91: 29 | D91: REAL | E91: 0 | F91: 0 | G91: 0
A92: 19-11-2022 | B92: 20-12-2022 | C92: 31 | D92: REAL | E92: 0 | F92: 0 | G92: 0
A93: 18-10-2022 | B93: 19-11-2022 | C93: 32 | D93: REAL | E93: 0 | F93: 0 | G93: 0
A94: 18-09-2022 | B94: 18-10-2022 | C94: 30 | D94: REAL | E94: 0 | F94: 0 | G94: 0
A95: 16-08-2022 | B95: 18-09-2022 | C95: 33 | D95: REAL | E95: 0 | F95: 0 | G95: 0
A96: 18-07-2022 | B96: 16-08-2022 | C96: 29 | D96: REAL | E96: 0 | F96: 0 | G96: 0
A97: 18-06-2022 | B97: 18-07-2022 | C97: 30 | D97: REAL | E97: 0 | F97: 0 | G97: 0
A98: 17-05-2022 | B98: 18-06-2022 | C98: 32 | D98: REAL | E98: 0 | F98: 0 | G98: 0
A99: 23-04-2022 | B99: 17-05-2022 | C99: 24 | D99: REAL | E99: 0 | F99: 0 | G99: 0
A100: 18-03-2022 | B100: 23-04-2022 | C100: 36 | D100: REAL | E100: 0 | F100: 0 | G100: 0
... A123: 23-06-2020 | B123: 23-07-2020 | C123: 30 | D123: REAL | E123: 0 | F123: 0 | G123: 0

Sheet 9012KD
A1: CONSUMO ACTIVA
A3: CONSUMO ANUAL: 11700kWh | B3: P1 + P4 | C3: P2 + P5 | D3: P3 + P6
A4: Consumo anual por periodos en kWh | B4: 4477 | C4: 3478 | D4: 3745
A5: Consumo anual por periodos en % | B5: 38 | C5: 29 | D5: 32
A6: Fecha inicial | B6: Fecha final | C6: Días | D6: Tipo | E6: P1 + P4 | F6: P2 + P5 | G6: P3 + P6 | H6: P1 | I6: P2 | J6: P3 | K6: P4 | L6: P5 | M6: P6 | N6: año
A7: 44012 | B7: 44043 | C7: 31 | D7: REAL | E7: 159 | F7: 277 | G7: 114 | H7: =Tabla38[[#This Row],[P1 + P4]]*VLOOKUP(MONTH(Tabla38[[#This Row],[Fecha final]]),Tabla20[#All],2,FALSE) -> 159 | I7: =Tabla38[[#This Row],[P2 + P5]]*VLOOKUP(MONTH(Tabla38[[#This Row],[Fecha final]]),Tabla20[#All],3,FALSE) -> 277 | J7: =(Tabla38[[#This Row],[P3 + P6]])*VLOOKUP(MONTH(Tabla38[[#This Row],[Fecha final]]),Tabla20[#All],4,FALSE) -> 0 | K7: =Tabla38[[#This Row],[P1 + P4]]*VLOOKUP(MONTH(Tabla38[[#This Row],[Fecha final]]),Tabla20[#All],5,FALSE) -> 0 | L7: =Tabla38[[#This Row],[P2 + P5]]*VLOOKUP(MONTH(Tabla38[[#This Row],[Fecha final]]),Tabla20[#All],6,FALSE) -> 0 | M7: =Tabla38[[#This Row],[P3 + P6]]*VLOOKUP(MONTH(Tabla38[[#This Row],[Fecha final]]),Tabla20[#All],7,FALSE) -> 114 | N7: =YEAR(Tabla3[[#This Row],[Fecha final]]) -> 2020
A8: 44043 | B8: 44074 | C8: 31 | D8: REAL | E8: 156 | F8: 296 | G8: 101 | H8: =Tabla38[[#This Row],[P1 + P4]]*VLOOKUP(MONTH(Tabla38[[#This Row],[Fecha final]]),Tabla20[#All],2,FALSE) -> 0 | I8: =Tabla38[[#This Row],[P2 + P5]]*VLOOKUP(MONTH(Tabla38[[#This Row],[Fecha final]]),Tabla20[#All],3,FALSE) -> 0 | J8: =(Tabla38[[#This Row],[P3 + P6]])*VLOOKUP(MONTH(Tabla38[[#This Row],[Fecha final]]),Tabla20[#All],4,FALSE) -> 33.8956 | K8: =Tabla38[[#This Row],[P1 + P4]]*VLOOKUP(MONTH(Tabla38[[#This Row],[Fecha final]]),Tabla20[#All],5,FALSE) -> 156 | L8: =Tabla38[[#This Row],[P2 + P5]]*VLOOKUP(MONTH(Tabla38[[#This Row],[Fecha final]]),Tabla20[#All],6,FALSE) -> 0 | M8: =Tabla38[[#This Row],[P3 + P6]]*VLOOKUP(MONTH(Tabla38[[#This Row],[Fecha final]]),Tabla20[#All],7,FALSE) -> 67.1044 | N8: =YEAR(Tabla3[[#This Row],[Fecha final]]) -> 2020
A9: 44074 | B9: 44104 | C9: 30 | D9: REAL | E9: 123 | F9: 295 | G9: 93 | H9: =Tabla38[[#This Row],[P1 + P4]]*VLOOKUP(MONTH(Tabla38[[#This Row],[Fecha final]]),Tabla20[#All],2,FALSE) -> 0 | I9: =Tabla38[[#This Row],[P2 + P5]]*VLOOKUP(MONTH(Tabla38[[#This Row],[Fecha final]]),Tabla20[#All],3,FALSE) -> 0 | J9: =(Tabla38[[#This Row],[P3 + P6]])*VLOOKUP(MONTH(Tabla38[[#This Row],[Fecha final]]),Tabla20[#All],4,FALSE) -> 32.5314 | K9: =Tabla38[[#This Row],[P1 + P4]]*VLOOKUP(MONTH(Tabla38[[#This Row],[Fecha final]]),Tabla20[#All],5,FALSE) -> 123 | L9: =Tabla38[[#This Row],[P2 + P5]]*VLOOKUP(MONTH(Tabla38[[#This Row],[Fecha final]]),Tabla20[#All],6,FALSE) -> 0 | M9: =Tabla38[[#This Row],[P3 + P6]]*VLOOKUP(MONTH(Tabla38[[#This Row],[Fecha final]]),Tabla20[#All],7,FALSE) -> 60.4686 | N9: =YEAR(Tabla3[[#This Row],[Fecha final]]) -> 2020
A10: 44104 | B10: 44137 | C10: 33 | D10: REAL | E10: 303 | F10: 772 | G10: 145 | H10: =Tabla38[[#This Row],[P1 + P4]]*VLOOKUP(MONTH(Tabla38[[#This Row],[Fecha final]]),Tabla20[#All],2,FALSE) -> 0 | I10: =Tabla38[[#This Row],[P2 + P5]]*VLOOKUP(MONTH(Tabla38[[#This Row],[Fecha final]]),Tabla20[#All],3,FALSE) -> 772 | J10: =(Tabla38[[#This Row],[P3 + P6]])*VLOOKUP(MONTH(Tabla38[[#This Row],[Fecha final]]),Tabla20[#All],4,FALSE) -> 40.136 | K10: =Tabla38[[#This Row],[P1 + P4]]*VLOOKUP(MONTH(Tabla38[[#This Row],[Fecha final]]),Tabla20[#All],5,FALSE) -> 0 | L10: =Tabla38[[#This Row],[P2 + P5]]*VLOOKUP(MONTH(Tabla38[[#This Row],[Fecha final]]),Tabla20[#All],6,FALSE) -> 0 | M10: =Tabla38[[#This Row],[P3 + P6]]*VLOOKUP(MONTH(Tabla38[[#This Row],[Fecha final]]),Tabla20[#All],7,FALSE) -> 104.864 | N10: =YEAR(Tabla3[[#This Row],[Fecha final]]) -> 2020
A11: 44137 | B11: 44165 | C11: 28 | D11: REAL | E11: 118 | F11: 1114 | G11: 127 | H11: =Tabla38[[#This Row],[P1 + P4]]*VLOOKUP(MONTH(Tabla38[[#This Row],[Fecha final]]),Tabla20[#All],2,FALSE) -> 0 | I11: =Tabla38[[#This Row],[P2 + P5]]*VLOOKUP(MONTH(Tabla38[[#This Row],[Fecha final]]),Tabla20[#All],3,FALSE) -> 1114 | J11: =(Tabla38[[#This Row],[P3 + P6]])*VLOOKUP(MONTH(Tabla38[[#This Row],[Fecha final]]),Tabla20[#All],4,FALSE) -> 35.1536 | K11: =Tabla38[[#This Row],[P1 + P4]]*VLOOKUP(MONTH(Tabla38[[#This Row],[Fecha final]]),Tabla20[#All],5,FALSE) -> 0 | L11: =Tabla38[[#This Row],[P2 + P5]]*VLOOKUP(MONTH(Tabla38[[#This Row],[Fecha final]]),Tabla20[#All],6,FALSE) -> 0 | M11: =Tabla38[[#This Row],[P3 + P6]]*VLOOKUP(MONTH(Tabla38[[#This Row],[Fecha final]]),Tabla20[#All],7,FALSE) -> 91.8464 | N11: =YEAR(Tabla3[[#This Row],[Fecha final]]) -> 2020
A12: 44165 | B12: 44196 | C12: 31 | D12: REAL | E12: 150 | F12: 1392 | G12: 201 | H12: =Tabla38[[#This Row],[P1 + P4]]*VLOOKUP(MONTH(Tabla38[[#This Row],[Fecha final]]),Tabla20[#All],2,FALSE) -> 150 | I12: =Tabla38[[#This Row],[P2 + P5]]*VLOOKUP(MONTH(Tabla38[[#This Row],[Fecha final]]),Tabla20[#All],3,FALSE) -> 1392 | J12: =(Tabla38[[#This Row],[P3 + P6]])*VLOOKUP(MONTH(Tabla38[[#This Row],[Fecha final]]),Tabla20[#All],4,FALSE) -> 0 | K12: =Tabla38[[#This Row],[P1 + P4]]*VLOOKUP(MONTH(Tabla38[[#This Row],[Fecha final]]),Tabla20[#All],5,FALSE) -> 0 | L12: =Tabla38[[#This Row],[P2 + P5]]*VLOOKUP(MONTH(Tabla38[[#This Row],[Fecha final]]),Tabla20[#All],6,FALSE) -> 0 | M12: =Tabla38[[#This Row],[P3 + P6]]*VLOOKUP(MONTH(Tabla38[[#This Row],[Fecha final]]),Tabla20[#All],7,FALSE) -> 201 | N12: =YEAR(Tabla3[[#This Row],[Fecha final]]) -> 2020
A13: 44196 | B13: 44228 | C13: 32 | D13: REAL | E13: 218 | F13: 1669 | G13: 328 | H13: =Tabla38[[#This Row],[P1 + P4]]*VLOOKUP(MONTH(Tabla38[[#This Row],[Fecha final]]),Tabla20[#All],2,FALSE) -> 218 | I13: =Tabla38[[#This Row],[P2 + P5]]*VLOOKUP(MONTH(Tabla38[[#This Row],[Fecha final]]),Tabla20[#All],3,FALSE) -> 1669 | J13: =(Tabla38[[#This Row],[P3 + P6]])*VLOOKUP(MONTH(Tabla38[[#This Row],[Fecha final]]),Tabla20[#All],4,FALSE) -> 0 | K13: =Tabla38[[#This Row],[P1 + P4]]*VLOOKUP(MONTH(Tabla38[[#This Row],[Fecha final]]),Tabla20[#All],5,FALSE) -> 0 | L13: =Tabla38[[#This Row],[P2 + P5]]*VLOOKUP(MONTH(Tabla38[[#This Row],[Fecha final]]),Tabla20[#All],6,FALSE) -> 0 | M13: =Tabla38[[#This Row],[P3 + P6]]*VLOOKUP(MONTH(Tabla38[[#This Row],[Fecha final]]),Tabla20[#All],7,FALSE) -> 328 | N13: =YEAR(Tabla3[[#This Row],[Fecha final]]) -> 2021
A14: 44228 | B14: 44256 | C14: 28 | D14: REAL | E14: 124 | F14: 1156 | G14: 184 | H14: =Tabla38[[#This Row],[P1 + P4]]*VLOOKUP(MONTH(Tabla38[[#This Row],[Fecha final]]),Tabla20[#All],2,FALSE) -> 0 | I14: =Tabla38[[#This Row],[P2 + P5]]*VLOOKUP(MONTH(Tabla38[[#This Row],[Fecha final]]),Tabla20[#All],3,FALSE) -> 1156 | J14: =(Tabla38[[#This Row],[P3 + P6]])*VLOOKUP(MONTH(Tabla38[[#This Row],[Fecha final]]),Tabla20[#All],4,FALSE) -> 55.1632 | K14: =Tabla38[[#This Row],[P1 + P4]]*VLOOKUP(MONTH(Tabla38[[#This Row],[Fecha final]]),Tabla20[#All],5,FALSE) -> 0 | L14: =Tabla38[[#This Row],[P2 + P5]]*VLOOKUP(MONTH(Tabla38[[#This Row],[Fecha final]]),Tabla20[#All],6,FALSE) -> 0 | M14: =Tabla38[[#This Row],[P3 + P6]]*VLOOKUP(MONTH(Tabla38[[#This Row],[Fecha final]]),Tabla20[#All],7,FALSE) -> 128.8368 | N14: =YEAR(Tabla3[[#This Row],[Fecha final]]) -> 2021
A15: 44256 | B15: 44291 | C15: 35 | D15: REAL | E15: 82 | F15: 547 | G15: 120 | H15: =Tabla38[[#This Row],[P1 + P4]]*VLOOKUP(MONTH(Tabla38[[#This Row],[Fecha final]]),Tabla20[#All],2,FALSE) -> 0 | I15: =Tabla38[[#This Row],[P2 + P5]]*VLOOKUP(MONTH(Tabla38[[#This Row],[Fecha final]]),Tabla20[#All],3,FALSE) -> 0 | J15: =(Tabla38[[#This Row],[P3 + P6]])*VLOOKUP(MONTH(Tabla38[[#This Row],[Fecha final]]),Tabla20[#All],4,FALSE) -> 0 | K15: =Tabla38[[#This Row],[P1 + P4]]*VLOOKUP(MONTH(Tabla38[[#This Row],[Fecha final]]),Tabla20[#All],5,FALSE) -> 82 | L15: =Tabla38[[#This Row],[P2 + P5]]*VLOOKUP(MONTH(Tabla38[[#This Row],[Fecha final]]),Tabla20[#All],6,FALSE) -> 547 | M15: =Tabla38[[#This Row],[P3 + P6]]*VLOOKUP(MONTH(Tabla38[[#This Row],[Fecha final]]),Tabla20[#All],7,FALSE) -> 120 | N15: =YEAR(Tabla3[[#This Row],[Fecha final]]) -> 2021
A16: 44291 | B16: 44316 | C16: 25 | D16: REAL | E16: 404 | F16: 1041 | G16: 471 | H16: =Tabla38[[#This Row],[P1 + P4]]*VLOOKUP(MONTH(Tabla38[[#This Row],[Fecha final]]),Tabla20[#All],2,FALSE) -> 0 | I16: =Tabla38[[#This Row],[P2 + P5]]*VLOOKUP(MONTH(Tabla38[[#This Row],[Fecha final]]),Tabla20[#All],3,FALSE) -> 0 | J16: =(Tabla38[[#This Row],[P3 + P6]])*VLOOKUP(MONTH(Tabla38[[#This Row],[Fecha final]]),Tabla20[#All],4,FALSE) -> 0 | K16: =Tabla38[[#This Row],[P1 + P4]]*VLOOKUP(MONTH(Tabla38[[#This Row],[Fecha final]]),Tabla20[#All],5,FALSE) -> 404 | L16: =Tabla38[[#This Row],[P2 + P5]]*VLOOKUP(MONTH(Tabla38[[#This Row],[Fecha final]]),Tabla20[#All],6,FALSE) -> 1041 | M16: =Tabla38[[#This Row],[P3 + P6]]*VLOOKUP(MONTH(Tabla38[[#This Row],[Fecha final]]),Tabla20[#All],7,FALSE) -> 471 | N16: =YEAR(Tabla3[[#This Row],[Fecha final]]) -> 2021
A17: 44316 | B17: 44347 | C17: 31 | D17: REAL | E17: 204 | F17: 511 | G17: 231 | H17: =Tabla38[[#This Row],[P1 + P4]]*VLOOKUP(MONTH(Tabla38[[#This Row],[Fecha final]]),Tabla20[#All],2,FALSE) -> 0 | I17: =Tabla38[[#This Row],[P2 + P5]]*VLOOKUP(MONTH(Tabla38[[#This Row],[Fecha final]]),Tabla20[#All],3,FALSE) -> 0 | J17: =(Tabla38[[#This Row],[P3 + P6]])*VLOOKUP(MONTH(Tabla38[[#This Row],[Fecha final]]),Tabla20[#All],4,FALSE) -> 0 | K17: =Tabla38[[#This Row],[P1 + P4]]*VLOOKUP(MONTH(Tabla38[[#This Row],[Fecha final]]),Tabla20[#All],5,FALSE) -> 204 | L17: =Tabla38[[#This Row],[P2 + P5]]*VLOOKUP(MONTH(Tabla38[[#This Row],[Fecha final]]),Tabla20[#All],6,FALSE) -> 511 | M17: =Tabla38[[#This Row],[P3 + P6]]*VLOOKUP(MONTH(Tabla38[[#This Row],[Fecha final]]),Tabla20[#All],7,FALSE) -> 231 | N17: =YEAR(Tabla3[[#This Row],[Fecha final]]) -> 2021
A18: 44347 | B18: 44377 | C18: 30 | D18: REAL | E18: 133 | F18: 0 | G18: 425 | H18: =Tabla38[[#This Row],[P1 + P4]]*VLOOKUP(MONTH(Tabla38[[#This Row],[Fecha final]]),Tabla20[#All],2,FALSE) -> 0 | I18: =Tabla38[[#This Row],[P2 + P5]]*VLOOKUP(MONTH(Tabla38[[#This Row],[Fecha final]]),Tabla20[#All],3,FALSE) -> 0 | J18: =(Tabla38[[#This Row],[P3 + P6]])*VLOOKUP(MONTH(Tabla38[[#This Row],[Fecha final]]),Tabla20[#All],4,FALSE) -> 148.665 | K18: =Tabla38[[#This Row],[P1 + P4]]*VLOOKUP(MONTH(Tabla38[[#This Row],[Fecha final]]),Tabla20[#All],5,FALSE) -> 133 | L18: =Tabla38[[#This Row],[P2 + P5]]*VLOOKUP(MONTH(Tabla38[[#This Row],[Fecha final]]),Tabla20[#All],6,FALSE) -> 0 | M18: =Tabla38[[#This Row],[P3 + P6]]*VLOOKUP(MONTH(Tabla38[[#This Row],[Fecha final]]),Tabla20[#All],7,FALSE) -> 276.335 | N18: =YEAR(Tabla3[[#This Row],[Fecha final]]) -> 2021
... A41: 44985 | B41: 45016 | C41: 31 | D41: REAL | E41: 0 | F41: 732 | G41: 577 | H41: =Tabla38[[#This Row],[P1 + P4]]*VLOOKUP(MONTH(Tabla38[[#This Row],[Fecha final]]),Tabla20[#All],2,FALSE) -> 0 | I41: =Tabla38[[#This Row],[P2 + P5]]*VLOOKUP(MONTH(Tabla38[[#This Row],[Fecha final]]),Tabla20[#All],3,FALSE) -> 732 | J41: =(Tabla38[[#This Row],[P3 + P6]])*VLOOKUP(MONTH(Tabla38[[#This Row],[Fecha final]]),Tabla20[#All],4,FALSE) -> 172.9846 | K41: =Tabla38[[#This Row],[P1 + P4]]*VLOOKUP(MONTH(Tabla38[[#This Row],[Fecha final]]),Tabla20[#All],5,FALSE) -> 0 | L41: =Tabla38[[#This Row],[P2 + P5]]*VLOOKUP(MONTH(Tabla38[[#This Row],[Fecha final]]),Tabla20[#All],6,FALSE) -> 0 | M41: =Tabla38[[#This Row],[P3 + P6]]*VLOOKUP(MONTH(Tabla38[[#This Row],[Fecha final]]),Tabla20[#All],7,FALSE) -> 404.0154 | N41: =YEAR(Tabla3[[#This Row],[Fecha final]]) -> 2023
A44: CONSUMO REACTIVA
A46: Fecha inicial | B46: Fecha final | C46: Días | D46: Tipo | E46: P1 + P4 | F46: P2 + P5 | G46: P3 + P6
A47: 28-02-2023 | B47: 31-03-2023 | C47: 31 | D47: REAL | E47: 0 | F47: 0 | G47: 0
A48: 31-01-2023 | B48: 28-02-2023 | C48: 28 | D48: REAL | E48: 0 | F48: 0 | G48: 0
A49: 20-01-2023 | B49: 31-01-2023 | C49: 11 | D49: REAL | E49: 0 | F49: 0 | G49: 0
A50: 31-12-2022 | B50: 20-01-2023 | C50: 20 | D50: REAL | E50: 0 | F50: 0 | G50: 0
A51: 30-11-2022 | B51: 31-12-2022 | C51: 31 | D51: REAL | E51: 0 | F51: 0 | G51: 0
A52: 31-10-2022 | B52: 30-11-2022 | C52: 30 | D52: REAL | E52: 0 | F52: 0 | G52: 0
A53: 30-09-2022 | B53: 31-10-2022 | C53: 31 | D53: REAL | E53: 0 | F53: 0 | G53: 0
A54: 31-08-2022 | B54: 30-09-2022 | C54: 30 | D54: REAL | E54: 0 | F54: 0 | G54: 0
A55: 31-07-2022 | B55: 31-08-2022 | C55: 31 | D55: REAL | E55: 0 | F55: 0 | G55: 0
A56: 30-06-2022 | B56: 31-07-2022 | C56: 31 | D56: REAL | E56: 0 | F56: 0 | G56: 0
A57: 31-05-2022 | B57: 30-06-2022 | C57: 30 | D57: REAL | E57: 0 | F57: 0 | G57: 0
A58: 30-04-2022 | B58: 31-05-2022 | C58: 31 | D58: REAL | E58: 0 | F58: 0 | G58: 0
... A81: 30-06-2020 | B81: 31-07-2020 | C81: 31 | D81: REAL | E81: 8 | F81: 51 | G81: 0
A84: MAXÍMETRO
A86: POTENCIAS CONTRATADAS | B86: P1 | C86: P2 | D86: P3
A87: Potencias Contratadas (kW) | B87: 20 | C87: 20 | D87: 20
A88: Fecha inicial | B88: Fecha final | C88: Días | D88: Tipo | E88: P1 | F88: P2 | G88: P3
A89: 28-02-2023 | B89: 31-03-2023 | C89: 31 | D89: REAL | E89: 0 | F89: 14 | G89: 9
A90: 31-01-2023 | B90: 28-02-2023 | C90: 28 | D90: REAL | E90: 16 | F90: 11 | G90: 7
A91: 20-01-2023 | B91: 31-01-2023 | C91: 11 | D91: REAL | E91: 15 | F91: 12 | G91: 10
A92: 31-12-2022 | B92: 20-01-2023 | C92: 20 | D92: REAL | E92: 12 | F92: 10 | G92: 5
A93: 30-11-2022 | B93: 31-12-2022 | C93: 31 | D93: REAL | E93: 10 | F93: 10 | G93: 10
A94: 31-10-2022 | B94: 30-11-2022 | C94: 30 | D94: REAL | E94: 0 | F94: 10 | G94: 11
A95: 30-09-2022 | B95: 31-10-2022 | C95: 31 | D95: REAL | E95: 3 | F95: 2 | G95: 1
A96: 31-08-2022 | B96: 30-09-2022 | C96: 30 | D96: REAL | E96: 3 | F96: 0 | G96: 4
A97: 31-07-2022 | B97: 31-08-2022 | C97: 31 | D97: REAL | E97: 13 | F97: 0 | G97: 13
A98: 30-06-2022 | B98: 31-07-2022 | C98: 31 | D98: REAL | E98: 10 | F98: 7 | G98: 2
A99: 31-05-2022 | B99: 30-06-2022 | C99: 30 | D99: REAL | E99: 7 | F99: 0 | G99: 7
A100: 30-04-2022 | B100: 31-05-2022 | C100: 31 | D100: REAL | E100: 11 | F100: 6 | G100: 6
... A123: 30-06-2020 | B123: 31-07-2020 | C123: 31 | D123: REAL | E123: 5 | F123: 4 | G123: 5

Sheet 5009EN
A1: CONSUMO ACTIVA
A3: CONSUMO ANUAL: 4603kWh | B3: P1 + P4 | C3: P2 + P5 | D3: P3 + P6
A4: Consumo anual por periodos en kWh | B4: 1826 | C4: 1592 | D4: 1184
A5: Consumo anual por periodos en % | B5: 40 | C5: 35 | D5: 26
A6: Fecha inicial | B6: Fecha final | C6: Días | D6: Tipo | E6: P1 + P4 | F6: P2 + P5 | G6: P3 + P6 | H6: P1 | I6: P2
A7: 44035 | B7: 44068 | C7: 33 | D7: REAL | E7: 370 | F7: 0 | G7: 0 | H7: =SUM(Tabla30[[#This Row],[P1 + P4]:[P2 + P5]]) -> 370 | I7: =Tabla30[[#This Row],[P3 + P6]] -> 0
A8: 44068 | B8: 44097 | C8: 29 | D8: REAL | E8: 293 | F8: 0 | G8: 0 | H8: =SUM(Tabla30[[#This Row],[P1 + P4]:[P2 + P5]]) -> 293 | I8: =Tabla30[[#This Row],[P3 + P6]] -> 0
A9: 44097 | B9: 44130 | C9: 33 | D9: REAL | E9: 413 | F9: 0 | G9: 0 | H9: =SUM(Tabla30[[#This Row],[P1 + P4]:[P2 + P5]]) -> 413 | I9: =Tabla30[[#This Row],[P3 + P6]] -> 0
A10: 44130 | B10: 44158 | C10: 28 | D10: REAL | E10: 413 | F10: 0 | G10: 0 | H10: =SUM(Tabla30[[#This Row],[P1 + P4]:[P2 + P5]]) -> 413 | I10: =Tabla30[[#This Row],[P3 + P6]] -> 0
A11: 44158 | B11: 44192 | C11: 34 | D11: REAL | E11: 630 | F11: 0 | G11: 0 | H11: =SUM(Tabla30[[#This Row],[P1 + P4]:[P2 + P5]]) -> 630 | I11: =Tabla30[[#This Row],[P3 + P6]] -> 0
A12: 44192 | B12: 44223 | C12: 31 | D12: REAL | E12: 693 | F12: 0 | G12: 0 | H12: =SUM(Tabla30[[#This Row],[P1 + P4]:[P2 + P5]]) -> 693 | I12: =Tabla30[[#This Row],[P3 + P6]] -> 0
A13: 44223 | B13: 44250 | C13: 27 | D13: REAL | E13: 452 | F13: 0 | G13: 0 | H13: =SUM(Tabla30[[#This Row],[P1 + P4]:[P2 + P5]]) -> 452 | I13: =Tabla30[[#This Row],[P3 + P6]] -> 0
A14: 44250 | B14: 44278 | C14: 28 | D14: REAL | E14: 444 | F14: 0 | G14: 0 | H14: =SUM(Tabla30[[#This Row],[P1 + P4]:[P2 + P5]]) -> 444 | I14: =Tabla30[[#This Row],[P3 + P6]] -> 0
A15: 44278 | B15: 44313 | C15: 35 | D15: REAL | E15: 481 | F15: 0 | G15: 0 | H15: =SUM(Tabla30[[#This Row],[P1 + P4]:[P2 + P5]]) -> 481 | I15: =Tabla30[[#This Row],[P3 + P6]] -> 0
A16: 44313 | B16: 44341 | C16: 28 | D16: REAL | E16: 341 | F16: 0 | G16: 0 | H16: =SUM(Tabla30[[#This Row],[P1 + P4]:[P2 + P5]]) -> 341 | I16: =Tabla30[[#This Row],[P3 + P6]] -> 0
A17: 44341 | B17: 44347 | C17: 6 | D17: REAL | E17: 79 | F17: 0 | G17: 0 | H17: =SUM(Tabla30[[#This Row],[P1 + P4]:[P2 + P5]]) -> 79 | I17: =Tabla30[[#This Row],[P3 + P6]] -> 0
A18: 44347 | B18: 44370 | C18: 23 | D18: REAL | E18: 85 | F18: 57 | G18: 76 | H18: =SUM(Tabla30[[#This Row],[P1 + P4]:[P2 + P5]]) -> 142 | I18: =Tabla30[[#This Row],[P3 + P6]] -> 76
... A41: 44996 | B41: 45032 | C41: 36 | D41: REAL | E41: 157 | F41: 143 | G41: 110 | H41: =SUM(Tabla30[[#This Row],[P1 + P4]:[P2 + P5]]) -> 300 | I41: =Tabla30[[#This Row],[P3 + P6]] -> 110
A44: CONSUMO REACTIVA
A46: Fecha inicial | B46: Fecha final | C46: Días | D46: Tipo | E46: P1 + P4 | F46: P2 + P5 | G46: P3 + P6
A47: 11-03-2023 | B47: 16-04-2023 | C47: 36 | D47: REAL | E47: 0 | F47: 0 | G47: 0
A48: 11-02-2023 | B48: 11-03-2023 | C48: 28 | D48: REAL | E48: 0 | F48: 0 | G48: 0
A49: 14-01-2023 | B49: 11-02-2023 | C49: 28 | D49: REAL | E49: 0 | F49: 0 | G49: 0
A50: 13-12-2022 | B50: 14-01-2023 | C50: 32 | D50: REAL | E50: 0 | F50: 0 | G50: 0
A51: 09-11-2022 | B51: 13-12-2022 | C51: 34 | D51: REAL | E51: 0 | F51: 0 | G51: 0
A52: 11-10-2022 | B52: 09-11-2022 | C52: 29 | D52: REAL | E52: 0 | F52: 0 | G52: 0
A53: 12-09-2022 | B53: 11-10-2022 | C53: 29 | D53: REAL | E53: 0 | F53: 0 | G53: 0
A54: 09-08-2022 | B54: 12-09-2022 | C54: 34 | D54: REAL | E54: 0 | F54: 0 | G54: 0
A55: 12-07-2022 | B55: 09-08-2022 | C55: 28 | D55: REAL | E55: 0 | F55: 0 | G55: 0
A56: 14-06-2022 | B56: 12-07-2022 | C56: 28 | D56: REAL | E56: 0 | F56: 0 | G56: 0
A57: 10-05-2022 | B57: 14-06-2022 | C57: 35 | D57: REAL | E57: 0 | F57: 0 | G57: 0
A58: 12-04-2022 | B58: 10-05-2022 | C58: 28 | D58: REAL | E58: 0 | F58: 0 | G58: 0
... A81: 23-07-2020 | B81: 25-08-2020 | C81: 33 | D81: REAL | E81: 0 | F81: 0 | G81: 0
A84: MAXÍMETRO
A86: POTENCIAS CONTRATADAS | B86: P1 | C86: P2 | D86: P3
A87: Potencias Contratadas (kW) | B87: 10 | C87: 10 | D87: 0
A88: Fecha inicial | B88: Fecha final | C88: Días | D88: Tipo | E88: P1 | F88: P2 | G88: P3
A89: 11-03-2023 | B89: 16-04-2023 | C89: 36 | D89: REAL | E89: 0 | F89: 0 | G89: 0
A90: 11-02-2023 | B90: 11-03-2023 | C90: 28 | D90: REAL | E90: 0 | F90: 0 | G90: 0
A91: 14-01-2023 | B91: 11-02-2023 | C91: 28 | D91: REAL | E91: 0 | F91: 0 | G91: 0
A92: 13-12-2022 | B92: 14-01-2023 | C92: 32 | D92: REAL | E92: 0 | F92: 0 | G92: 0
A93: 09-11-2022 | B93: 13-12-2022 | C93: 34 | D93: REAL | E93: 0 | F93: 0 | G93: 0
A94: 11-10-2022 | B94: 09-11-2022 | C94: 29 | D94: REAL | E94: 0 | F94: 0 | G94: 0
A95: 12-09-2022 | B95: 11-10-2022 | C95: 29 | D95: REAL | E95: 0 | F95: 0 | G95: 0
A96: 09-08-2022 | B96: 12-09-2022 | C96: 34 | D96: REAL | E96: 0 | F96: 0 | G96: 0
A97: 12-07-2022 | B97: 09-08-2022 | C97: 28 | D97: REAL | E97: 0 | F97: 0 | G97: 0
A98: 14-06-2022 | B98: 12-07-2022 | C98: 28 | D98: REAL | E98: 0 | F98: 0 | G98: 0
A99: 10-05-2022 | B99: 14-06-2022 | C99: 35 | D99: REAL | E99: 0 | F99: 0 | G99: 0
A100: 12-04-2022 | B100: 10-05-2022 | C100: 28 | D100: REAL | E100: 0 | F100: 0 | G100: 0
... A123: 23-07-2020 | B123: 25-08-2020 | C123: 33 | D123: REAL | E123: 0 | F123: 0 | G123: 0

Sheet 9001TT
A1: CONSUMO ACTIVA
A3: CONSUMO ANUAL: 17661kWh | B3: P1 + P4 | C3: P2 + P5 | D3: P3 + P6
A4: Consumo anual por periodos en kWh | B4: 7807 | C4: 3338 | D4: 6516
A5: Consumo anual por periodos en % | B5: 44 | C5: 19 | D5: 37
A6: Fecha inicial | B6: Fecha final | C6: Días | D6: Tipo | E6: P1 + P4 | F6: P2 + P5 | G6: P3 + P6 | H6: P1 | I6: P2 | J6: P3 | K6: P4 | L6: P5 | M6: P6 | N6: año
A7: 43995 | B7: 44035 | C7: 40 | D7: REAL | E7: 1154 | F7: 1281 | G7: 218 | H7: =Tabla29[[#This Row],[P1 + P4]]*VLOOKUP(MONTH(Tabla29[[#This Row],[Fecha final]]),Tabla20[#All],2,FALSE) -> 1154 | I7: =Tabla29[[#This Row],[P2 + P5]]*VLOOKUP(MONTH(Tabla29[[#This Row],[Fecha final]]),Tabla20[#All],3,FALSE) -> 1281 | J7: =(Tabla29[[#This Row],[P3 + P6]])*VLOOKUP(MONTH(Tabla29[[#This Row],[Fecha final]]),Tabla20[#All],4,FALSE) -> 0 | K7: =Tabla29[[#This Row],[P1 + P4]]*VLOOKUP(MONTH(Tabla29[[#This Row],[Fecha final]]),Tabla20[#All],5,FALSE) -> 0 | L7: =Tabla29[[#This Row],[P2 + P5]]*VLOOKUP(MONTH(Tabla29[[#This Row],[Fecha final]]),Tabla20[#All],6,FALSE) -> 0 | M7: =Tabla29[[#This Row],[P3 + P6]]*VLOOKUP(MONTH(Tabla29[[#This Row],[Fecha final]]),Tabla20[#All],7,FALSE) -> 218 | N7: =YEAR(Tabla29[[#This Row],[Fecha final]]) -> 2020
A8: 44035 | B8: 44076 | C8: 41 | D8: REAL | E8: 976 | F8: 1230 | G8: 240 | H8: =Tabla29[[#This Row],[P1 + P4]]*VLOOKUP(MONTH(Tabla29[[#This Row],[Fecha final]]),Tabla20[#All],2,FALSE) -> 0 | I8: =Tabla29[[#This Row],[P2 + P5]]*VLOOKUP(MONTH(Tabla29[[#This Row],[Fecha final]]),Tabla20[#All],3,FALSE) -> 0 | J8: =(Tabla29[[#This Row],[P3 + P6]])*VLOOKUP(MONTH(Tabla29[[#This Row],[Fecha final]]),Tabla20[#All],4,FALSE) -> 83.952 | K8: =Tabla29[[#This Row],[P1 + P4]]*VLOOKUP(MONTH(Tabla29[[#This Row],[Fecha final]]),Tabla20[#All],5,FALSE) -> 976 | L8: =Tabla29[[#This Row],[P2 + P5]]*VLOOKUP(MONTH(Tabla29[[#This Row],[Fecha final]]),Tabla20[#All],6,FALSE) -> 0 | M8: =Tabla29[[#This Row],[P3 + P6]]*VLOOKUP(MONTH(Tabla29[[#This Row],[Fecha final]]),Tabla20[#All],7,FALSE) -> 156.048 | N8: =YEAR(Tabla29[[#This Row],[Fecha final]]) -> 2020
A9: 44076 | B9: 44106 | C9: 30 | D9: REAL | E9: 497 | F9: 663 | G9: 171 | H9: =Tabla29[[#This Row],[P1 + P4]]*VLOOKUP(MONTH(Tabla29[[#This Row],[Fecha final]]),Tabla20[#All],2,FALSE) -> 0 | I9: =Tabla29[[#This Row],[P2 + P5]]*VLOOKUP(MONTH(Tabla29[[#This Row],[Fecha final]]),Tabla20[#All],3,FALSE) -> 0 | J9: =(Tabla29[[#This Row],[P3 + P6]])*VLOOKUP(MONTH(Tabla29[[#This Row],[Fecha final]]),Tabla20[#All],4,FALSE) -> 0 | K9: =Tabla29[[#This Row],[P1 + P4]]*VLOOKUP(MONTH(Tabla29[[#This Row],[Fecha final]]),Tabla20[#All],5,FALSE) -> 497 | L9: =Tabla29[[#This Row],[P2 + P5]]*VLOOKUP(MONTH(Tabla29[[#This Row],[Fecha final]]),Tabla20[#All],6,FALSE) -> 663 | M9: =Tabla29[[#This Row],[P3 + P6]]*VLOOKUP(MONTH(Tabla29[[#This Row],[Fecha final]]),Tabla20[#All],7,FALSE) -> 171 | N9: =YEAR(Tabla29[[#This Row],[Fecha final]]) -> 2020
A10: 44106 | B10: 44135 | C10: 29 | D10: REAL | E10: 625 | F10: 1057 | G10: 202 | H10: =Tabla29[[#This Row],[P1 + P4]]*VLOOKUP(MONTH(Tabla29[[#This Row],[Fecha final]]),Tabla20[#All],2,FALSE) -> 0 | I10: =Tabla29[[#This Row],[P2 + P5]]*VLOOKUP(MONTH(Tabla29[[#This Row],[Fecha final]]),Tabla20[#All],3,FALSE) -> 0 | J10: =(Tabla29[[#This Row],[P3 + P6]])*VLOOKUP(MONTH(Tabla29[[#This Row],[Fecha final]]),Tabla20[#All],4,FALSE) -> 0 | K10: =Tabla29[[#This Row],[P1 + P4]]*VLOOKUP(MONTH(Tabla29[[#This Row],[Fecha final]]),Tabla20[#All],5,FALSE) -> 625 | L10: =Tabla29[[#This Row],[P2 + P5]]*VLOOKUP(MONTH(Tabla29[[#This Row],[Fecha final]]),Tabla20[#All],6,FALSE) -> 1057 | M10: =Tabla29[[#This Row],[P3 + P6]]*VLOOKUP(MONTH(Tabla29[[#This Row],[Fecha final]]),Tabla20[#All],7,FALSE) -> 202 | N10: =YEAR(Tabla29[[#This Row],[Fecha final]]) -> 2020
A11: 44135 | B11: 44140 | C11: 5 | D11: REAL | E11: 14 | F11: 167 | G11: 30 | H11: =Tabla29[[#This Row],[P1 + P4]]*VLOOKUP(MONTH(Tabla29[[#This Row],[Fecha final]]),Tabla20[#All],2,FALSE) -> 0 | I11: =Tabla29[[#This Row],[P2 + P5]]*VLOOKUP(MONTH(Tabla29[[#This Row],[Fecha final]]),Tabla20[#All],3,FALSE) -> 167 | J11: =(Tabla29[[#This Row],[P3 + P6]])*VLOOKUP(MONTH(Tabla29[[#This Row],[Fecha final]]),Tabla20[#All],4,FALSE) -> 8.304 | K11: =Tabla29[[#This Row],[P1 + P4]]*VLOOKUP(MONTH(Tabla29[[#This Row],[Fecha final]]),Tabla20[#All],5,FALSE) -> 0 | L11: =Tabla29[[#This Row],[P2 + P5]]*VLOOKUP(MONTH(Tabla29[[#This Row],[Fecha final]]),Tabla20[#All],6,FALSE) -> 0 | M11: =Tabla29[[#This Row],[P3 + P6]]*VLOOKUP(MONTH(Tabla29[[#This Row],[Fecha final]]),Tabla20[#All],7,FALSE) -> 21.696 | N11: =YEAR(Tabla29[[#This Row],[Fecha final]]) -> 2020
A12: 44140 | B12: 44165 | C12: 25 | D12: REAL | E12: 69 | F12: 1375 | G12: 144 | H12: =Tabla29[[#This Row],[P1 + P4]]*VLOOKUP(MONTH(Tabla29[[#This Row],[Fecha final]]),Tabla20[#All],2,FALSE) -> 0 | I12: =Tabla29[[#This Row],[P2 + P5]]*VLOOKUP(MONTH(Tabla29[[#This Row],[Fecha final]]),Tabla20[#All],3,FALSE) -> 1375 | J12: =(Tabla29[[#This Row],[P3 + P6]])*VLOOKUP(MONTH(Tabla29[[#This Row],[Fecha final]]),Tabla20[#All],4,FALSE) -> 39.8592 | K12: =Tabla29[[#This Row],[P1 + P4]]*VLOOKUP(MONTH(Tabla29[[#This Row],[Fecha final]]),Tabla20[#All],5,FALSE) -> 0 | L12: =Tabla29[[#This Row],[P2 + P5]]*VLOOKUP(MONTH(Tabla29[[#This Row],[Fecha final]]),Tabla20[#All],6,FALSE) -> 0 | M12: =Tabla29[[#This Row],[P3 + P6]]*VLOOKUP(MONTH(Tabla29[[#This Row],[Fecha final]]),Tabla20[#All],7,FALSE) -> 104.1408 | N12: =YEAR(Tabla29[[#This Row],[Fecha final]]) -> 2020
A13: 44165 | B13: 44202 | C13: 37 | D13: REAL | E13: 101 | F13: 2445 | G13: 219 | H13: =Tabla29[[#This Row],[P1 + P4]]*VLOOKUP(MONTH(Tabla29[[#This Row],[Fecha final]]),Tabla20[#All],2,FALSE) -> 101 | I13: =Tabla29[[#This Row],[P2 + P5]]*VLOOKUP(MONTH(Tabla29[[#This Row],[Fecha final]]),Tabla20[#All],3,FALSE) -> 2445 | J13: =(Tabla29[[#This Row],[P3 + P6]])*VLOOKUP(MONTH(Tabla29[[#This Row],[Fecha final]]),Tabla20[#All],4,FALSE) -> 0 | K13: =Tabla29[[#This Row],[P1 + P4]]*VLOOKUP(MONTH(Tabla29[[#This Row],[Fecha final]]),Tabla20[#All],5,FALSE) -> 0 | L13: =Tabla29[[#This Row],[P2 + P5]]*VLOOKUP(MONTH(Tabla29[[#This Row],[Fecha final]]),Tabla20[#All],6,FALSE) -> 0 | M13: =Tabla29[[#This Row],[P3 + P6]]*VLOOKUP(MONTH(Tabla29[[#This Row],[Fecha final]]),Tabla20[#All],7,FALSE) -> 219 | N13: =YEAR(Tabla29[[#This Row],[Fecha final]]) -> 2021
A14: 44202 | B14: 44227 | C14: 25 | D14: REAL | E14: 86 | F14: 2090 | G14: 180 | H14: =Tabla29[[#This Row],[P1 + P4]]*VLOOKUP(MONTH(Tabla29[[#This Row],[Fecha final]]),Tabla20[#All],2,FALSE) -> 86 | I14: =Tabla29[[#This Row],[P2 + P5]]*VLOOKUP(MONTH(Tabla29[[#This Row],[Fecha final]]),Tabla20[#All],3,FALSE) -> 2090 | J14: =(Tabla29[[#This Row],[P3 + P6]])*VLOOKUP(MONTH(Tabla29[[#This Row],[Fecha final]]),Tabla20[#All],4,FALSE) -> 0 | K14: =Tabla29[[#This Row],[P1 + P4]]*VLOOKUP(MONTH(Tabla29[[#This Row],[Fecha final]]),Tabla20[#All],5,FALSE) -> 0 | L14: =Tabla29[[#This Row],[P2 + P5]]*VLOOKUP(MONTH(Tabla29[[#This Row],[Fecha final]]),Tabla20[#All],6,FALSE) -> 0 | M14: =Tabla29[[#This Row],[P3 + P6]]*VLOOKUP(MONTH(Tabla29[[#This Row],[Fecha final]]),Tabla20[#All],7,FALSE) -> 180 | N14: =YEAR(Tabla29[[#This Row],[Fecha final]]) -> 2021
A15: 44227 | B15: 44255 | C15: 28 | D15: REAL | E15: 82 | F15: 2007 | G15: 191 | H15: =Tabla29[[#This Row],[P1 + P4]]*VLOOKUP(MONTH(Tabla29[[#This Row],[Fecha final]]),Tabla20[#All],2,FALSE) -> 82 | I15: =Tabla29[[#This Row],[P2 + P5]]*VLOOKUP(MONTH(Tabla29[[#This Row],[Fecha final]]),Tabla20[#All],3,FALSE) -> 2007 | J15: =(Tabla29[[#This Row],[P3 + P6]])*VLOOKUP(MONTH(Tabla29[[#This Row],[Fecha final]]),Tabla20[#All],4,FALSE) -> 0 | K15: =Tabla29[[#This Row],[P1 + P4]]*VLOOKUP(MONTH(Tabla29[[#This Row],[Fecha final]]),Tabla20[#All],5,FALSE) -> 0 | L15: =Tabla29[[#This Row],[P2 + P5]]*VLOOKUP(MONTH(Tabla29[[#This Row],[Fecha final]]),Tabla20[#All],6,FALSE) -> 0 | M15: =Tabla29[[#This Row],[P3 + P6]]*VLOOKUP(MONTH(Tabla29[[#This Row],[Fecha final]]),Tabla20[#All],7,FALSE) -> 191 | N15: =YEAR(Tabla29[[#This Row],[Fecha final]]) -> 2021
A16: 44255 | B16: 44286 | C16: 31 | D16: REAL | E16: 140 | F16: 2015 | G16: 181 | H16: =Tabla29[[#This Row],[P1 + P4]]*VLOOKUP(MONTH(Tabla29[[#This Row],[Fecha final]]),Tabla20[#All],2,FALSE) -> 0 | I16: =Tabla29[[#This Row],[P2 + P5]]*VLOOKUP(MONTH(Tabla29[[#This Row],[Fecha final]]),Tabla20[#All],3,FALSE) -> 2015 | J16: =(Tabla29[[#This Row],[P3 + P6]])*VLOOKUP(MONTH(Tabla29[[#This Row],[Fecha final]]),Tabla20[#All],4,FALSE) -> 54.2638 | K16: =Tabla29[[#This Row],[P1 + P4]]*VLOOKUP(MONTH(Tabla29[[#This Row],[Fecha final]]),Tabla20[#All],5,FALSE) -> 0 | L16: =Tabla29[[#This Row],[P2 + P5]]*VLOOKUP(MONTH(Tabla29[[#This Row],[Fecha final]]),Tabla20[#All],6,FALSE) -> 0 | M16: =Tabla29[[#This Row],[P3 + P6]]*VLOOKUP(MONTH(Tabla29[[#This Row],[Fecha final]]),Tabla20[#All],7,FALSE) -> 126.7362 | N16: =YEAR(Tabla29[[#This Row],[Fecha final]]) -> 2021
A17: 44286 | B17: 44316 | C17: 30 | D17: REAL | E17: 478 | F17: 864 | G17: 201 | H17: =Tabla29[[#This Row],[P1 + P4]]*VLOOKUP(MONTH(Tabla29[[#This Row],[Fecha final]]),Tabla20[#All],2,FALSE) -> 0 | I17: =Tabla29[[#This Row],[P2 + P5]]*VLOOKUP(MONTH(Tabla29[[#This Row],[Fecha final]]),Tabla20[#All],3,FALSE) -> 0 | J17: =(Tabla29[[#This Row],[P3 + P6]])*VLOOKUP(MONTH(Tabla29[[#This Row],[Fecha final]]),Tabla20[#All],4,FALSE) -> 0 | K17: =Tabla29[[#This Row],[P1 + P4]]*VLOOKUP(MONTH(Tabla29[[#This Row],[Fecha final]]),Tabla20[#All],5,FALSE) -> 478 | L17: =Tabla29[[#This Row],[P2 + P5]]*VLOOKUP(MONTH(Tabla29[[#This Row],[Fecha final]]),Tabla20[#All],6,FALSE) -> 864 | M17: =Tabla29[[#This Row],[P3 + P6]]*VLOOKUP(MONTH(Tabla29[[#This Row],[Fecha final]]),Tabla20[#All],7,FALSE) -> 201 | N17: =YEAR(Tabla29[[#This Row],[Fecha final]]) -> 2021
A18: 44316 | B18: 44347 | C18: 31 | D18: REAL | E18: 398 | F18: 724 | G18: 204 | H18: =Tabla29[[#This Row],[P1 + P4]]*VLOOKUP(MONTH(Tabla29[[#This Row],[Fecha final]]),Tabla20[#All],2,FALSE) -> 0 | I18: =Tabla29[[#This Row],[P2 + P5]]*VLOOKUP(MONTH(Tabla29[[#This Row],[Fecha final]]),Tabla20[#All],3,FALSE) -> 0 | J18: =(Tabla29[[#This Row],[P3 + P6]])*VLOOKUP(MONTH(Tabla29[[#This Row],[Fecha final]]),Tabla20[#All],4,FALSE) -> 0 | K18: =Tabla29[[#This Row],[P1 + P4]]*VLOOKUP(MONTH(Tabla29[[#This Row],[Fecha final]]),Tabla20[#All],5,FALSE) -> 398 | L18: =Tabla29[[#This Row],[P2 + P5]]*VLOOKUP(MONTH(Tabla29[[#This Row],[Fecha final]]),Tabla20[#All],6,FALSE) -> 724 | M18: =Tabla29[[#This Row],[P3 + P6]]*VLOOKUP(MONTH(Tabla29[[#This Row],[Fecha final]]),Tabla20[#All],7,FALSE) -> 204 | N18: =YEAR(Tabla29[[#This Row],[Fecha final]]) -> 2021
... A41: 44985 | B41: 45016 | C41: 31 | D41: REAL | E41: 0 | F41: 725 | G41: 349 | H41: =Tabla29[[#This Row],[P1 + P4]]*VLOOKUP(MONTH(Tabla29[[#This Row],[Fecha final]]),Tabla20[#All],2,FALSE) -> 0 | I41: =Tabla29[[#This Row],[P2 + P5]]*VLOOKUP(MONTH(Tabla29[[#This Row],[Fecha final]]),Tabla20[#All],3,FALSE) -> 725 | J41: =(Tabla29[[#This Row],[P3 + P6]])*VLOOKUP(MONTH(Tabla29[[#This Row],[Fecha final]]),Tabla20[#All],4,FALSE) -> 104.6302 | K41: =Tabla29[[#This Row],[P1 + P4]]*VLOOKUP(MONTH(Tabla29[[#This Row],[Fecha final]]),Tabla20[#All],5,FALSE) -> 0 | L41: =Tabla29[[#This Row],[P2 + P5]]*VLOOKUP(MONTH(Tabla29[[#This Row],[Fecha final]]),Tabla20[#All],6,FALSE) -> 0 | M41: =Tabla29[[#This Row],[P3 + P6]]*VLOOKUP(MONTH(Tabla29[[#This Row],[Fecha final]]),Tabla20[#All],7,FALSE) -> 244.3698 | N41: =YEAR(Tabla29[[#This Row],[Fecha final]]) -> 2023
A44: CONSUMO REACTIVA
A46: Fecha inicial | B46: Fecha final | C46: Días | D46: Tipo | E46: P1 + P4 | F46: P2 + P5 | G46: P3 + P6
A47: 28-02-2023 | B47: 31-03-2023 | C47: 31 | D47: REAL | E47: 0 | F47: 0 | G47: 0
A48: 31-01-2023 | B48: 28-02-2023 | C48: 28 | D48: REAL | E48: 247 | F48: 37 | G48: 0
A49: 31-12-2022 | B49: 31-01-2023 | C49: 31 | D49: REAL | E49: 246 | F49: 48 | G49: 0
A50: 30-11-2022 | B50: 31-12-2022 | C50: 31 | D50: REAL | E50: 93 | F50: 37 | G50: 0
A51: 31-10-2022 | B51: 30-11-2022 | C51: 30 | D51: REAL | E51: 0 | F51: 0 | G51: 4
A52: 30-09-2022 | B52: 31-10-2022 | C52: 31 | D52: REAL | E52: 33 | F52: 0 | G52: 0
A53: 31-08-2022 | B53: 30-09-2022 | C53: 30 | D53: REAL | E53: 42 | F53: 0 | G53: 220
A54: 28-07-2022 | B54: 31-08-2022 | C54: 34 | D54: REAL | E54: 0 | F54: 0 | G54: 0
A55: 30-06-2022 | B55: 28-07-2022 | C55: 28 | D55: REAL | E55: 310 | F55: 76 | G55: 0
A56: 31-05-2022 | B56: 30-06-2022 | C56: 30 | D56: REAL | E56: 43 | F56: 0 | G56: 173
A57: 30-04-2022 | B57: 31-05-2022 | C57: 31 | D57: REAL | E57: 0 | F57: 0 | G57: 0
A58: 31-03-2022 | B58: 30-04-2022 | C58: 30 | D58: REAL | E58: 0 | F58: 0 | G58: 0
... A81: 13-06-2020 | B81: 23-07-2020 | C81: 40 | D81: REAL | E81: 0 | F81: 0 | G81: 0
A84: MAXÍMETRO
A86: POTENCIAS CONTRATADAS | B86: P1 | C86: P2 | D86: P3
A87: Potencias Contratadas (kW) | B87: 49.73 | C87: 49.73 | D87: 49.73
A88: Fecha inicial | B88: Fecha final | C88: Días | D88: Tipo | E88: P1 | F88: P2 | G88: P3
A89: 28-02-2023 | B89: 31-03-2023 | C89: 31 | D89: REAL | E89: 0 | F89: 15 | G89: 13
A90: 31-01-2023 | B90: 28-02-2023 | C90: 28 | D90: REAL | E90: 15 | F90: 14 | G90: 3
A91: 31-12-2022 | B91: 31-01-2023 | C91: 31 | D91: REAL | E91: 15 | F91: 15 | G91: 2
A92: 30-11-2022 | B92: 31-12-2022 | C92: 31 | D92: REAL | E92: 16 | F92: 15 | G92: 7
A93: 31-10-2022 | B93: 30-11-2022 | C93: 30 | D93: REAL | E93: 0 | F93: 14 | G93: 13
A94: 30-09-2022 | B94: 31-10-2022 | C94: 31 | D94: REAL | E94: 13 | F94: 12 | G94: 1
A95: 31-08-2022 | B95: 30-09-2022 | C95: 30 | D95: REAL | E95: 13 | F95: 0 | G95: 14
A96: 28-07-2022 | B96: 31-08-2022 | C96: 34 | D96: REAL | E96: 14 | F96: 0 | G96: 14
A97: 30-06-2022 | B97: 28-07-2022 | C97: 28 | D97: REAL | E97: 15 | F97: 14 | G97: 2
A98: 31-05-2022 | B98: 30-06-2022 | C98: 30 | D98: REAL | E98: 17 | F98: 0 | G98: 17
A99: 30-04-2022 | B99: 31-05-2022 | C99: 31 | D99: REAL | E99: 4.031 | F99: 2.176 | G99: 0.799
A100: 31-03-2022 | B100: 30-04-2022 | C100: 30 | D100: REAL | E100: 19 | F100: 18 | G100: 3
... A123: 13-06-2020 | B123: 23-07-2020 | C123: 40 | D123: REAL | E123: 42 | F123: 42 | G123: 42
A126: OPTIMIZACIÓN POTENCIA
A129: COMPENSACIÓN REACTIVA

Sheet 4021XW
A1: CONSUMO ACTIVA
A3: CONSUMO ANUAL: 860kWh | B3: P1 + P4 | C3: P2 + P5 | D3: P3 + P6
A4: Consumo anual por periodos en kWh | B4: 201 | C4: 199 | D4: 459
A5: Consumo anual por periodos en % | B5: 23 | C5: 23 | D5: 53
A6: Fecha inicial | B6: Fecha final | C6: Días | D6: Tipo | E6: P1 + P4 | F6: P2 + P5 | G6: P3 + P6 | H6: P1 | I6: P2
A7: 44012 | B7: 31-07-2020 | C7: 31 | D7: REAL | E7: 477 | F7: 564 | G7: 120 | H7: =Tabla28[[#This Row],[P1 + P4]]+Tabla28[[#This Row],[P2 + P5]] -> 1041 | I7: =Tabla28[[#This Row],[P3 + P6]] -> 120
A8: 44043 | B8: 31-08-2020 | C8: 31 | D8: REAL | E8: 353 | F8: 384 | G8: 99 | H8: =Tabla28[[#This Row],[P1 + P4]]+Tabla28[[#This Row],[P2 + P5]] -> 737 | I8: =Tabla28[[#This Row],[P3 + P6]] -> 99
A9: 44074 | B9: 30-09-2020 | C9: 30 | D9: REAL | E9: 181 | F9: 315 | G9: 93 | H9: =Tabla28[[#This Row],[P1 + P4]]+Tabla28[[#This Row],[P2 + P5]] -> 496 | I9: =Tabla28[[#This Row],[P3 + P6]] -> 93
A10: 44104 | B10: 31-10-2020 | C10: 31 | D10: REAL | E10: 103 | F10: 334 | G10: 102 | H10: =Tabla28[[#This Row],[P1 + P4]]+Tabla28[[#This Row],[P2 + P5]] -> 437 | I10: =Tabla28[[#This Row],[P3 + P6]] -> 102
A11: 44135 | B11: 30-11-2020 | C11: 30 | D11: REAL | E11: 59 | F11: 624 | G11: 105 | H11: =Tabla28[[#This Row],[P1 + P4]]+Tabla28[[#This Row],[P2 + P5]] -> 683 | I11: =Tabla28[[#This Row],[P3 + P6]] -> 105
A12: 44165 | B12: 31-12-2020 | C12: 31 | D12: REAL | E12: 69 | F12: 874 | G12: 133 | H12: =Tabla28[[#This Row],[P1 + P4]]+Tabla28[[#This Row],[P2 + P5]] -> 943 | I12: =Tabla28[[#This Row],[P3 + P6]] -> 133
A13: 44196 | B13: 31-01-2021 | C13: 31 | D13: REAL | E13: 63 | F13: 855 | G13: 106 | H13: =Tabla28[[#This Row],[P1 + P4]]+Tabla28[[#This Row],[P2 + P5]] -> 918 | I13: =Tabla28[[#This Row],[P3 + P6]] -> 106
A14: 44227 | B14: 28-02-2021 | C14: 28 | D14: REAL | E14: 52 | F14: 727 | G14: 91 | H14: =Tabla28[[#This Row],[P1 + P4]]+Tabla28[[#This Row],[P2 + P5]] -> 779 | I14: =Tabla28[[#This Row],[P3 + P6]] -> 91
A15: 44255 | B15: 05-04-2021 | C15: 36 | D15: REAL | E15: 89 | F15: 741 | G15: 122 | H15: =Tabla28[[#This Row],[P1 + P4]]+Tabla28[[#This Row],[P2 + P5]] -> 830 | I15: =Tabla28[[#This Row],[P3 + P6]] -> 122
A16: 44291 | B16: 30-04-2021 | C16: 25 | D16: REAL | E16: 131 | F16: 340 | G16: 154 | H16: =Tabla28[[#This Row],[P1 + P4]]+Tabla28[[#This Row],[P2 + P5]] -> 471 | I16: =Tabla28[[#This Row],[P3 + P6]] -> 154
A17: 44316 | B17: 31-05-2021 | C17: 31 | D17: REAL | E17: 123 | F17: 310 | G17: 140 | H17: =Tabla28[[#This Row],[P1 + P4]]+Tabla28[[#This Row],[P2 + P5]] -> 433 | I17: =Tabla28[[#This Row],[P3 + P6]] -> 140
A18: 44347 | B18: 30-06-2021 | C18: 30 | D18: REAL | E18: 132 | F18: 0 | G18: 449 | H18: =Tabla28[[#This Row],[P1 + P4]]+Tabla28[[#This Row],[P2 + P5]] -> 132 | I18: =Tabla28[[#This Row],[P3 + P6]] -> 449
... A41: 44989 | B41: 08-04-2023 | C41: 35 | D41: REAL | E41: 20 | F41: 20 | G41: 45 | H41: =Tabla28[[#This Row],[P1 + P4]]+Tabla28[[#This Row],[P2 + P5]] -> 40 | I41: =Tabla28[[#This Row],[P3 + P6]] -> 45
A44: CONSUMO REACTIVA
A46: Fecha inicial | B46: Fecha final | C46: Días | D46: Tipo | E46: P1 + P4 | F46: P2 + P5 | G46: P3 + P6
A47: 04-03-2023 | B47: 08-04-2023 | C47: 35 | D47: REAL | E47: 0 | F47: 0 | G47: 0
A48: 04-02-2023 | B48: 04-03-2023 | C48: 28 | D48: REAL | E48: 0 | F48: 0 | G48: 0
A49: 08-01-2023 | B49: 04-02-2023 | C49: 27 | D49: REAL | E49: 0 | F49: 0 | G49: 0
A50: 08-12-2022 | B50: 08-01-2023 | C50: 31 | D50: REAL | E50: 0 | F50: 0 | G50: 0
A51: 05-11-2022 | B51: 08-12-2022 | C51: 33 | D51: REAL | E51: 0 | F51: 0 | G51: 0
A52: 05-10-2022 | B52: 05-11-2022 | C52: 31 | D52: REAL | E52: 0 | F52: 0 | G52: 0
A53: 05-09-2022 | B53: 05-10-2022 | C53: 30 | D53: REAL | E53: 0 | F53: 0 | G53: 0
A54: 03-08-2022 | B54: 05-09-2022 | C54: 33 | D54: REAL | E54: 0 | F54: 0 | G54: 0
A55: 06-07-2022 | B55: 03-08-2022 | C55: 28 | D55: REAL | E55: 0 | F55: 0 | G55: 0
A56: 05-06-2022 | B56: 06-07-2022 | C56: 31 | D56: REAL | E56: 0 | F56: 0 | G56: 0
A57: 29-04-2022 | B57: 05-06-2022 | C57: 37 | D57: REAL | E57: 0 | F57: 0 | G57: 0
A58: 07-04-2022 | B58: 29-04-2022 | C58: 22 | D58: REAL | E58: 0 | F58: 0 | G58: 0
... A81: 30-06-2020 | B81: 31-07-2020 | C81: 31 | D81: REAL | E81: 329 | F81: 368 | G81: 16
A84: MAXÍMETRO
A86: POTENCIAS CONTRATADAS | B86: P1 | C86: P2 | D86: P3
A87: Potencias Contratadas (kW) | B87: 3.464 | C87: 3.464 | D87: 0
A88: Fecha inicial | B88: Fecha final | C88: Días | D88: Tipo | E88: P1 | F88: P2 | G88: P3
A89: 04-03-2023 | B89: 08-04-2023 | C89: 35 | D89: REAL | E89: 0 | F89: 0 | G89: 0
A90: 04-02-2023 | B90: 04-03-2023 | C90: 28 | D90: REAL | E90: 0 | F90: 0 | G90: 0
A91: 08-01-2023 | B91: 04-02-2023 | C91: 27 | D91: REAL | E91: 0 | F91: 0 | G91: 0
A92: 08-12-2022 | B92: 08-01-2023 | C92: 31 | D92: REAL | E92: 0 | F92: 0 | G92: 0
A93: 05-11-2022 | B93: 08-12-2022 | C93: 33 | D93: REAL | E93: 0 | F93: 0 | G93: 0
A94: 05-10-2022 | B94: 05-11-2022 | C94: 31 | D94: REAL | E94: 0 | F94: 0 | G94: 0
A95: 05-09-2022 | B95: 05-10-2022 | C95: 30 | D95: REAL | E95: 0 | F95: 0 | G95: 0
A96: 03-08-2022 | B96: 05-09-2022 | C96: 33 | D96: REAL | E96: 0 | F96: 0 | G96: 0
A97: 06-07-2022 | B97: 03-08-2022 | C97: 28 | D97: REAL | E97: 0 | F97: 0 | G97: 0
A98: 05-06-2022 | B98: 06-07-2022 | C98: 31 | D98: REAL | E98: 0 | F98: 0 | G98: 0
A99: 29-04-2022 | B99: 05-06-2022 | C99: 37 | D99: REAL | E99: 0 | F99: 0 | G99: 0
A100: 07-04-2022 | B100: 29-04-2022 | C100: 22 | D100: REAL | E100: 0 | F100: 0 | G100: 0
... A123: 30-06-2020 | B123: 31-07-2020 | C123: 31 | D123: REAL | E123: 6 | F123: 6 | G123: 5

Sheet 2002TQ
A1: CONSUMO ACTIVA
A3: CONSUMO ANUAL: 5992kWh | B3: P1 + P4 | C3: P2 + P5 | D3: P3 + P6
A4: Consumo anual por periodos en kWh | B4: 2526 | C4: 2278 | D4: 1188
A5: Consumo anual por periodos en % | B5: 42 | C5: 38 | D5: 20
