Workbook

Sheet Electricidad
A7: Codi | B7: CUPS | C7: Sucursal | D7: Dirección del suministro | E7: Tarifa de acceso | F7: Pot. Contractada P1 | G7: Pot. Contractada P2 | H7: Pot. Contractada P3 | I7: Pot. Contractada P4 | J7: Pot. Contractada P5 | K7: Pot. Contractada P6 | L7: Consumo anual P1 + P4 | M7: Consumo anual P2 + P5 | N7: Consumo anual P3 + P6 | O7: Consumo anual P1 | P7: Consumo anual P2 | Q7: Consumo anual P3 | R7: Consumo anual P4 | S7: Consumo anual P5 | T7: Consumo anual P6 | U7: Total anual
A8: 1701 | B8: ES0031446383676001EZ0F | C8: FIGUERES | D8: TRAMUNTANA 4, EDIFICIO TRAMONTANA, LOC 17600 FIGUERES | E8: 3.0 TD | F8: 31.5 | G8: 31.5 | H8: 31.5 | I8: 31.5 | J8: 31.5 | K8: 31.5 | L8: =SUM('6001EZ'!E27:E37)+'6001EZ'!E38/'6001EZ'!$C$38*31 -> 8329.6585 | M8: =SUM('6001EZ'!F27:F37)+'6001EZ'!F38/'6001EZ'!$C$38*31 -> 6485.5122 | N8: =SUM('6001EZ'!G27:G37)+'6001EZ'!G38/'6001EZ'!$C$38*31 -> 8401.3902 | O8: =SUM('6001EZ'!H27:H37)+'6001EZ'!H38/'6001EZ'!$C$38*31 -> 4934.6585 | P8: =SUM('6001EZ'!I27:I37)+'6001EZ'!I38/'6001EZ'!$C$38*31 -> 5335.5122 | Q8: =SUM('6001EZ'!J27:J37)+'6001EZ'!J38/'6001EZ'!$C$38*31 -> 1759.1298 | R8: =SUM('6001EZ'!K27:K37)+'6001EZ'!K38/'6001EZ'!$C$38*31 -> 3395 | S8: =SUM('6001EZ'!L27:L37)+'6001EZ'!L38/'6001EZ'!$C$38*31 -> 1150 | T8: =SUM('6001EZ'!M27:M37)+'6001EZ'!M38/'6001EZ'!$C$38*31 -> 6642.2604 | U8: =SUM(Tabla1[[#This Row],[Consumo anual P1]:[Consumo anual P6]]) -> 23216.561
A9: 1700 | B9: ES0031406114262002TQ0F | C9: GIRONA | D9: SANTA EUGENIA 94, LOC 17005 GIRONA | E9: 2.0 TD | F9: 8.8 | G9: 8.8 | H9: NA | I9: NA | J9: NA | K9: NA | L9: =SUM('2002TQ'!E26:E37)+'2002TQ'!E25/30*1+'2002TQ'!E38/34*19 -> 2782.1137 | M9: =SUM('2002TQ'!F26:F37)+'2002TQ'!F25/30*1+'2002TQ'!F38/34*19 -> 2521.5667 | N9: =SUM('2002TQ'!G26:G37)+'2002TQ'!G25/30*1+'2002TQ'!G38/34*19 -> 1098.2549 | O9: =SUM(Tabla1[[#This Row],[Consumo anual P1 + P4]:[Consumo anual P2 + P5]]) -> 5303.6804 | P9: =Tabla1[[#This Row],[Consumo anual P3 + P6]] -> 1098.2549 | Q9: NA | R9: NA | S9: NA | T9: NA | U9: =SUM(Tabla1[[#This Row],[Consumo anual P1]:[Consumo anual P6]]) -> 6401.9353
A10: 1700 | B10: ES0031406157485002TJ0F | C10: GIRONA | D10: SANTA EUGENIA 96, LOC2 17005 GIRONA | E10: 3.0 TD | F10: 31.5 | G10: 31.5 | H10: 31.5 | I10: 31.5 | J10: 31.5 | K10: 31.5 | L10: =SUM('5002TJ'!E27:E38) -> 12788 | M10: =SUM('5002TJ'!F27:F38) -> 9572 | N10: =SUM('5002TJ'!G27:G38) -> 12374 | O10: =SUM('5002TJ'!H27:H38) -> 6741 | P10: =SUM('5002TJ'!I27:I38) -> 7309 | Q10: =SUM('5002TJ'!J27:J38) -> 2860.5174 | R10: =SUM('5002TJ'!K27:K38) -> 6047 | S10: =SUM('5002TJ'!L27:L38) -> 2263 | T10: =SUM('5002TJ'!M27:M38) -> 9513.4826 | U10: =SUM(Tabla1[[#This Row],[Consumo anual P1]:[Consumo anual P6]]) -> 34734
A11: 1702 | B11: ES0122010000002371SV0F | C11: BANYOLES | D11: LLIBERTAT,196-198 BAJOS | E11: 2.0TD | F11: 14.49 | G11: 14.49 | H11: 14.49 | I11: 14.49 | J11: 14.49 | K11: 14.49 | O11: 4363 | P11: 3471 | Q11: 1682 | R11: =SUM(Tabla1[[#This Row],[Consumo anual P1 + P4]:[Consumo anual P3 + P6]]) -> 0 | U11: =SUM(Tabla1[[#This Row],[Consumo anual P1]:[Consumo anual P6]]) -> 9516
A12: 806 | B12: ES0031405489736001JF0F | C12: HOSPITALET DE LLOBREGAT | D12: BARCELONA 92, BJO 08901 HOSPITALET DE LLOBREGAT | E12: 3.0 TD | F12: 31.5 | G12: 31.5 | H12: 31.5 | I12: 31.5 | J12: 31.5 | K12: 31.5 | L12: =SUM('6001JF'!E27:E38) -> 11990 | M12: =SUM('6001JF'!F27:F38) -> 9666 | N12: =SUM('6001JF'!G27:G38) -> 9414 | O12: =SUM('6001JF'!H27:H38) -> 6290 | P12: =SUM('6001JF'!I27:I38) -> 7513 | Q12: =SUM('6001JF'!J27:J38) -> 2453.6666 | R12: =SUM('6001JF'!K27:K38) -> 5700 | S12: =SUM('6001JF'!L27:L38) -> 2153 | T12: =SUM('6001JF'!M27:M38) -> 6960.3334 | U12: =SUM(Tabla1[[#This Row],[Consumo anual P1]:[Consumo anual P6]]) -> 31070
A13: 806 | B13: ES0031406169188001CZ0F | C13: HOSPITALET DE LLOBREGAT | D13: CALLE TECLA SALA, 9 08901 HOSPITALET DE LLOBREGAT | E13: 3.0 TD | F13: 31 | G13: 31 | H13: 31 | I13: 31 | J13: 31 | K13: 31 | L13: =SUM('8001CZ'!E27:E38) -> 0 | M13: =SUM('8001CZ'!F27:F38) -> 0 | N13: =SUM('8001CZ'!G27:G38) -> 0 | O13: =SUM('8001CZ'!H27:H38) -> 0 | P13: =SUM('8001CZ'!I27:I38) -> 0 | Q13: =SUM('8001CZ'!J27:J38) -> 0 | R13: =SUM('8001CZ'!K27:K38) -> 0 | S13: =SUM('8001CZ'!L27:L38) -> 0 | T13: =SUM('8001CZ'!M27:M38) -> 0 | U13: =SUM(Tabla1[[#This Row],[Consumo anual P1]:[Consumo anual P6]]) -> 0
A14: 800 | B14: ES0031405499934001XZ0F | C14: MANRESA | D14: PLAZA BAGES 13, BJO 08242 MANRESA | E14: 3.0 TD | F14: 52 | G14: 52 | H14: 52 | I14: 52 | J14: 52 | K14: 52 | L14: =SUM('4001XZ'!E26:E38) -> 10932 | M14: =SUM('4001XZ'!F26:F38) -> 9059 | N14: =SUM('4001XZ'!G26:G38) -> 16816 | O14: =SUM('4001XZ'!H26:H38) -> 6964 | P14: =SUM('4001XZ'!I26:I38) -> 7329 | Q14: =SUM('4001XZ'!J26:J38) -> 2807.743 | R14: =SUM('4001XZ'!K26:K38) -> 3968 | S14: =SUM('4001XZ'!L26:L38) -> 1730 | T14: =SUM('4001XZ'!M26:M38) -> 14008.257 | U14: =SUM(Tabla1[[#This Row],[Consumo anual P1]:[Consumo anual P6]]) -> 36807
A15: 800 | B15: ES0031405876712001GH0F | C15: MANRESA | D15: SANT JOSEP 58, LOC 08242 MANRESA | E15: 3.0 TD | F15: 50 | G15: 50 | H15: 50 | I15: 50 | J15: 50 | K15: 50 | L15: =SUM('2001GH'!E27:E38) -> 5413 | M15: =SUM('2001GH'!F27:F38) -> 3520 | N15: =SUM('2001GH'!G27:G38) -> 4971 | O15: =SUM('2001GH'!H27:H38) -> 3734 | P15: =SUM('2001GH'!I27:I38) -> 2949 | Q15: =SUM('2001GH'!J27:J38) -> 1035.5752 | R15: =SUM('2001GH'!K27:K38) -> 1679 | S15: =SUM('2001GH'!L27:L38) -> 571 | T15: =SUM('2001GH'!M27:M38) -> 3935.4248 | U15: =SUM(Tabla1[[#This Row],[Consumo anual P1]:[Consumo anual P6]]) -> 13904
A16: 800 | B16: ES0031405505097001PC0F | C16: MANRESA | D16: SANT JOSEP 66, BJO, MUTUA 08242 MANRESA | E16: 3.0 TD | F16: 70 | G16: 70 | H16: 70 | I16: 70 | J16: 70 | K16: 70 | L16: =SUM('7001PC'!E27:E38) -> 23721 | M16: =SUM('7001PC'!F27:F38) -> 18155 | N16: =SUM('7001PC'!G27:G38) -> 20345 | O16: =SUM('7001PC'!H27:H38) -> 13767 | P16: =SUM('7001PC'!I27:I38) -> 14451 | Q16: =SUM('7001PC'!J27:J38) -> 4161.5438 | R16: =SUM('7001PC'!K27:K38) -> 9954 | S16: =SUM('7001PC'!L27:L38) -> 3704 | T16: =SUM('7001PC'!M27:M38) -> 16183.456 | U16: =SUM(Tabla1[[#This Row],[Consumo anual P1]:[Consumo anual P6]]) -> 62221
A17: 804 | B17: ES0031405760435011KB0F | C17: BERGA | D17: PASSEIG DE LES ESTASELLES,29 08600 BERGA | E17: 2.0TD | F17: 2.3 | G17: 2.3 | H17: 2.3 | I17: 2.3 | J17: 2.3 | K17: 2.3 | R17: =SUM(Tabla1[[#This Row],[Consumo anual P1 + P4]:[Consumo anual P3 + P6]]) -> 0 | U17: =SUM(Tabla1[[#This Row],[Consumo anual P1]:[Consumo anual P6]]) -> 0
A18: 802 | B18: ES0031405014638001QN0F | C18: MOLLET DEL VALLÈS | D18: ANGEL GUIMERA 8 08100 MOLLET DEL VALLÈS | E18: 3.0 TD | F18: 85 | G18: 85 | H18: 85 | I18: 85 | J18: 85 | K18: 85 | L18: =SUM('8001QN'!E27:E38) -> 3655 | M18: =SUM('8001QN'!F27:F38) -> 2660 | N18: =SUM('8001QN'!G27:G38) -> 4296 | O18: =SUM('8001QN'!H27:H38) -> 2176 | P18: =SUM('8001QN'!I27:I38) -> 2186 | Q18: =SUM('8001QN'!J27:J38) -> 953.2598 | R18: =SUM('8001QN'!K27:K38) -> 1479 | S18: =SUM('8001QN'!L27:L38) -> 474 | T18: =SUM('8001QN'!M27:M38) -> 3342.7402 | U18: =SUM(Tabla1[[#This Row],[Consumo anual P1]:[Consumo anual P6]]) -> 10611
A19: 802 | B19: ES0031405016875009XV0F | C19: MOLLET DEL VALLÈS | D19: RAMON CASAS 7 LOC-1 MOLLET DEL VALLES BARCELONA | E19: 3.0 TD | F19: 17.35 | G19: 17.35 | H19: 17.35 | I19: 17.35 | J19: 17.35 | K19: 17.35 | R19: =SUM(Tabla1[[#This Row],[Consumo anual P1 + P4]:[Consumo anual P3 + P6]]) -> 0 | U19: =SUM(Tabla1[[#This Row],[Consumo anual P1]:[Consumo anual P6]]) -> 0
A20: 807 | B20: ES0031405250733001RN0F | C20: PALAU SOLITÀ I PLEGAMANS | D20: PS DE LA CARRERADA 2 08184 ESTANY, L' | E20: 3.0 TD | F20: 50 | G20: 50 | H20: 50 | I20: 50 | J20: 50 | K20: 50 | L20: =SUM('3001RN'!E27:E38) -> 10116 | M20: =SUM('3001RN'!F27:F38) -> 7915 | N20: =SUM('3001RN'!G27:G38) -> 11912 | O20: =SUM('3001RN'!H27:H38) -> 5994 | P20: =SUM('3001RN'!I27:I38) -> 6279 | Q20: =SUM('3001RN'!J27:J38) -> 2433.6134 | R20: =SUM('3001RN'!K27:K38) -> 4122 | S20: =SUM('3001RN'!L27:L38) -> 1636 | T20: =SUM('3001RN'!M27:M38) -> 9478.3866 | U20: =SUM(Tabla1[[#This Row],[Consumo anual P1]:[Consumo anual P6]]) -> 29943
A21: 812 | B21: ES0031408205952001DA0F | C21: TERRASSA | D21: PS 22 DE JULIOL, 338 08221 TERRASSA | E21: 3.0 TD | F21: 31.5 | G21: 31.5 | H21: 31.5 | I21: 31.5 | J21: 31.5 | K21: 31.5 | L21: =SUM('2001DA'!E27:E38) -> 3505 | M21: =SUM('2001DA'!F27:F38) -> 2480 | N21: =SUM('2001DA'!G27:G38) -> 3664 | O21: =SUM('2001DA'!H27:H38) -> 2055 | P21: =SUM('2001DA'!I27:I38) -> 1963 | Q21: =SUM('2001DA'!J27:J38) -> 780.4852 | R21: =SUM('2001DA'!K27:K38) -> 1419 | S21: =SUM('2001DA'!L27:L38) -> 517 | T21: =SUM('2001DA'!M27:M38) -> 2883.5148 | U21: =SUM(Tabla1[[#This Row],[Consumo anual P1]:[Consumo anual P6]]) -> 9618
A22: 803 | B22: ES0031446473158001WP0F | C22: VIC | D22: JULIA FABREGAS 23 08500 VIC | E22: 3.0 TD | F22: 63 | G22: 63 | H22: 63 | I22: 63 | J22: 63 | K22: 63 | L22: =SUM('8001WP'!E27:E38) -> 10481 | M22: =SUM('8001WP'!F27:F38) -> 7819 | N22: =SUM('8001WP'!G27:G38) -> 10242 | O22: =SUM('8001WP'!H27:H38) -> 5846 | P22: =SUM('8001WP'!I27:I38) -> 5979 | Q22: =SUM('8001WP'!J27:J38) -> 2221.7462 | R22: =SUM('8001WP'!K27:K38) -> 4635 | S22: =SUM('8001WP'!L27:L38) -> 1840 | T22: =SUM('8001WP'!M27:M38) -> 8020.2538 | U22: =SUM(Tabla1[[#This Row],[Consumo anual P1]:[Consumo anual P6]]) -> 28542
A23: 2400 | B23: ES0021000003588633CD0F | C23: LEON | D23: AVENIDA REYES LEONES, 33 24008 LEON | E23: 2.0 TD | F23: 8.5 | G23: 8.5 | H23: NA | I23: NA | J23: NA | K23: NA | L23: =SUM('8633CD'!E26:E38) -> 1997 | M23: =SUM('8633CD'!F26:F38) -> 1612 | N23: =SUM('8633CD'!G26:G38) -> 1722 | O23: =SUM(Tabla1[[#This Row],[Consumo anual P1 + P4]:[Consumo anual P2 + P5]]) -> 3609 | P23: =Tabla1[[#This Row],[Consumo anual P3 + P6]] -> 1722 | Q23: NA | R23: NA | S23: NA | T23: NA | U23: =SUM(Tabla1[[#This Row],[Consumo anual P1]:[Consumo anual P6]]) -> 5331
A24: 2800 | B24: ES0021000004762452LT0F | C24: MADRID | D24: PASEO SAN FRANCISCO DE SALES, 25 BJO B 28003, MADRID, MADRID | E24: 3.0 TD | F24: 15.001 | G24: 15.001 | H24: 15.001 | I24: 15.001 | J24: 15.001 | K24: 15.001 | L24: =SUM('2452LT'!E26:E37) -> 6138 | M24: =SUM('2452LT'!F26:F37) -> 4869 | N24: =SUM('2452LT'!G26:G37) -> 6152 | O24: =SUM('2452LT'!H26:H37) -> 3414 | P24: =SUM('2452LT'!I26:I37) -> 4051 | Q24: =SUM('2452LT'!J26:J37) -> 1315.4874 | R24: =SUM('2452LT'!K26:K37) -> 2724 | S24: =SUM('2452LT'!L26:L37) -> 818 | T24: =SUM('2452LT'!M26:M37) -> 4836.5126 | U24: =SUM(Tabla1[[#This Row],[Consumo anual P1]:[Consumo anual P6]]) -> 17159
A25: 3000 | B25: ES0021000006230192PH0F | C25: MURCIA | D25: RONDA DE LEVANTE 51 | E25: 2.0 TD | F25: 2.9 | G25: 2.9 | H25: NA | I25: NA | J25: NA | K25: NA | L25: =SUM('0192PH'!E24:E37) -> 58 | M25: =SUM('0192PH'!F24:F37) -> 57 | N25: =SUM('0192PH'!G24:G37) -> 134 | O25: =SUM('0192PH'!H24:H37) -> 115 | P25: =SUM('0192PH'!I24:I37) -> 134 | Q25: NA | R25: NA | S25: NA | T25: NA | U25: =SUM(Tabla1[[#This Row],[Consumo anual P1]:[Consumo anual P6]]) -> 249
A26: 4600 | B26: ES0021000008614443XC0F | C26: VALENCIA | D26: CALLE EDUARDO BOSCA, 32 BJO 1 46023, VALENCIA, VALENCIA | E26: 3.0 TD | F26: 9.03 | G26: 9.03 | H26: 9.03 | I26: 9.03 | J26: 9.03 | K26: 20.78 | L26: =SUM('4443XC'!E26:E39) -> 1696 | M26: =SUM('4443XC'!F26:F39) -> 1575 | N26: =SUM('4443XC'!G26:G39) -> 1604 | O26: =SUM('4443XC'!H26:H39) -> 1634 | P26: =SUM('4443XC'!I26:I39) -> 1562 | Q26: =SUM('4443XC'!J26:J39) -> 274.6722 | R26: =SUM('4443XC'!K26:K39) -> 62 | S26: =SUM('4443XC'!L26:L39) -> 13 | T26: =SUM('4443XC'!M26:M39) -> 1329.3278 | U26: =SUM(Tabla1[[#This Row],[Consumo anual P1]:[Consumo anual P6]]) -> 4875
A27: 3600 | B27: ES0022000004494536ZR1P | C27: VIGO | D27: CALLE DOCTOR CADAVAL, 21 BJO 4 36202, VIGO, PONTEVEDRA | E27: 2.0 TD | F27: 6.6 | G27: 6.6 | H27: NA | I27: NA | J27: NA | K27: NA | L27: =SUM('4536ZR'!E29:E41) -> 2444 | M27: =SUM('4536ZR'!F29:F41) -> 2091 | N27: =SUM('4536ZR'!G29:G41) -> 1608 | O27: =SUM('4536ZR'!H29:H41) -> 4535 | P27: =SUM('4536ZR'!I29:I41) -> 1608 | Q27: NA | R27: NA | S27: NA | T27: NA | U27: =SUM(Tabla1[[#This Row],[Consumo anual P1]:[Consumo anual P6]]) -> 6143
A28: 1500 | B28: ES0022000008467189PW1P | C28: CORUÑA (A) | D28: PLAZA ALFONSO XIII, 1 BJO IZQ 15008, CORUÑA (A), A CORUÑA | E28: 2.0 TD | F28: 15 | G28: 15 | H28: NA | I28: NA | J28: NA | K28: NA | L28: =SUM('7189PW'!E30:E42) -> 3069 | M28: =SUM('7189PW'!F30:F42) -> 2691 | N28: =SUM('7189PW'!G30:G42) -> 2240 | O28: =SUM('7189PW'!H30:H42) -> 5760 | P28: =SUM('7189PW'!I30:I42) -> 2240 | Q28: NA | R28: NA | S28: NA | T28: NA | U28: =SUM(Tabla1[[#This Row],[Consumo anual P1]:[Consumo anual P6]]) -> 8000
A29: 3300 | B29: ES0026000000878334SA0F | C29: GIJÓN | D29: AVENIDA MANUEL LLANEZA,25 BAJOS 33205 GIJON | E29: 3.0 TD | F29: 29.6 | G29: 29.6 | H29: 29.6 | I29: 29.6 | J29: 29.6 | K29: 29.6 | L29: =SUM('8334SA'!E28:E39) -> 2825 | M29: =SUM('8334SA'!F28:F39) -> 2260 | N29: =SUM('8334SA'!G28:G39) -> 3657 | O29: =SUM('8334SA'!H28:H39) -> 1602 | P29: =SUM('8334SA'!I28:I39) -> 1772 | Q29: =SUM('8334SA'!J28:J39) -> 665.449 | R29: =SUM('8334SA'!K28:K39) -> 1223 | S29: =SUM('8334SA'!L28:L39) -> 488 | T29: =SUM('8334SA'!M28:M39) -> 2991.551 | U29: =SUM(Tabla1[[#This Row],[Consumo anual P1]:[Consumo anual P6]]) -> 8742
A30: 2900 | B30: ES0031102849382034VC0F | C30: MALAGA | D30: C/ ESCRITORA CARMEN CONDE 7; MALAGA | E30: 3.0 TD | F30: 19.72 | G30: 19.72 | H30: 19.72 | I30: 19.72 | J30: 19.72 | K30: 19.72 | L30: =SUM('2034VC'!E27:E38) -> 1930 | M30: =SUM('2034VC'!F27:F38) -> 1407 | N30: =SUM('2034VC'!G27:G38) -> 3129 | O30: =SUM('2034VC'!H27:H38) -> 842 | P30: =SUM('2034VC'!I27:I38) -> 984 | Q30: =SUM('2034VC'!J27:J38) -> 625.2604 | R30: =SUM('2034VC'!K27:K38) -> 1088 | S30: =SUM('2034VC'!L27:L38) -> 423 | T30: =SUM('2034VC'!M27:M38) -> 2503.7396 | U30: =SUM(Tabla1[[#This Row],[Consumo anual P1]:[Consumo anual P6]]) -> 6466
A31: 1800 | B31: ES0031103123644021XW0F | C31: GRANADA | D31: AVDA MARDRID ESQUINA C/ CARDENAL PARRADO 1 | E31: 2.0 TD | F31: 3.464 | G31: 3.464 | H31: NA | I31: NA | J31: NA | K31: NA | L31: =SUM('4021XW'!E26:E38) -> 631 | M31: =SUM('4021XW'!F26:F38) -> 455 | N31: =SUM('4021XW'!G26:G38) -> 754 | O31: =SUM('4021XW'!H26:H38) -> 1086 | P31: =SUM('4021XW'!I26:I38) -> 754 | Q31: NA | R31: NA | S31: NA | T31: NA | U31: =SUM(Tabla1[[#This Row],[Consumo anual P1]:[Consumo anual P6]]) -> 1840
A32: 1400 | B32: ES0031104000529001TT0F | C32: CORDOBA | D32: BULEVAR HERNAN RUIZ,19 LOCAL | E32: 3.0 TD | F32: 49.73 | G32: 49.73 | H32: 49.73 | I32: 49.73 | J32: 49.73 | K32: 49.73 | L32: =SUM('9001TT'!E27:E38) -> 8343 | M32: =SUM('9001TT'!F27:F38) -> 4391 | N32: =SUM('9001TT'!G27:G38) -> 7282 | O32: =SUM('9001TT'!H27:H38) -> 5021 | P32: =SUM('9001TT'!I27:I38) -> 3535 | Q32: =SUM('9001TT'!J27:J38) -> 1848.1302 | R32: =SUM('9001TT'!K27:K38) -> 3322 | S32: =SUM('9001TT'!L27:L38) -> 831 | T32: =SUM('9001TT'!M27:M38) -> 5433.8698 | U32: =SUM(Tabla1[[#This Row],[Consumo anual P1]:[Consumo anual P6]]) -> 19991
A33: 810 | B33: ES0031405008835009EN0F | C33: GRANOLLERS | D33: CALLE MARE DE DEU DE MONTSERRAT, 65 LOC 3 08401, GRANOLLERS, BARCELONA | E33: 2.0 TD | F33: 10 | G33: 10 | H33: NA | I33: NA | J33: NA | K33: NA | L33: =SUM('5009EN'!E26:E38) -> 1807 | M33: =SUM('5009EN'!F26:F38) -> 1552 | N33: =SUM('5009EN'!G26:G38) -> 1221 | O33: =SUM('5009EN'!H26:H38) -> 3359 | P33: =SUM('5009EN'!I26:I38) -> 1221 | Q33: NA | R33: NA | S33: NA | T33: NA | U33: =SUM(Tabla1[[#This Row],[Consumo anual P1]:[Consumo anual P6]]) -> 4580
A34: 809 | B34: ES0031405219269014LW0F | C34: MATARÓ | D34: CAMINO DE LA GEGANTA, 79 81 LOC 4 08302, MATARO, BARCELONA | E34: 2.0 TD | F34: 10 | G34: 10 | H34: NA | I34: NA | J34: NA | K34: NA | L34: =SUM('9014LW'!E26:E38) -> 2994 | M34: =SUM('9014LW'!F26:F38) -> 2823 | N34: =SUM('9014LW'!G26:G38) -> 1904 | O34: =SUM('9014LW'!H26:H38) -> 5817 | P34: =SUM('9014LW'!I26:I38) -> 1904 | Q34: NA | R34: NA | S34: NA | T34: NA | U34: =SUM(Tabla1[[#This Row],[Consumo anual P1]:[Consumo anual P6]]) -> 7721
A35: 2500 | B35: ES0031405580069001DR0F | C35: LLEIDA | D35: AVDA BLONDEL 11 | E35: 3.0 TD | F35: 25 | G35: 25 | H35: 25 | I35: 25 | J35: 25 | K35: 25 | L35: =SUM('9001DR'!E28:E39) -> 1559 | M35: =SUM('9001DR'!F28:F39) -> 1075 | N35: =SUM('9001DR'!G28:G39) -> 1745 | O35: =SUM('9001DR'!H28:H39) -> 1119 | P35: =SUM('9001DR'!I28:I39) -> 911 | Q35: =SUM('9001DR'!J28:J39) -> 298.1348 | R35: =SUM('9001DR'!K28:K39) -> 427 | S35: =SUM('9001DR'!L28:L39) -> 109 | T35: =SUM('9001DR'!M28:M39) -> 1446.8652 | U35: =SUM(Tabla1[[#This Row],[Consumo anual P1]:[Consumo anual P6]]) -> 4311
A36: 4300 | B36: ES0031405652653021YT0F | C36: TARRAGONA | D36: CALLE DE PERE MARTELL, 13 BJO 43001, TARRAGONA, TARRAGONA | E36: 3.0 TD | F36: 25 | G36: 25 | H36: 25 | I36: 25 | J36: 25 | K36: 25 | L36: =SUM('3021YT'!E25:E38) -> 846 | M36: =SUM('3021YT'!F25:F38) -> 948 | N36: =SUM('3021YT'!G25:G38) -> 943 | O36: =SUM('3021YT'!H25:H38) -> 271 | P36: =SUM('3021YT'!I25:I38) -> 770 | Q36: =SUM('3021YT'!J25:J38) -> 524.7742 | R36: =SUM('3021YT'!K25:K38) -> 575 | S36: =SUM('3021YT'!L25:L38) -> 178 | T36: =SUM('3021YT'!M25:M38) -> 418.2258 | U36: =SUM(Tabla1[[#This Row],[Consumo anual P1]:[Consumo anual P6]]) -> 2737
A37: 2501 | B37: ES0031408120149012KD0F | C37: TÀRREGA | D37: C/ CARME 34 PALAU MARQUESOS DE LA FLORESTA | E37: 3.0 TD | F37: 20 | G37: 20 | H37: 20 | I37: 20 | J37: 20 | K37: 20 | L37: =SUM('9012KD'!E26:E37) -> 3211 | M37: =SUM('9012KD'!F26:F37) -> 2776 | N37: =SUM('9012KD'!G26:G37) -> 3945 | O37: =SUM('9012KD'!H26:H37) -> 1760 | P37: =SUM('9012KD'!I26:I37) -> 2258 | Q37: =SUM('9012KD'!J26:J37) -> 752.086 | R37: =SUM('9012KD'!K26:K37) -> 1451 | S37: =SUM('9012KD'!L26:L37) -> 518 | T37: =SUM('9012KD'!M26:M37) -> 3192.914 | U37: =SUM(Tabla1[[#This Row],[Consumo anual P1]:[Consumo anual P6]]) -> 9932
A38: 813 | B38: ES0031408290656034XG0F | C38: IGUALADA | D38: CALLE CARLES RIBA, 1 BJO LOCAL4 08700, IGUALADA, BARCELONA | E38: 2.0 TD | F38: 9.2 | G38: 9.2 | H38: NA | I38: NA | J38: NA | K38: NA | L38: =SUM('6034XG'!E26:E38) -> 2876 | M38: =SUM('6034XG'!F26:F38) -> 2171 | N38: =SUM('6034XG'!G26:G38) -> 1640 | O38: =SUM('6034XG'!H26:H38) -> 5047 | P38: =SUM('6034XG'!I26:I38) -> 1640 | Q38: NA | R38: NA | S38: NA | T38: NA | U38: =SUM(Tabla1[[#This Row],[Consumo anual P1]:[Consumo anual P6]]) -> 6687
A39: 701 | B39: ES0031500044643003KX0F | C39: EIVISSA | D39: C. CANARIAS 35 BAJOS, EDIFICIO CETIS | E39: 2.0 TD | F39: 5.6 | G39: 5.6 | H39: NA | I39: NA | J39: NA | K39: NA | L39: =SUM('3003KX'!E27:E38) -> 1409 | M39: =SUM('3003KX'!F27:F38) -> 948 | N39: =SUM('3003KX'!G27:G38) -> 1091 | O39: =SUM('3003KX'!H27:H38) -> 2357 | P39: =SUM('3003KX'!I27:I38) -> 1091 | Q39: NA | R39: NA | S39: NA | T39: NA | U39: =SUM(Tabla1[[#This Row],[Consumo anual P1]:[Consumo anual P6]]) -> 3448
A40: 4700 | B40: ES0021000013661307LV | C40: VALLADOLID | D40: Avda ZAMORA 19, PISO BAJO PUERTA 1, 47008, VALLADOLID, 0 | E40: 2.0 TD | F40: 10.35 | G40: 10.35 | H40: NA | I40: NA | J40: NA | K40: NA | L40: =SUM('1307LV'!E27:E38) -> 2592 | M40: =SUM('1307LV'!F27:F38) -> 1917 | N40: =SUM('1307LV'!G27:G38) -> 1618 | O40: =SUM('1307LV'!H27:H38) -> 4509 | P40: =SUM('1307LV'!I27:I38) -> 1618 | Q40: NA | R40: NA | S40: NA | T40: NA | U40: =SUM(Tabla1[[#This Row],[Consumo anual P1]:[Consumo anual P6]]) -> 6127
A41: 700 | B41: ES0031500104013001NQ0F | C41: PALMA DE MALLORCA | D41: C/ MARQUES DE LA SENIA 35 | E41: 2.0 TD | F41: 14.2 | G41: 14.2 | H41: NA | I41: NA | J41: NA | K41: NA | L41: =SUM('3001NQ'!E27:E39) -> 4950 | M41: =SUM('3001NQ'!F27:F39) -> 4297 | N41: =SUM('3001NQ'!G27:G39) -> 3684 | O41: =SUM('3001NQ'!H27:H39) -> 9247 | P41: =SUM('3001NQ'!I27:I39) -> 3684 | Q41: NA | R41: NA | S41: NA | T41: NA | U41: =SUM(Tabla1[[#This Row],[Consumo anual P1]:[Consumo anual P6]]) -> 12931
B42: ES0033770552498001GX | C42: LUGO | D42: RDA MURALLA S/N PORTAL: 142 PUERTA: LC 27001 LUGO | E42: 3.0TD | F42: 27.712 | G42: 27.712 | H42: 27.712 | I42: 27.712 | J42: 27.712 | K42: 27.712 | O42: =3144-1515 -> 1629 | P42: =2305-1299 -> 1006 | Q42: 854 | R42: 1515 | S42: 1299 | T42: =3416-854 -> 2562 | U42: =SUM(Tabla1[[#This Row],[Consumo anual P1]:[Consumo anual P6]]) -> 8865
O43: =SUBTOTAL(109,Tabla1[Consumo anual P1]) -> 130901.34 | P43: =SUBTOTAL(109,Tabla1[Consumo anual P2]) -> 100327.77 | Q43: =SUBTOTAL(109,Tabla1[Consumo anual P3]) -> 30307.275 | R43: =SUBTOTAL(109,Tabla1[Consumo anual P4]) -> 54785 | S43: =SUBTOTAL(109,Tabla1[Consumo anual P5]) -> 20715 | T43: =SUBTOTAL(109,Tabla1[Consumo anual P6]) -> 105683.12 | U43: =SUBTOTAL(109,Tabla1[Total anual]) -> 442719.5

Sheet 3.0TD
C3: Mes | D3: P1/P1+P4 | E3: P2/P2+P5 | F3: P3/P3+P6 | G3: P4/(P1+P4) | H3: P5/(P2+P5) | I3: P6/(P3+P6)
C4: 1 | D4: 1 | E4: 1 | F4: 0 | G4: 0 | H4: 0 | I4: 1
C5: 2 | D5: 1 | E5: 1 | F5: 0 | G5: 0 | H5: 0 | I5: 1
C6: 3 | D6: 0 | E6: 1 | F6: 0.2998 | G6: 0 | H6: 0 | I6: 0.7002
C7: 4 | D7: 0 | E7: 0 | F7: 0 | G7: 1 | H7: 1 | I7: 1
C8: 5 | D8: 0 | E8: 0 | F8: 0 | G8: 1 | H8: 1 | I8: 1
C9: 6 | D9: 0 | E9: 0 | F9: 0.3498 | G9: 1 | H9: 0 | I9: 0.6502
C10: 7 | D10: 1 | E10: 1 | F10: 0 | G10: 0 | H10: 0 | I10: 1
C11: 8 | D11: 0 | E11: 0 | F11: 0.3356 | G11: 1 | H11: 0 | I11: 0.6644
C12: 9 | D12: 0 | E12: 0 | F12: 0.3498 | G12: 1 | H12: 0 | I12: 0.6502
C13: 10 | D13: 0 | E13: 0 | F13: 0 | G13: 1 | H13: 1 | I13: 1
C14: 11 | D14: 0 | E14: 1 | F14: 0.2768 | G14: 0 | H14: 0 | I14: 0.7232
C15: 12 | D15: 1 | E15: 1 | F15: 0 | G15: 0 | H15: 0 | I15: 1

Sheet 2034VC
A1: CONSUMO ACTIVA
A3: CONSUMO ANUAL: 4119kWh | B3: P1 + P4 | C3: P2 + P5 | D3: P3 + P6
A4: Consumo anual por periodos en kWh | B4: 1246 | C4: 574 | D4: 2299
A5: Consumo anual por periodos en % | B5: 30 | C5: 14 | D5: 56
A6: Fecha inicial | B6: Fecha final | C6: Días | D6: Tipo | E6: P1 + P4 | F6: P2 + P5 | G6: P3 + P6 | H6: P1 | I6: P2 | J6: P3 | K6: P4 | L6: P5 | M6: P6 | N6: AÑO
A7: 43983 | B7: 30-06-2020 | C7: 29 | D7: REAL | E7: 231 | F7: 488 | G7: 242 | H7: =Tabla27[[#This Row],[P1 + P4]]*VLOOKUP(MONTH(Tabla27[[#This Row],[Fecha final]]),Tabla20[#All],2,FALSE) -> 0 | I7: =Tabla27[[#This Row],[P2 + P5]]*VLOOKUP(MONTH(Tabla27[[#This Row],[Fecha final]]),Tabla20[#All],3,FALSE) -> 0 | J7: =(Tabla27[[#This Row],[P3 + P6]])*VLOOKUP(MONTH(Tabla27[[#This Row],[Fecha final]]),Tabla20[#All],4,FALSE) -> 84.6516 | K7: =Tabla27[[#This Row],[P1 + P4]]*VLOOKUP(MONTH(Tabla27[[#This Row],[Fecha final]]),Tabla20[#All],5,FALSE) -> 231 | L7: =Tabla27[[#This Row],[P2 + P5]]*VLOOKUP(MONTH(Tabla27[[#This Row],[Fecha final]]),Tabla20[#All],6,FALSE) -> 0 | M7: =Tabla27[[#This Row],[P3 + P6]]*VLOOKUP(MONTH(Tabla27[[#This Row],[Fecha final]]),Tabla20[#All],7,FALSE) -> 157.3484 | N7: =YEAR(Tabla27[[#This Row],[Fecha final]]) -> 2020
A8: 44012 | B8: 31-07-2020 | C8: 31 | D8: REAL | E8: 640 | F8: 913 | G8: 348 | H8: =Tabla27[[#This Row],[P1 + P4]]*VLOOKUP(MONTH(Tabla27[[#This Row],[Fecha final]]),Tabla20[#All],2,FALSE) -> 640 | I8: =Tabla27[[#This Row],[P2 + P5]]*VLOOKUP(MONTH(Tabla27[[#This Row],[Fecha final]]),Tabla20[#All],3,FALSE) -> 913 | J8: =(Tabla27[[#This Row],[P3 + P6]])*VLOOKUP(MONTH(Tabla27[[#This Row],[Fecha final]]),Tabla20[#All],4,FALSE) -> 0 | K8: =Tabla27[[#This Row],[P1 + P4]]*VLOOKUP(MONTH(Tabla27[[#This Row],[Fecha final]]),Tabla20[#All],5,FALSE) -> 0 | L8: =Tabla27[[#This Row],[P2 + P5]]*VLOOKUP(MONTH(Tabla27[[#This Row],[Fecha final]]),Tabla20[#All],6,FALSE) -> 0 | M8: =Tabla27[[#This Row],[P3 + P6]]*VLOOKUP(MONTH(Tabla27[[#This Row],[Fecha final]]),Tabla20[#All],7,FALSE) -> 348 | N8: =YEAR(Tabla27[[#This Row],[Fecha final]]) -> 2020
A9: 44043 | B9: 31-08-2020 | C9: 31 | D9: REAL | E9: 455 | F9: 662 | G9: 240 | H9: =Tabla27[[#This Row],[P1 + P4]]*VLOOKUP(MONTH(Tabla27[[#This Row],[Fecha final]]),Tabla20[#All],2,FALSE) -> 0 | I9: =Tabla27[[#This Row],[P2 + P5]]*VLOOKUP(MONTH(Tabla27[[#This Row],[Fecha final]]),Tabla20[#All],3,FALSE) -> 0 | J9: =(Tabla27[[#This Row],[P3 + P6]])*VLOOKUP(MONTH(Tabla27[[#This Row],[Fecha final]]),Tabla20[#All],4,FALSE) -> 80.544 | K9: =Tabla27[[#This Row],[P1 + P4]]*VLOOKUP(MONTH(Tabla27[[#This Row],[Fecha final]]),Tabla20[#All],5,FALSE) -> 455 | L9: =Tabla27[[#This Row],[P2 + P5]]*VLOOKUP(MONTH(Tabla27[[#This Row],[Fecha final]]),Tabla20[#All],6,FALSE) -> 0 | M9: =Tabla27[[#This Row],[P3 + P6]]*VLOOKUP(MONTH(Tabla27[[#This Row],[Fecha final]]),Tabla20[#All],7,FALSE) -> 159.456 | N9: =YEAR(Tabla27[[#This Row],[Fecha final]]) -> 2020
A10: 44074 | B10: 30-09-2020 | C10: 30 | D10: REAL | E10: 482 | F10: 828 | G10: 245 | H10: =Tabla27[[#This Row],[P1 + P4]]*VLOOKUP(MONTH(Tabla27[[#This Row],[Fecha final]]),Tabla20[#All],2,FALSE) -> 0 | I10: =Tabla27[[#This Row],[P2 + P5]]*VLOOKUP(MONTH(Tabla27[[#This Row],[Fecha final]]),Tabla20[#All],3,FALSE) -> 0 | J10: =(Tabla27[[#This Row],[P3 + P6]])*VLOOKUP(MONTH(Tabla27[[#This Row],[Fecha final]]),Tabla20[#All],4,FALSE) -> 85.701 | K10: =Tabla27[[#This Row],[P1 + P4]]*VLOOKUP(MONTH(Tabla27[[#This Row],[Fecha final]]),Tabla20[#All],5,FALSE) -> 482 | L10: =Tabla27[[#This Row],[P2 + P5]]*VLOOKUP(MONTH(Tabla27[[#This Row],[Fecha final]]),Tabla20[#All],6,FALSE) -> 0 | M10: =Tabla27[[#This Row],[P3 + P6]]*VLOOKUP(MONTH(Tabla27[[#This Row],[Fecha final]]),Tabla20[#All],7,FALSE) -> 159.299 | N10: =YEAR(Tabla27[[#This Row],[Fecha final]]) -> 2020
A11: 44104 | B11: 31-10-2020 | C11: 31 | D11: REAL | E11: 227 | F11: 543 | G11: 178 | H11: =Tabla27[[#This Row],[P1 + P4]]*VLOOKUP(MONTH(Tabla27[[#This Row],[Fecha final]]),Tabla20[#All],2,FALSE) -> 0 | I11: =Tabla27[[#This Row],[P2 + P5]]*VLOOKUP(MONTH(Tabla27[[#This Row],[Fecha final]]),Tabla20[#All],3,FALSE) -> 0 | J11: =(Tabla27[[#This Row],[P3 + P6]])*VLOOKUP(MONTH(Tabla27[[#This Row],[Fecha final]]),Tabla20[#All],4,FALSE) -> 0 | K11: =Tabla27[[#This Row],[P1 + P4]]*VLOOKUP(MONTH(Tabla27[[#This Row],[Fecha final]]),Tabla20[#All],5,FALSE) -> 227 | L11: =Tabla27[[#This Row],[P2 + P5]]*VLOOKUP(MONTH(Tabla27[[#This Row],[Fecha final]]),Tabla20[#All],6,FALSE) -> 543 | M11: =Tabla27[[#This Row],[P3 + P6]]*VLOOKUP(MONTH(Tabla27[[#This Row],[Fecha final]]),Tabla20[#All],7,FALSE) -> 178 | N11: =YEAR(Tabla27[[#This Row],[Fecha final]]) -> 2020
A12: 44135 | B12: 30-11-2020 | C12: 30 | D12: REAL | E12: 76 | F12: 613 | G12: 162 | H12: =Tabla27[[#This Row],[P1 + P4]]*VLOOKUP(MONTH(Tabla27[[#This Row],[Fecha final]]),Tabla20[#All],2,FALSE) -> 0 | I12: =Tabla27[[#This Row],[P2 + P5]]*VLOOKUP(MONTH(Tabla27[[#This Row],[Fecha final]]),Tabla20[#All],3,FALSE) -> 613 | J12: =(Tabla27[[#This Row],[P3 + P6]])*VLOOKUP(MONTH(Tabla27[[#This Row],[Fecha final]]),Tabla20[#All],4,FALSE) -> 44.8416 | K12: =Tabla27[[#This Row],[P1 + P4]]*VLOOKUP(MONTH(Tabla27[[#This Row],[Fecha final]]),Tabla20[#All],5,FALSE) -> 0 | L12: =Tabla27[[#This Row],[P2 + P5]]*VLOOKUP(MONTH(Tabla27[[#This Row],[Fecha final]]),Tabla20[#All],6,FALSE) -> 0 | M12: =Tabla27[[#This Row],[P3 + P6]]*VLOOKUP(MONTH(Tabla27[[#This Row],[Fecha final]]),Tabla20[#All],7,FALSE) -> 117.1584 | N12: =YEAR(Tabla27[[#This Row],[Fecha final]]) -> 2020
A13: 44165 | B13: 31-12-2020 | C13: 31 | D13: REAL | E13: 113 | F13: 851 | G13: 240 | H13: =Tabla27[[#This Row],[P1 + P4]]*VLOOKUP(MONTH(Tabla27[[#This Row],[Fecha final]]),Tabla20[#All],2,FALSE) -> 113 | I13: =Tabla27[[#This Row],[P2 + P5]]*VLOOKUP(MONTH(Tabla27[[#This Row],[Fecha final]]),Tabla20[#All],3,FALSE) -> 851 | J13: =(Tabla27[[#This Row],[P3 + P6]])*VLOOKUP(MONTH(Tabla27[[#This Row],[Fecha final]]),Tabla20[#All],4,FALSE) -> 0 | K13: =Tabla27[[#This Row],[P1 + P4]]*VLOOKUP(MONTH(Tabla27[[#This Row],[Fecha final]]),Tabla20[#All],5,FALSE) -> 0 | L13: =Tabla27[[#This Row],[P2 + P5]]*VLOOKUP(MONTH(Tabla27[[#This Row],[Fecha final]]),Tabla20[#All],6,FALSE) -> 0 | M13: =Tabla27[[#This Row],[P3 + P6]]*VLOOKUP(MONTH(Tabla27[[#This Row],[Fecha final]]),Tabla20[#All],7,FALSE) -> 240 | N13: =YEAR(Tabla27[[#This Row],[Fecha final]]) -> 2020
A14: 44196 | B14: 31-01-2021 | C14: 31 | D14: REAL | E14: 125 | F14: 1296 | G14: 263 | H14: =Tabla27[[#This Row],[P1 + P4]]*VLOOKUP(MONTH(Tabla27[[#This Row],[Fecha final]]),Tabla20[#All],2,FALSE) -> 125 | I14: =Tabla27[[#This Row],[P2 + P5]]*VLOOKUP(MONTH(Tabla27[[#This Row],[Fecha final]]),Tabla20[#All],3,FALSE) -> 1296 | J14: =(Tabla27[[#This Row],[P3 + P6]])*VLOOKUP(MONTH(Tabla27[[#This Row],[Fecha final]]),Tabla20[#All],4,FALSE) -> 0 | K14: =Tabla27[[#This Row],[P1 + P4]]*VLOOKUP(MONTH(Tabla27[[#This Row],[Fecha final]]),Tabla20[#All],5,FALSE) -> 0 | L14: =Tabla27[[#This Row],[P2 + P5]]*VLOOKUP(MONTH(Tabla27[[#This Row],[Fecha final]]),Tabla20[#All],6,FALSE) -> 0 | M14: =Tabla27[[#This Row],[P3 + P6]]*VLOOKUP(MONTH(Tabla27[[#This Row],[Fecha final]]),Tabla20[#All],7,FALSE) -> 263 | N14: =YEAR(Tabla27[[#This Row],[Fecha final]]) -> 2021
A15: 44227 | B15: 02-03-2021 | C15: 30 | D15: REAL | E15: 100 | F15: 911 | G15: 209 | H15: =Tabla27[[#This Row],[P1 + P4]]*VLOOKUP(MONTH(Tabla27[[#This Row],[Fecha final]]),Tabla20[#All],2,FALSE) -> 0 | I15: =Tabla27[[#This Row],[P2 + P5]]*VLOOKUP(MONTH(Tabla27[[#This Row],[Fecha final]]),Tabla20[#All],3,FALSE) -> 911 | J15: =(Tabla27[[#This Row],[P3 + P6]])*VLOOKUP(MONTH(Tabla27[[#This Row],[Fecha final]]),Tabla20[#All],4,FALSE) -> 62.6582 | K15: =Tabla27[[#This Row],[P1 + P4]]*VLOOKUP(MONTH(Tabla27[[#This Row],[Fecha final]]),Tabla20[#All],5,FALSE) -> 0 | L15: =Tabla27[[#This Row],[P2 + P5]]*VLOOKUP(MONTH(Tabla27[[#This Row],[Fecha final]]),Tabla20[#All],6,FALSE) -> 0 | M15: =Tabla27[[#This Row],[P3 + P6]]*VLOOKUP(MONTH(Tabla27[[#This Row],[Fecha final]]),Tabla20[#All],7,FALSE) -> 146.3418 | N15: =YEAR(Tabla27[[#This Row],[Fecha final]]) -> 2021
A16: 44257 | B16: 05-04-2021 | C16: 34 | D16: REAL | E16: 115 | F16: 800 | G16: 206 | H16: =Tabla27[[#This Row],[P1 + P4]]*VLOOKUP(MONTH(Tabla27[[#This Row],[Fecha final]]),Tabla20[#All],2,FALSE) -> 0 | I16: =Tabla27[[#This Row],[P2 + P5]]*VLOOKUP(MONTH(Tabla27[[#This Row],[Fecha final]]),Tabla20[#All],3,FALSE) -> 0 | J16: =(Tabla27[[#This Row],[P3 + P6]])*VLOOKUP(MONTH(Tabla27[[#This Row],[Fecha final]]),Tabla20[#All],4,FALSE) -> 0 | K16: =Tabla27[[#This Row],[P1 + P4]]*VLOOKUP(MONTH(Tabla27[[#This Row],[Fecha final]]),Tabla20[#All],5,FALSE) -> 115 | L16: =Tabla27[[#This Row],[P2 + P5]]*VLOOKUP(MONTH(Tabla27[[#This Row],[Fecha final]]),Tabla20[#All],6,FALSE) -> 800 | M16: =Tabla27[[#This Row],[P3 + P6]]*VLOOKUP(MONTH(Tabla27[[#This Row],[Fecha final]]),Tabla20[#All],7,FALSE) -> 206 | N16: =YEAR(Tabla27[[#This Row],[Fecha final]]) -> 2021
A17: 44291 | B17: 30-04-2021 | C17: 25 | D17: REAL | E17: 129 | F17: 331 | G17: 150 | H17: =Tabla27[[#This Row],[P1 + P4]]*VLOOKUP(MONTH(Tabla27[[#This Row],[Fecha final]]),Tabla20[#All],2,FALSE) -> 0 | I17: =Tabla27[[#This Row],[P2 + P5]]*VLOOKUP(MONTH(Tabla27[[#This Row],[Fecha final]]),Tabla20[#All],3,FALSE) -> 0 | J17: =(Tabla27[[#This Row],[P3 + P6]])*VLOOKUP(MONTH(Tabla27[[#This Row],[Fecha final]]),Tabla20[#All],4,FALSE) -> 0 | K17: =Tabla27[[#This Row],[P1 + P4]]*VLOOKUP(MONTH(Tabla27[[#This Row],[Fecha final]]),Tabla20[#All],5,FALSE) -> 129 | L17: =Tabla27[[#This Row],[P2 + P5]]*VLOOKUP(MONTH(Tabla27[[#This Row],[Fecha final]]),Tabla20[#All],6,FALSE) -> 331 | M17: =Tabla27[[#This Row],[P3 + P6]]*VLOOKUP(MONTH(Tabla27[[#This Row],[Fecha final]]),Tabla20[#All],7,FALSE) -> 150 | N17: =YEAR(Tabla27[[#This Row],[Fecha final]]) -> 2021
A18: 44316 | B18: 31-05-2021 | C18: 31 | D18: REAL | E18: 212 | F18: 537 | G18: 242 | H18: =Tabla27[[#This Row],[P1 + P4]]*VLOOKUP(MONTH(Tabla27[[#This Row],[Fecha final]]),Tabla20[#All],2,FALSE) -> 0 | I18: =Tabla27[[#This Row],[P2 + P5]]*VLOOKUP(MONTH(Tabla27[[#This Row],[Fecha final]]),Tabla20[#All],3,FALSE) -> 0 | J18: =(Tabla27[[#This Row],[P3 + P6]])*VLOOKUP(MONTH(Tabla27[[#This Row],[Fecha final]]),Tabla20[#All],4,FALSE) -> 0 | K18: =Tabla27[[#This Row],[P1 + P4]]*VLOOKUP(MONTH(Tabla27[[#This Row],[Fecha final]]),Tabla20[#All],5,FALSE) -> 212 | L18: =Tabla27[[#This Row],[P2 + P5]]*VLOOKUP(MONTH(Tabla27[[#This Row],[Fecha final]]),Tabla20[#All],6,FALSE) -> 537 | M18: =Tabla27[[#This Row],[P3 + P6]]*VLOOKUP(MONTH(Tabla27[[#This Row],[Fecha final]]),Tabla20[#All],7,FALSE) -> 242 | N18: =YEAR(Tabla27[[#This Row],[Fecha final]]) -> 2021
... A41: 44985 | B41: 31-03-2023 | C41: 31 | D41: REAL | E41: 0 | F41: 19 | G41: 50 | H41: =Tabla27[[#This Row],[P1 + P4]]*VLOOKUP(MONTH(Tabla27[[#This Row],[Fecha final]]),Tabla20[#All],2,FALSE) -> 0 | I41: =Tabla27[[#This Row],[P2 + P5]]*VLOOKUP(MONTH(Tabla27[[#This Row],[Fecha final]]),Tabla20[#All],3,FALSE) -> 19 | J41: =(Tabla27[[#This Row],[P3 + P6]])*VLOOKUP(MONTH(Tabla27[[#This Row],[Fecha final]]),Tabla20[#All],4,FALSE) -> 14.99 | K41: =Tabla27[[#This Row],[P1 + P4]]*VLOOKUP(MONTH(Tabla27[[#This Row],[Fecha final]]),Tabla20[#All],5,FALSE) -> 0 | L41: =Tabla27[[#This Row],[P2 + P5]]*VLOOKUP(MONTH(Tabla27[[#This Row],[Fecha final]]),Tabla20[#All],6,FALSE) -> 0 | M41: =Tabla27[[#This Row],[P3 + P6]]*VLOOKUP(MONTH(Tabla27[[#This Row],[Fecha final]]),Tabla20[#All],7,FALSE) -> 35.01 | N41: =YEAR(Tabla27[[#This Row],[Fecha final]]) -> 2023
A44: CONSUMO REACTIVA
A46: Fecha inicial | B46: Fecha final | C46: Días | D46: Tipo | E46: P1 + P4 | F46: P2 + P5 | G46: P3 + P6
A47: 28-02-2023 | B47: 31-03-2023 | C47: 31 | D47: REAL | E47: 0 | F47: 0 | G47: 0
A48: 31-01-2023 | B48: 28-02-2023 | C48: 28 | D48: REAL | E48: 0 | F48: 0 | G48: 0
A49: 31-12-2022 | B49: 31-01-2023 | C49: 31 | D49: REAL | E49: 0 | F49: 0 | G49: 0
A50: 30-11-2022 | B50: 31-12-2022 | C50: 31 | D50: REAL | E50: 0 | F50: 0 | G50: 0
A51: 31-10-2022 | B51: 30-11-2022 | C51: 30 | D51: REAL | E51: 0 | F51: 0 | G51: 0
A52: 30-09-2022 | B52: 31-10-2022 | C52: 31 | D52: REAL | E52: 0 | F52: 0 | G52: 0
A53: 31-08-2022 | B53: 30-09-2022 | C53: 30 | D53: REAL | E53: 0 | F53: 0 | G53: 0
A54: 29-07-2022 | B54: 31-08-2022 | C54: 33 | D54: REAL | E54: 0 | F54: 0 | G54: 0
A55: 30-06-2022 | B55: 29-07-2022 | C55: 29 | D55: REAL | E55: 0 | F55: 0 | G55: 0
A56: 31-05-2022 | B56: 30-06-2022 | C56: 30 | D56: REAL | E56: 0 | F56: 0 | G56: 0
A57: 30-04-2022 | B57: 31-05-2022 | C57: 31 | D57: REAL | E57: 0 | F57: 0 | G57: 0
A58: 31-03-2022 | B58: 30-04-2022 | C58: 30 | D58: REAL | E58: 0 | F58: 0 | G58: 0
... A81: 01-06-2020 | B81: 30-06-2020 | C81: 29 | D81: REAL | E81: 1 | F81: 0 | G81: 0
A84: MAXÍMETRO
A86: POTENCIAS CONTRATADAS | B86: P1 | C86: P2 | D86: P3
A87: Potencias Contratadas (kW) | B87: 19.72 | C87: 19.72 | D87: 19.72
A88: Fecha inicial | B88: Fecha final | C88: Días | D88: Tipo | E88: P1 | F88: P2 | G88: P3
A89: 28-02-2023 | B89: 31-03-2023 | C89: 31 | D89: REAL | E89: 0 | F89: 1 | G89: 1
A90: 31-01-2023 | B90: 28-02-2023 | C90: 28 | D90: REAL | E90: 0 | F90: 0 | G90: 0
A91: 31-12-2022 | B91: 31-01-2023 | C91: 31 | D91: REAL | E91: 0 | F91: 0 | G91: 0
...

Sheet 9002VV
A1: CONSUMO ACTIVA
A3: CONSUMO ANUAL: 153294kWh | B3: P1 + P4 | C3: P2 + P5 | D3: P3 + P6
A4: Consumo anual por periodos en kWh | B4: 44940 | C4: 32701 | D4: 75653
A5: Consumo anual por periodos en % | B5: 29 | C5: 21 | D5: 50
A6: Fecha inicial | B6: Fecha final | C6: Días | D6: Tipo | E6: P1 + P4 | F6: P2 + P5 | G6: P3 + P6 | H6: P1 | I6: P2 | J6: P3 | K6: P4 | L6: P5 | M6: P6 | N6: año
A7: 44074 | B7: 30-09-2020 | C7: 30 | D7: REAL | E7: 3428 | F7: 7065 | G7: 2889 | H7: =Tabla13[[#This Row],[P1 + P4]]*VLOOKUP(MONTH(Tabla13[[#This Row],[Fecha final]]),Tabla20[#All],2,FALSE) -> 0 | I7: =Tabla13[[#This Row],[P2 + P5]]*VLOOKUP(MONTH(Tabla13[[#This Row],[Fecha final]]),Tabla20[#All],3,FALSE) -> 0 | J7: =(Tabla13[[#This Row],[P3 + P6]])*VLOOKUP(MONTH(Tabla13[[#This Row],[Fecha final]]),Tabla20[#All],4,FALSE) -> 1010.5722 | K7: =Tabla13[[#This Row],[P1 + P4]]*VLOOKUP(MONTH(Tabla13[[#This Row],[Fecha final]]),Tabla20[#All],5,FALSE) -> 3428 | L7: =Tabla13[[#This Row],[P2 + P5]]*VLOOKUP(MONTH(Tabla13[[#This Row],[Fecha final]]),Tabla20[#All],6,FALSE) -> 0 | M7: =Tabla13[[#This Row],[P3 + P6]]*VLOOKUP(MONTH(Tabla13[[#This Row],[Fecha final]]),Tabla20[#All],7,FALSE) -> 1878.4278 | N7: =YEAR(Tabla13[[#This Row],[Fecha final]]) -> 2020
A8: 44104 | B8: 31-10-2020 | C8: 31 | D8: REAL | E8: 2744 | F8: 6627 | G8: 2765 | H8: =Tabla13[[#This Row],[P1 + P4]]*VLOOKUP(MONTH(Tabla13[[#This Row],[Fecha final]]),Tabla20[#All],2,FALSE) -> 0 | I8: =Tabla13[[#This Row],[P2 + P5]]*VLOOKUP(MONTH(Tabla13[[#This Row],[Fecha final]]),Tabla20[#All],3,FALSE) -> 0 | J8: =(Tabla13[[#This Row],[P3 + P6]])*VLOOKUP(MONTH(Tabla13[[#This Row],[Fecha final]]),Tabla20[#All],4,FALSE) -> 0 | K8: =Tabla13[[#This Row],[P1 + P4]]*VLOOKUP(MONTH(Tabla13[[#This Row],[Fecha final]]),Tabla20[#All],5,FALSE) -> 2744 | L8: =Tabla13[[#This Row],[P2 + P5]]*VLOOKUP(MONTH(Tabla13[[#This Row],[Fecha final]]),Tabla20[#All],6,FALSE) -> 6627 | M8: =Tabla13[[#This Row],[P3 + P6]]*VLOOKUP(MONTH(Tabla13[[#This Row],[Fecha final]]),Tabla20[#All],7,FALSE) -> 2765 | N8: =YEAR(Tabla13[[#This Row],[Fecha final]]) -> 2020
A9: 44135 | B9: 30-11-2020 | C9: 30 | D9: REAL | E9: 1577 | F9: 7758 | G9: 2844 | H9: =Tabla13[[#This Row],[P1 + P4]]*VLOOKUP(MONTH(Tabla13[[#This Row],[Fecha final]]),Tabla20[#All],2,FALSE) -> 0 | I9: =Tabla13[[#This Row],[P2 + P5]]*VLOOKUP(MONTH(Tabla13[[#This Row],[Fecha final]]),Tabla20[#All],3,FALSE) -> 7758 | J9: =(Tabla13[[#This Row],[P3 + P6]])*VLOOKUP(MONTH(Tabla13[[#This Row],[Fecha final]]),Tabla20[#All],4,FALSE) -> 787.2192 | K9: =Tabla13[[#This Row],[P1 + P4]]*VLOOKUP(MONTH(Tabla13[[#This Row],[Fecha final]]),Tabla20[#All],5,FALSE) -> 0 | L9: =Tabla13[[#This Row],[P2 + P5]]*VLOOKUP(MONTH(Tabla13[[#This Row],[Fecha final]]),Tabla20[#All],6,FALSE) -> 0 | M9: =Tabla13[[#This Row],[P3 + P6]]*VLOOKUP(MONTH(Tabla13[[#This Row],[Fecha final]]),Tabla20[#All],7,FALSE) -> 2056.7808 | N9: =YEAR(Tabla13[[#This Row],[Fecha final]]) -> 2020
A10: 44165 | B10: 31-12-2020 | C10: 31 | D10: REAL | E10: 1961 | F10: 9728 | G10: 3599 | H10: =Tabla13[[#This Row],[P1 + P4]]*VLOOKUP(MONTH(Tabla13[[#This Row],[Fecha final]]),Tabla20[#All],2,FALSE) -> 1961 | I10: =Tabla13[[#This Row],[P2 + P5]]*VLOOKUP(MONTH(Tabla13[[#This Row],[Fecha final]]),Tabla20[#All],3,FALSE) -> 9728 | J10: =(Tabla13[[#This Row],[P3 + P6]])*VLOOKUP(MONTH(Tabla13[[#This Row],[Fecha final]]),Tabla20[#All],4,FALSE) -> 0 | K10: =Tabla13[[#This Row],[P1 + P4]]*VLOOKUP(MONTH(Tabla13[[#This Row],[Fecha final]]),Tabla20[#All],5,FALSE) -> 0 | L10: =Tabla13[[#This Row],[P2 + P5]]*VLOOKUP(MONTH(Tabla13[[#This Row],[Fecha final]]),Tabla20[#All],6,FALSE) -> 0 | M10: =Tabla13[[#This Row],[P3 + P6]]*VLOOKUP(MONTH(Tabla13[[#This Row],[Fecha final]]),Tabla20[#All],7,FALSE) -> 3599 | N10: =YEAR(Tabla13[[#This Row],[Fecha final]]) -> 2020
A11: 44196 | B11: 31-01-2021 | C11: 31 | D11: REAL | E11: 2050 | F11: 10200 | G11: 3546 | H11: =Tabla13[[#This Row],[P1 + P4]]*VLOOKUP(MONTH(Tabla13[[#This Row],[Fecha final]]),Tabla20[#All],2,FALSE) -> 2050 | I11: =Tabla13[[#This Row],[P2 + P5]]*VLOOKUP(MONTH(Tabla13[[#This Row],[Fecha final]]),Tabla20[#All],3,FALSE) -> 10200 | J11: =(Tabla13[[#This Row],[P3 + P6]])*VLOOKUP(MONTH(Tabla13[[#This Row],[Fecha final]]),Tabla20[#All],4,FALSE) -> 0 | K11: =Tabla13[[#This Row],[P1 + P4]]*VLOOKUP(MONTH(Tabla13[[#This Row],[Fecha final]]),Tabla20[#All],5,FALSE) -> 0 | L11: =Tabla13[[#This Row],[P2 + P5]]*VLOOKUP(MONTH(Tabla13[[#This Row],[Fecha final]]),Tabla20[#All],6,FALSE) -> 0 | M11: =Tabla13[[#This Row],[P3 + P6]]*VLOOKUP(MONTH(Tabla13[[#This Row],[Fecha final]]),Tabla20[#All],7,FALSE) -> 3546 | N11: =YEAR(Tabla13[[#This Row],[Fecha final]]) -> 2021
A12: 44227 | B12: 28-02-2021 | C12: 28 | D12: REAL | E12: 1662 | F12: 8368 | G12: 2847 | H12: =Tabla13[[#This Row],[P1 + P4]]*VLOOKUP(MONTH(Tabla13[[#This Row],[Fecha final]]),Tabla20[#All],2,FALSE) -> 1662 | I12: =Tabla13[[#This Row],[P2 + P5]]*VLOOKUP(MONTH(Tabla13[[#This Row],[Fecha final]]),Tabla20[#All],3,FALSE) -> 8368 | J12: =(Tabla13[[#This Row],[P3 + P6]])*VLOOKUP(MONTH(Tabla13[[#This Row],[Fecha final]]),Tabla20[#All],4,FALSE) -> 0 | K12: =Tabla13[[#This Row],[P1 + P4]]*VLOOKUP(MONTH(Tabla13[[#This Row],[Fecha final]]),Tabla20[#All],5,FALSE) -> 0 | L12: =Tabla13[[#This Row],[P2 + P5]]*VLOOKUP(MONTH(Tabla13[[#This Row],[Fecha final]]),Tabla20[#All],6,FALSE) -> 0 | M12: =Tabla13[[#This Row],[P3 + P6]]*VLOOKUP(MONTH(Tabla13[[#This Row],[Fecha final]]),Tabla20[#All],7,FALSE) -> 2847 | N12: =YEAR(Tabla13[[#This Row],[Fecha final]]) -> 2021
A13: 44255 | B13: 31-03-2021 | C13: 31 | D13: REAL | E13: 1721 | F13: 7485 | G13: 3010 | H13: =Tabla13[[#This Row],[P1 + P4]]*VLOOKUP(MONTH(Tabla13[[#This Row],[Fecha final]]),Tabla20[#All],2,FALSE) -> 0 | I13: =Tabla13[[#This Row],[P2 + P5]]*VLOOKUP(MONTH(Tabla13[[#This Row],[Fecha final]]),Tabla20[#All],3,FALSE) -> 7485 | J13: =(Tabla13[[#This Row],[P3 + P6]])*VLOOKUP(MONTH(Tabla13[[#This Row],[Fecha final]]),Tabla20[#All],4,FALSE) -> 902.398 | K13: =Tabla13[[#This Row],[P1 + P4]]*VLOOKUP(MONTH(Tabla13[[#This Row],[Fecha final]]),Tabla20[#All],5,FALSE) -> 0 | L13: =Tabla13[[#This Row],[P2 + P5]]*VLOOKUP(MONTH(Tabla13[[#This Row],[Fecha final]]),Tabla20[#All],6,FALSE) -> 0 | M13: =Tabla13[[#This Row],[P3 + P6]]*VLOOKUP(MONTH(Tabla13[[#This Row],[Fecha final]]),Tabla20[#All],7,FALSE) -> 2107.602 | N13: =YEAR(Tabla13[[#This Row],[Fecha final]]) -> 2021
A14: 44286 | B14: 28-04-2021 | C14: 28 | D14: REAL | E14: 2593 | F14: 5623 | G14: 2438 | H14: =Tabla13[[#This Row],[P1 + P4]]*VLOOKUP(MONTH(Tabla13[[#This Row],[Fecha final]]),Tabla20[#All],2,FALSE) -> 0 | I14: =Tabla13[[#This Row],[P2 + P5]]*VLOOKUP(MONTH(Tabla13[[#This Row],[Fecha final]]),Tabla20[#All],3,FALSE) -> 0 | J14: =(Tabla13[[#This Row],[P3 + P6]])*VLOOKUP(MONTH(Tabla13[[#This Row],[Fecha final]]),Tabla20[#All],4,FALSE) -> 0 | K14: =Tabla13[[#This Row],[P1 + P4]]*VLOOKUP(MONTH(Tabla13[[#This Row],[Fecha final]]),Tabla20[#All],5,FALSE) -> 2593 | L14: =Tabla13[[#This Row],[P2 + P5]]*VLOOKUP(MONTH(Tabla13[[#This Row],[Fecha final]]),Tabla20[#All],6,FALSE) -> 5623 | M14: =Tabla13[[#This Row],[P3 + P6]]*VLOOKUP(MONTH(Tabla13[[#This Row],[Fecha final]]),Tabla20[#All],7,FALSE) -> 2438 | N14: =YEAR(Tabla13[[#This Row],[Fecha final]]) -> 2021
A15: 44314 | B15: 30-04-2021 | C15: 2 | D15: REAL | E15: 241 | F15: 471 | G15: 202 | H15: =Tabla13[[#This Row],[P1 + P4]]*VLOOKUP(MONTH(Tabla13[[#This Row],[Fecha final]]),Tabla20[#All],2,FALSE) -> 0 | I15: =Tabla13[[#This Row],[P2 + P5]]*VLOOKUP(MONTH(Tabla13[[#This Row],[Fecha final]]),Tabla20[#All],3,FALSE) -> 0 | J15: =(Tabla13[[#This Row],[P3 + P6]])*VLOOKUP(MONTH(Tabla13[[#This Row],[Fecha final]]),Tabla20[#All],4,FALSE) -> 0 | K15: =Tabla13[[#This Row],[P1 + P4]]*VLOOKUP(MONTH(Tabla13[[#This Row],[Fecha final]]),Tabla20[#All],5,FALSE) -> 241 | L15: =Tabla13[[#This Row],[P2 + P5]]*VLOOKUP(MONTH(Tabla13[[#This Row],[Fecha final]]),Tabla20[#All],6,FALSE) -> 471 | M15: =Tabla13[[#This Row],[P3 + P6]]*VLOOKUP(MONTH(Tabla13[[#This Row],[Fecha final]]),Tabla20[#All],7,FALSE) -> 202 | N15: =YEAR(Tabla13[[#This Row],[Fecha final]]) -> 2021
A16: 44316 | B16: 31-05-2021 | C16: 31 | D16: REAL | E16: 2977 | F16: 6225 | G16: 2644 | H16: =Tabla13[[#This Row],[P1 + P4]]*VLOOKUP(MONTH(Tabla13[[#This Row],[Fecha final]]),Tabla20[#All],2,FALSE) -> 0 | I16: =Tabla13[[#This Row],[P2 + P5]]*VLOOKUP(MONTH(Tabla13[[#This Row],[Fecha final]]),Tabla20[#All],3,FALSE) -> 0 | J16: =(Tabla13[[#This Row],[P3 + P6]])*VLOOKUP(MONTH(Tabla13[[#This Row],[Fecha final]]),Tabla20[#All],4,FALSE) -> 0 | K16: =Tabla13[[#This Row],[P1 + P4]]*VLOOKUP(MONTH(Tabla13[[#This Row],[Fecha final]]),Tabla20[#All],5,FALSE) -> 2977 | L16: =Tabla13[[#This Row],[P2 + P5]]*VLOOKUP(MONTH(Tabla13[[#This Row],[Fecha final]]),Tabla20[#All],6,FALSE) -> 6225 | M16: =Tabla13[[#This Row],[P3 + P6]]*VLOOKUP(MONTH(Tabla13[[#This Row],[Fecha final]]),Tabla20[#All],7,FALSE) -> 2644 | N16: =YEAR(Tabla13[[#This Row],[Fecha final]]) -> 2021
A17: 44347 | B17: 30-06-2021 | C17: 30 | D17: REAL | E17: 3702 | F17: 0 | G17: 9249 | H17: =Tabla13[[#This Row],[P1 + P4]]*VLOOKUP(MONTH(Tabla13[[#This Row],[Fecha final]]),Tabla20[#All],2,FALSE) -> 0 | I17: =Tabla13[[#This Row],[P2 + P5]]*VLOOKUP(MONTH(Tabla13[[#This Row],[Fecha final]]),Tabla20[#All],3,FALSE) -> 0 | J17: =(Tabla13[[#This Row],[P3 + P6]])*VLOOKUP(MONTH(Tabla13[[#This Row],[Fecha final]]),Tabla20[#All],4,FALSE) -> 3235.3002 | K17: =Tabla13[[#This Row],[P1 + P4]]*VLOOKUP(MONTH(Tabla13[[#This Row],[Fecha final]]),Tabla20[#All],5,FALSE) -> 3702 | L17: =Tabla13[[#This Row],[P2 + P5]]*VLOOKUP(MONTH(Tabla13[[#This Row],[Fecha final]]),Tabla20[#All],6,FALSE) -> 0 | M17: =Tabla13[[#This Row],[P3 + P6]]*VLOOKUP(MONTH(Tabla13[[#This Row],[Fecha final]]),Tabla20[#All],7,FALSE) -> 6013.6998 | N17: =YEAR(Tabla13[[#This Row],[Fecha final]]) -> 2021
A18: 44377 | B18: 31-07-2021 | C18: 31 | D18: REAL | E18: 5646 | F18: 3817 | G18: 4230 | H18: =Tabla13[[#This Row],[P1 + P4]]*VLOOKUP(MONTH(Tabla13[[#This Row],[Fecha final]]),Tabla20[#All],2,FALSE) -> 5646 | I18: =Tabla13[[#This Row],[P2 + P5]]*VLOOKUP(MONTH(Tabla13[[#This Row],[Fecha final]]),Tabla20[#All],3,FALSE) -> 3817 | J18: =(Tabla13[[#This Row],[P3 + P6]])*VLOOKUP(MONTH(Tabla13[[#This Row],[Fecha final]]),Tabla20[#All],4,FALSE) -> 0 | K18: =Tabla13[[#This Row],[P1 + P4]]*VLOOKUP(MONTH(Tabla13[[#This Row],[Fecha final]]),Tabla20[#All],5,FALSE) -> 0 | L18: =Tabla13[[#This Row],[P2 + P5]]*VLOOKUP(MONTH(Tabla13[[#This Row],[Fecha final]]),Tabla20[#All],6,FALSE) -> 0 | M18: =Tabla13[[#This Row],[P3 + P6]]*VLOOKUP(MONTH(Tabla13[[#This Row],[Fecha final]]),Tabla20[#All],7,FALSE) -> 4230 | N18: =YEAR(Tabla13[[#This Row],[Fecha final]]) -> 2021
... A41: 44985 | B41: 31-03-2023 | C41: 31 | D41: REAL | E41: 0 | F41: 4964 | G41: 7669 | H41: =Tabla13[[#This Row],[P1 + P4]]*VLOOKUP(MONTH(Tabla13[[#This Row],[Fecha final]]),Tabla20[#All],2,FALSE) -> 0 | I41: =Tabla13[[#This Row],[P2 + P5]]*VLOOKUP(MONTH(Tabla13[[#This Row],[Fecha final]]),Tabla20[#All],3,FALSE) -> 4964 | J41: =(Tabla13[[#This Row],[P3 + P6]])*VLOOKUP(MONTH(Tabla13[[#This Row],[Fecha final]]),Tabla20[#All],4,FALSE) -> 2299.1662 | K41: =Tabla13[[#This Row],[P1 + P4]]*VLOOKUP(MONTH(Tabla13[[#This Row],[Fecha final]]),Tabla20[#All],5,FALSE) -> 0 | L41: =Tabla13[[#This Row],[P2 + P5]]*VLOOKUP(MONTH(Tabla13[[#This Row],[Fecha final]]),Tabla20[#All],6,FALSE) -> 0 | M41: =Tabla13[[#This Row],[P3 + P6]]*VLOOKUP(MONTH(Tabla13[[#This Row],[Fecha final]]),Tabla20[#All],7,FALSE) -> 5369.8338 | N41: =YEAR(Tabla13[[#This Row],[Fecha final]]) -> 2023
E42: =SUBTOTAL(109,Tabla13[P1 + P4]) -> 106027 | F42: =SUBTOTAL(109,Tabla13[P2 + P5]) -> 137709 | G42: =SUBTOTAL(109,Tabla13[P3 + P6]) -> 210235 | H42: =SUBTOTAL(109,Tabla13[P1]) -> 50136 | I42: =SUBTOTAL(109,Tabla13[P2]) -> 98723 | J42: =SUBTOTAL(109,Tabla13[P3]) -> 35406.233 | K42: =SUBTOTAL(109,Tabla13[P4]) -> 52593 | L42: =SUBTOTAL(109,Tabla13[P5]) -> 31921 | M42: =SUBTOTAL(109,Tabla13[P6]) -> 174828.77
A44: CONSUMO REACTIVA
A46: Fecha inicial | B46: Fecha final | C46: Días | D46: Tipo | E46: P1 + P4 | F46: P2 + P5 | G46: P3 + P6
A47: 28-02-2023 | B47: 31-03-2023 | C47: 31 | D47: REAL | E47: 0 | F47: 0 | G47: 0
A48: 31-01-2023 | B48: 28-02-2023 | C48: 28 | D48: REAL | E48: 0 | F48: 0 | G48: 0
A49: 31-12-2022 | B49: 31-01-2023 | C49: 31 | D49: REAL | E49: 0 | F49: 0 | G49: 0
A50: 30-11-2022 | B50: 31-12-2022 | C50: 31 | D50: REAL | E50: 0 | F50: 0 | G50: 0
A51: 31-10-2022 | B51: 30-11-2022 | C51: 30 | D51: REAL | E51: 0 | F51: 0 | G51: 0
A52: 30-09-2022 | B52: 31-10-2022 | C52: 31 | D52: REAL | E52: 0 | F52: 0 | G52: 0
A53: 31-08-2022 | B53: 30-09-2022 | C53: 30 | D53: REAL | E53: 0 | F53: 0 | G53: 0
A54: 31-07-2022 | B54: 31-08-2022 | C54: 31 | D54: REAL | E54: 12 | F54: 0 | G54: 0
A55: 30-06-2022 | B55: 31-07-2022 | C55: 31 | D55: REAL | E55: 0 | F55: 0 | G55: 0
A56: 31-05-2022 | B56: 30-06-2022 | C56: 30 | D56: REAL | E56: 0 | F56: 0 | G56: 0
A57: 30-04-2022 | B57: 31-05-2022 | C57: 31 | D57: REAL | E57: 0 | F57: 0 | G57: 0
A58: 08-04-2022 | B58: 30-04-2022 | C58: 22 | D58: REAL | E58: 0 | F58: 0 | G58: 0
... A81: 31-08-2020 | B81: 30-09-2020 | C81: 30 | D81: REAL | E81: 554 | F81: 1174 | G81: 367
A84: MAXÍMETRO
A86: POTENCIAS CONTRATADAS | B86: P1 | C86: P2 | D86: P3
A87: Potencias Contratadas (kW) | B87: 125 | C87: 125 | D87: 125
A88: Fecha inicial | B88: Fecha final | C88: Días | D88: Tipo | E88: P1 | F88: P2 | G88: P3
A89: 28-02-2023 | B89: 31-03-2023 | C89: 31 | D89: REAL | E89: 0 | F89: 44 | G89: 44
A90: 31-01-2023 | B90: 28-02-2023 | C90: 28 | D90: REAL | E90: 48 | F90: 48 | G90: 44
...

Sheet 9001VQ
A1: CONSUMO ACTIVA
A3: CONSUMO ANUAL: 150191kWh | B3: P1 + P4 | C3: P2 + P5 | D3: P3 + P6
A4: Consumo anual por periodos en kWh | B4: 45353 | C4: 27212 | D4: 77626
A5: Consumo anual por periodos en % | B5: 30 | C5: 18 | D5: 51
A6: Fecha inicial | B6: Fecha final | C6: Días | D6: Tipo | E6: P1 + P4 | F6: P2 + P5 | G6: P3 + P6 | H6: P1 | I6: P2 | J6: P3 | K6: P4 | L6: P5 | M6: P6 | N6: año
A7: 44012 | B7: 31-07-2020 | C7: 31 | D7: REAL | E7: 5588 | F7: 12027 | G7: 5091 | H7: =Tabla3[[#This Row],[P1 + P4]]*VLOOKUP(MONTH(Tabla3[[#This Row],[Fecha final]]),Tabla20[#All],2,FALSE) -> 5588 | I7: =Tabla3[[#This Row],[P2 + P5]]*VLOOKUP(MONTH(Tabla3[[#This Row],[Fecha final]]),Tabla20[#All],3,FALSE) -> 12027 | J7: =(Tabla3[[#This Row],[P3 + P6]])*VLOOKUP(MONTH(Tabla3[[#This Row],[Fecha final]]),Tabla20[#All],4,FALSE) -> 0 | K7: =Tabla3[[#This Row],[P1 + P4]]*VLOOKUP(MONTH(Tabla3[[#This Row],[Fecha final]]),Tabla20[#All],5,FALSE) -> 0 | L7: =Tabla3[[#This Row],[P2 + P5]]*VLOOKUP(MONTH(Tabla3[[#This Row],[Fecha final]]),Tabla20[#All],6,FALSE) -> 0 | M7: =Tabla3[[#This Row],[P3 + P6]]*VLOOKUP(MONTH(Tabla3[[#This Row],[Fecha final]]),Tabla20[#All],7,FALSE) -> 5091 | N7: =YEAR(Tabla3[[#This Row],[Fecha final]]) -> 2020
A8: 44043 | B8: 31-08-2020 | C8: 31 | D8: REAL | E8: 5215 | F8: 11401 | G8: 5089 | H8: =Tabla3[[#This Row],[P1 + P4]]*VLOOKUP(MONTH(Tabla3[[#This Row],[Fecha final]]),Tabla20[#All],2,FALSE) -> 0 | I8: =Tabla3[[#This Row],[P2 + P5]]*VLOOKUP(MONTH(Tabla3[[#This Row],[Fecha final]]),Tabla20[#All],3,FALSE) -> 0 | J8: =(Tabla3[[#This Row],[P3 + P6]])*VLOOKUP(MONTH(Tabla3[[#This Row],[Fecha final]]),Tabla20[#All],4,FALSE) -> 1707.8684 | K8: =Tabla3[[#This Row],[P1 + P4]]*VLOOKUP(MONTH(Tabla3[[#This Row],[Fecha final]]),Tabla20[#All],5,FALSE) -> 5215 | L8: =Tabla3[[#This Row],[P2 + P5]]*VLOOKUP(MONTH(Tabla3[[#This Row],[Fecha final]]),Tabla20[#All],6,FALSE) -> 0 | M8: =Tabla3[[#This Row],[P3 + P6]]*VLOOKUP(MONTH(Tabla3[[#This Row],[Fecha final]]),Tabla20[#All],7,FALSE) -> 3381.1316 | N8: =YEAR(Tabla3[[#This Row],[Fecha final]]) -> 2020
A9: 44074 | B9: 30-09-2020 | C9: 30 | D9: REAL | E9: 3478 | F9: 7880 | G9: 3581 | H9: =Tabla3[[#This Row],[P1 + P4]]*VLOOKUP(MONTH(Tabla3[[#This Row],[Fecha final]]),Tabla20[#All],2,FALSE) -> 0 | I9: =Tabla3[[#This Row],[P2 + P5]]*VLOOKUP(MONTH(Tabla3[[#This Row],[Fecha final]]),Tabla20[#All],3,FALSE) -> 0 | J9: =(Tabla3[[#This Row],[P3 + P6]])*VLOOKUP(MONTH(Tabla3[[#This Row],[Fecha final]]),Tabla20[#All],4,FALSE) -> 1252.6338 | K9: =Tabla3[[#This Row],[P1 + P4]]*VLOOKUP(MONTH(Tabla3[[#This Row],[Fecha final]]),Tabla20[#All],5,FALSE) -> 3478 | L9: =Tabla3[[#This Row],[P2 + P5]]*VLOOKUP(MONTH(Tabla3[[#This Row],[Fecha final]]),Tabla20[#All],6,FALSE) -> 0 | M9: =Tabla3[[#This Row],[P3 + P6]]*VLOOKUP(MONTH(Tabla3[[#This Row],[Fecha final]]),Tabla20[#All],7,FALSE) -> 2328.3662 | N9: =YEAR(Tabla3[[#This Row],[Fecha final]]) -> 2020
A10: 44104 | B10: 31-10-2020 | C10: 31 | D10: REAL | E10: 1808 | F10: 4656 | G10: 2734 | H10: =Tabla3[[#This Row],[P1 + P4]]*VLOOKUP(MONTH(Tabla3[[#This Row],[Fecha final]]),Tabla20[#All],2,FALSE) -> 0 | I10: =Tabla3[[#This Row],[P2 + P5]]*VLOOKUP(MONTH(Tabla3[[#This Row],[Fecha final]]),Tabla20[#All],3,FALSE) -> 0 | J10: =(Tabla3[[#This Row],[P3 + P6]])*VLOOKUP(MONTH(Tabla3[[#This Row],[Fecha final]]),Tabla20[#All],4,FALSE) -> 0 | K10: =Tabla3[[#This Row],[P1 + P4]]*VLOOKUP(MONTH(Tabla3[[#This Row],[Fecha final]]),Tabla20[#All],5,FALSE) -> 1808 | L10: =Tabla3[[#This Row],[P2 + P5]]*VLOOKUP(MONTH(Tabla3[[#This Row],[Fecha final]]),Tabla20[#All],6,FALSE) -> 4656 | M10: =Tabla3[[#This Row],[P3 + P6]]*VLOOKUP(MONTH(Tabla3[[#This Row],[Fecha final]]),Tabla20[#All],7,FALSE) -> 2734 | N10: =YEAR(Tabla3[[#This Row],[Fecha final]]) -> 2020
A11: 44135 | B11: 30-11-2020 | C11: 30 | D11: REAL | E11: 1552 | F11: 5922 | G11: 3169 | H11: =Tabla3[[#This Row],[P1 + P4]]*VLOOKUP(MONTH(Tabla3[[#This Row],[Fecha final]]),Tabla20[#All],2,FALSE) -> 0 | I11: =Tabla3[[#This Row],[P2 + P5]]*VLOOKUP(MONTH(Tabla3[[#This Row],[Fecha final]]),Tabla20[#All],3,FALSE) -> 5922 | J11: =(Tabla3[[#This Row],[P3 + P6]])*VLOOKUP(MONTH(Tabla3[[#This Row],[Fecha final]]),Tabla20[#All],4,FALSE) -> 877.1792 | K11: =Tabla3[[#This Row],[P1 + P4]]*VLOOKUP(MONTH(Tabla3[[#This Row],[Fecha final]]),Tabla20[#All],5,FALSE) -> 0 | L11: =Tabla3[[#This Row],[P2 + P5]]*VLOOKUP(MONTH(Tabla3[[#This Row],[Fecha final]]),Tabla20[#All],6,FALSE) -> 0 | M11: =Tabla3[[#This Row],[P3 + P6]]*VLOOKUP(MONTH(Tabla3[[#This Row],[Fecha final]]),Tabla20[#All],7,FALSE) -> 2291.8208 | N11: =YEAR(Tabla3[[#This Row],[Fecha final]]) -> 2020
A12: 44165 | B12: 31-12-2020 | C12: 31 | D12: REAL | E12: 1940 | F12: 8469 | G12: 4081 | H12: =Tabla3[[#This Row],[P1 + P4]]*VLOOKUP(MONTH(Tabla3[[#This Row],[Fecha final]]),Tabla20[#All],2,FALSE) -> 1940 | I12: =Tabla3[[#This Row],[P2 + P5]]*VLOOKUP(MONTH(Tabla3[[#This Row],[Fecha final]]),Tabla20[#All],3,FALSE) -> 8469 | J12: =(Tabla3[[#This Row],[P3 + P6]])*VLOOKUP(MONTH(Tabla3[[#This Row],[Fecha final]]),Tabla20[#All],4,FALSE) -> 0 | K12: =Tabla3[[#This Row],[P1 + P4]]*VLOOKUP(MONTH(Tabla3[[#This Row],[Fecha final]]),Tabla20[#All],5,FALSE) -> 0 | L12: =Tabla3[[#This Row],[P2 + P5]]*VLOOKUP(MONTH(Tabla3[[#This Row],[Fecha final]]),Tabla20[#All],6,FALSE) -> 0 | M12: =Tabla3[[#This Row],[P3 + P6]]*VLOOKUP(MONTH(Tabla3[[#This Row],[Fecha final]]),Tabla20[#All],7,FALSE) -> 4081 | N12: =YEAR(Tabla3[[#This Row],[Fecha final]]) -> 2020
A13: 44196 | B13: 31-01-2021 | C13: 31 | D13: REAL | E13: 2266 | F13: 9888 | G13: 4641 | H13: =Tabla3[[#This Row],[P1 + P4]]*VLOOKUP(MONTH(Tabla3[[#This Row],[Fecha final]]),Tabla20[#All],2,FALSE) -> 2266 | I13: =Tabla3[[#This Row],[P2 + P5]]*VLOOKUP(MONTH(Tabla3[[#This Row],[Fecha final]]),Tabla20[#All],3,FALSE) -> 9888 | J13: =(Tabla3[[#This Row],[P3 + P6]])*VLOOKUP(MONTH(Tabla3[[#This Row],[Fecha final]]),Tabla20[#All],4,FALSE) -> 0 | K13: =Tabla3[[#This Row],[P1 + P4]]*VLOOKUP(MONTH(Tabla3[[#This Row],[Fecha final]]),Tabla20[#All],5,FALSE) -> 0 | L13: =Tabla3[[#This Row],[P2 + P5]]*VLOOKUP(MONTH(Tabla3[[#This Row],[Fecha final]]),Tabla20[#All],6,FALSE) -> 0 | M13: =Tabla3[[#This Row],[P3 + P6]]*VLOOKUP(MONTH(Tabla3[[#This Row],[Fecha final]]),Tabla20[#All],7,FALSE) -> 4641 | N13: =YEAR(Tabla3[[#This Row],[Fecha final]]) -> 2021
A14: 44227 | B14: 28-02-2021 | C14: 28 | D14: REAL | E14: 1680 | F14: 6887 | G14: 3335 | H14: =Tabla3[[#This Row],[P1 + P4]]*VLOOKUP(MONTH(Tabla3[[#This Row],[Fecha final]]),Tabla20[#All],2,FALSE) -> 1680 | I14: =Tabla3[[#This Row],[P2 + P5]]*VLOOKUP(MONTH(Tabla3[[#This Row],[Fecha final]]),Tabla20[#All],3,FALSE) -> 6887 | J14: =(Tabla3[[#This Row],[P3 + P6]])*VLOOKUP(MONTH(Tabla3[[#This Row],[Fecha final]]),Tabla20[#All],4,FALSE) -> 0 | K14: =Tabla3[[#This Row],[P1 + P4]]*VLOOKUP(MONTH(Tabla3[[#This Row],[Fecha final]]),Tabla20[#All],5,FALSE) -> 0 | L14: =Tabla3[[#This Row],[P2 + P5]]*VLOOKUP(MONTH(Tabla3[[#This Row],[Fecha final]]),Tabla20[#All],6,FALSE) -> 0 | M14: =Tabla3[[#This Row],[P3 + P6]]*VLOOKUP(MONTH(Tabla3[[#This Row],[Fecha final]]),Tabla20[#All],7,FALSE) -> 3335 | N14: =YEAR(Tabla3[[#This Row],[Fecha final]]) -> 2021
A15: 44255 | B15: 31-03-2021 | C15: 31 | D15: REAL | E15: 1838 | F15: 6718 | G15: 3527 | H15: =Tabla3[[#This Row],[P1 + P4]]*VLOOKUP(MONTH(Tabla3[[#This Row],[Fecha final]]),Tabla20[#All],2,FALSE) -> 0 | I15: =Tabla3[[#This Row],[P2 + P5]]*VLOOKUP(MONTH(Tabla3[[#This Row],[Fecha final]]),Tabla20[#All],3,FALSE) -> 6718 | J15: =(Tabla3[[#This Row],[P3 + P6]])*VLOOKUP(MONTH(Tabla3[[#This Row],[Fecha final]]),Tabla20[#All],4,FALSE) -> 1057.3946 | K15: =Tabla3[[#This Row],[P1 + P4]]*VLOOKUP(MONTH(Tabla3[[#This Row],[Fecha final]]),Tabla20[#All],5,FALSE) -> 0 | L15: =Tabla3[[#This Row],[P2 + P5]]*VLOOKUP(MONTH(Tabla3[[#This Row],[Fecha final]]),Tabla20[#All],6,FALSE) -> 0 | M15: =Tabla3[[#This Row],[P3 + P6]]*VLOOKUP(MONTH(Tabla3[[#This Row],[Fecha final]]),Tabla20[#All],7,FALSE) -> 2469.6054 | N15: =YEAR(Tabla3[[#This Row],[Fecha final]]) -> 2021
A16: 44286 | B16: 28-04-2021 | C16: 28 | D16: REAL | E16: 1948 | F16: 4865 | G16: 2790 | H16: =Tabla3[[#This Row],[P1 + P4]]*VLOOKUP(MONTH(Tabla3[[#This Row],[Fecha final]]),Tabla20[#All],2,FALSE) -> 0 | I16: =Tabla3[[#This Row],[P2 + P5]]*VLOOKUP(MONTH(Tabla3[[#This Row],[Fecha final]]),Tabla20[#All],3,FALSE) -> 0 | J16: =(Tabla3[[#This Row],[P3 + P6]])*VLOOKUP(MONTH(Tabla3[[#This Row],[Fecha final]]),Tabla20[#All],4,FALSE) -> 0 | K16: =Tabla3[[#This Row],[P1 + P4]]*VLOOKUP(MONTH(Tabla3[[#This Row],[Fecha final]]),Tabla20[#All],5,FALSE) -> 1948 | L16: =Tabla3[[#This Row],[P2 + P5]]*VLOOKUP(MONTH(Tabla3[[#This Row],[Fecha final]]),Tabla20[#All],6,FALSE) -> 4865 | M16: =Tabla3[[#This Row],[P3 + P6]]*VLOOKUP(MONTH(Tabla3[[#This Row],[Fecha final]]),Tabla20[#All],7,FALSE) -> 2790 | N16: =YEAR(Tabla3[[#This Row],[Fecha final]]) -> 2021
A17: 44314 | B17: 30-04-2021 | C17: 2 | D17: REAL | E17: 125 | F17: 313 | G17: 164 | H17: =Tabla3[[#This Row],[P1 + P4]]*VLOOKUP(MONTH(Tabla3[[#This Row],[Fecha final]]),Tabla20[#All],2,FALSE) -> 0 | I17: =Tabla3[[#This Row],[P2 + P5]]*VLOOKUP(MONTH(Tabla3[[#This Row],[Fecha final]]),Tabla20[#All],3,FALSE) -> 0 | J17: =(Tabla3[[#This Row],[P3 + P6]])*VLOOKUP(MONTH(Tabla3[[#This Row],[Fecha final]]),Tabla20[#All],4,FALSE) -> 0 | K17: =Tabla3[[#This Row],[P1 + P4]]*VLOOKUP(MONTH(Tabla3[[#This Row],[Fecha final]]),Tabla20[#All],5,FALSE) -> 125 | L17: =Tabla3[[#This Row],[P2 + P5]]*VLOOKUP(MONTH(Tabla3[[#This Row],[Fecha final]]),Tabla20[#All],6,FALSE) -> 313 | M17: =Tabla3[[#This Row],[P3 + P6]]*VLOOKUP(MONTH(Tabla3[[#This Row],[Fecha final]]),Tabla20[#All],7,FALSE) -> 164 | N17: =YEAR(Tabla3[[#This Row],[Fecha final]]) -> 2021
A18: 44316 | B18: 31-05-2021 | C18: 31 | D18: REAL | E18: 1420 | F18: 3706 | G18: 2089 | H18: =Tabla3[[#This Row],[P1 + P4]]*VLOOKUP(MONTH(Tabla3[[#This Row],[Fecha final]]),Tabla20[#All],2,FALSE) -> 0 | I18: =Tabla3[[#This Row],[P2 + P5]]*VLOOKUP(MONTH(Tabla3[[#This Row],[Fecha final]]),Tabla20[#All],3,FALSE) -> 0 | J18: =(Tabla3[[#This Row],[P3 + P6]])*VLOOKUP(MONTH(Tabla3[[#This Row],[Fecha final]]),Tabla20[#All],4,FALSE) -> 0 | K18: =Tabla3[[#This Row],[P1 + P4]]*VLOOKUP(MONTH(Tabla3[[#This Row],[Fecha final]]),Tabla20[#All],5,FALSE) -> 1420 | L18: =Tabla3[[#This Row],[P2 + P5]]*VLOOKUP(MONTH(Tabla3[[#This Row],[Fecha final]]),Tabla20[#All],6,FALSE) -> 3706 | M18: =Tabla3[[#This Row],[P3 + P6]]*VLOOKUP(MONTH(Tabla3[[#This Row],[Fecha final]]),Tabla20[#All],7,FALSE) -> 2089 | N18: =YEAR(Tabla3[[#This Row],[Fecha final]]) -> 2021
... A41: 44985 | B41: 31-03-2023 | C41: 31 | D41: REAL | E41: 0 | F41: 3163 | G41: 5547 | H41: =Tabla3[[#This Row],[P1 + P4]]*VLOOKUP(MONTH(Tabla3[[#This Row],[Fecha final]]),Tabla20[#All],2,FALSE) -> 0 | I41: =Tabla3[[#This Row],[P2 + P5]]*VLOOKUP(MONTH(Tabla3[[#This Row],[Fecha final]]),Tabla20[#All],3,FALSE) -> 3163 | J41: =(Tabla3[[#This Row],[P3 + P6]])*VLOOKUP(MONTH(Tabla3[[#This Row],[Fecha final]]),Tabla20[#All],4,FALSE) -> 1662.9906 | K41: =Tabla3[[#This Row],[P1 + P4]]*VLOOKUP(MONTH(Tabla3[[#This Row],[Fecha final]]),Tabla20[#All],5,FALSE) -> 0 | L41: =Tabla3[[#This Row],[P2 + P5]]*VLOOKUP(MONTH(Tabla3[[#This Row],[Fecha final]]),Tabla20[#All],6,FALSE) -> 0 | M41: =Tabla3[[#This Row],[P3 + P6]]*VLOOKUP(MONTH(Tabla3[[#This Row],[Fecha final]]),Tabla20[#All],7,FALSE) -> 3884.0094 | N41: =YEAR(Tabla3[[#This Row],[Fecha final]]) -> 2023
E42: =SUBTOTAL(109,Tabla3[P1 + P4]) -> 113077 | F42: =SUBTOTAL(109,Tabla3[P2 + P5]) -> 135571 | G42: =SUBTOTAL(109,Tabla3[P3 + P6]) -> 189274 | H42: =SUBTOTAL(109,Tabla3[P1]) -> 54252 | I42: =SUBTOTAL(109,Tabla3[P2]) -> 93623 | J42: =SUBTOTAL(109,Tabla3[P3]) -> 36403.867 | K42: =SUBTOTAL(109,Tabla3[P4]) -> 55435 | L42: =SUBTOTAL(109,Tabla3[P5]) -> 22667 | M42: =SUBTOTAL(109,Tabla3[P6]) -> 152870.13
A44: CONSUMO REACTIVA
