Workbook

Sheet GONDOLA
A7: DESCRIPCION | B7: EQUIPO | C7: REVISIONES ANUALES | D7: IMPORTE ANUAL | E7: IMPORTE CONCURSO
A8: MANTENIMINETO PREVENTIVO / NORMATIVO | B8: GONDOLA - A10 | C8: 4 | E8: =D8*4 -> 0
A9: REVISION ANUAL POR OCA | B9: GONDOLA - A10 | C9: 1 | E9: =D9*4 -> 0
A14: IMPORTE FIJO MANTENIMINETO CORRECTICO | B14: GONDOLA - A10 | C14: 1 | D14: 5000 | E14: =D14*4 -> 20000
B16: TOTAL | D16: =SUM(D8:D15) -> 5000 | E16: =D16*4 -> 20000
A17: 0.21 | B17: I.V.A. | D17: =D16*A17 -> 1050 | E17: =E16*A17 -> 4200
B18: IMPORTE TOTAL | D18: =D16+D17 -> 6050 | E18: =E16+E17 -> 24200

Sheet LIMPIEZA
A7: DESCRIPCION | B7: EQUIPO | C7: SERVICIOS ANUALES | D7: IMPORTE ANUAL | E7: IMPORTE CONTRATO
A8: LIMPIEZADA FACHADAS CON | B8: GONDOLA - A10 | C8: 4 | E8: =D8*4 -> 0
B16: TOTAL | D16: =SUM(D8:D15) -> 0 | E16: =D16*4 -> 0
A17: 0.21 | B17: I.V.A. | D17: =D16*A17 -> 0 | E17: =D17*4 -> 0
B18: IMPORTE TOTAL | D18: =D16+D17 -> 0 | E18: =D18*4 -> 0

Sheet LINEAS VIDA
A7: DESCRIPCION | B7: EQUIPO | C7: REVISIONES ANUALES | D7: LINEAS DE VIDA / ANCLAJE | E7: IMPORTE ANUAL | F7: IMPORTE ANUAL TOTAL | G7: IMPORTE CONCURSO
A8: MANTENIMIENTO / REVISION LINEAS DE VIDA | B8: SEDE CORPORATIVA | C8: 1 | D8: 5 | F8: =D8*E8 -> 0 | G8: =F8*4 -> 0
A9: MANTENIMIENTO / REVISION LINEAS DE VIDA | B9: L'HOSPITALET | C9: 1 | D9: 2 | F9: =D9*E9 -> 0 | G9: =F9*4 -> 0
A10: MANTENIMIENTO / REVISION PUNTO ANCLAJE | B10: BARCELONA | C10: 1 | D10: 1 | F10: =D10*E10 -> 0 | G10: =F10*4 -> 0
A11: MANTENIMIENTO / REVISION PUNTO ANCLAJE | B11: MANRESA | C11: 1 | D11: 2 | F11: =D11*E11 -> 0 | G11: =F11*4 -> 0
A12: MANTENIMIENTO / REVISION PUNTO ANCLAJE | B12: TARRAGONA | C12: 1 | D12: 4 | F12: =D12*E12 -> 0 | G12: =F12*4 -> 0
A14: MANTENIMINETO CORRECTIVO | C14: 1 | E14: 5000 | F14: 5000 | G14: =F14*4 -> 20000
B16: TOTAL | F16: =SUM(F8:F15) -> 5000 | G16: =F16*4 -> 20000
A17: 0.21 | B17: I.V.A. | F17: =F16*A17 -> 1050 | G17: =F17*4 -> 4200
B18: IMPORTE TOTAL | F18: =F16+F17 -> 6050 | G18: =F18*4 -> 24200

Sheet RESUMEN
A7: DESCRIPCION | C7: IMPORTE ANUAL | D7: IMPORTE CONCURSO
A8: GONDOLA | C8: =GONDOLA!D16 -> 5000 | D8: =GONDOLA!E16 -> 20000
A9: LIMPIEZA FACHADA | C9: =LIMPIEZA!D16 -> 0 | D9: =LIMPIEZA!E16 -> 0
A10: LINEAS DE VIDA | C10: ='LINEAS VIDA'!F16 -> 5000 | D10: ='LINEAS VIDA'!G16 -> 20000
A15: IMPORTE | C15: =SUM(C8:C14) -> 10000 | D15: =SUM(D8:D14) -> 40000
A16: I.V.A. | B16: 0.21 | C16: =C15*$B$16 -> 2100 | D16: =D15*$B$16 -> 8400
A17: IMPORTE TOTAL | C17: =C15+C16 -> 12100 | D17: =D15+D16 -> 48400
A19: RESERVA DE CREDITO | C19: 20000 | D19: =C19*4 -> 80000
A20: DIFERENCIA | C20: =C19-C15 -> 10000 | D20: =D19-D15 -> 40000
